Workbook
Name _1Excel_BuiltIn_Print_Area_1_1_1: 'Прил 3'!$A$1:$C$32
Name _2Excel_BuiltIn_Print_Area_7_1_1: #REF!
Name _2Excel_BuiltIn_Print_Area_7_1_1: #REF!
Name _Toc105952698: 'Прил 4 '!$A$3
Name _Toc105952698: #REF!
Name Excel_BuiltIn_Print_Area_1: 'Прил 3'!$A$1:$C$32
Name Excel_BuiltIn_Print_Area_1_1: 'Прил 3'!$A$1:$C$32
Name Excel_BuiltIn_Print_Area_2: #REF!
Name Excel_BuiltIn_Print_Area_2: #REF!
Name Excel_BuiltIn_Print_Area_3: 'Прил 1'!$A$1:$C$34
Name Excel_BuiltIn_Print_Area_3_1: #REF!
Name Excel_BuiltIn_Print_Area_3_1: #REF!
Name Excel_BuiltIn_Print_Area_4: #REF!
Name Excel_BuiltIn_Print_Area_4: #REF!
Name Excel_BuiltIn_Print_Area_5: 'Прил 4 '!$A$1:$I$55
Name Excel_BuiltIn_Print_Area_5: #REF!
Name Excel_BuiltIn_Print_Area_5_1: 'Прил 4 '!$A$1:$I$55
Name Excel_BuiltIn_Print_Area_5_1: #REF!
Name Excel_BuiltIn_Print_Area_6: 'Прил 5'!$A$1:$G$50
Name Excel_BuiltIn_Print_Area_6_1: 'Прил 5'!$A$1:$G$50
Name Excel_BuiltIn_Print_Area_7: #REF!
Name Excel_BuiltIn_Print_Area_7: #REF!
Name Excel_BuiltIn_Print_Area_7_1: #REF!
Name Excel_BuiltIn_Print_Area_7_1: #REF!

Sheet Прил 1
C1: Приложение 1
C2: к решению сессии Совета депутатов Паевскго сельского поселения "О бюджете Паевского сельского поселения Кадошкинского муниципального района Республики Мордовия на 2021 год и на плановый период 2022 и 2023 годов"
A4: ПЕРЕЧЕНЬ АДМИНИСТРАТОРОВ ДОХОДОВ БЮДЖЕТА ПАЕВСКОГО СЕЛЬСКОГО ПОСЕЛЕНИЯ КАДОШКИНСКОГО МУНИЦИПАЛЬНОГО РАЙОНА РЕСПУБЛИКИ МОРДОВИЯ
A6: Код бюджетной классификации Российской Федерации | C6: Наименование доходов бюджета
A7: админи- стратора доходов | B7: доходов бюджета
A8: 1 | B8: 2 | C8: 3
A10: 918 | B10: Администрация Паевского сельского поселения Кадошкинского муниципального района Республики Мордовия
A12: 918 | B12: 1 08 04020 01 1000 110 | C12: Государственная пошлина за совершение нотариальных действий должностными лицами органов местного самоуправления, уполномоченными в соответствии с законодательными актами Российской Федерации на совершение нотариальных действий
A13: 918 | B13: 1 08 04020 01 4000 110 | C13: Государственная пошлина за совершение нотариальных действий должностными лицами органов местного самоуправления, уполномоченными в соответствии с законодательными актами Российской Федерации на совершение нотариальных действий (прочие поступления)
A14: 918 | B14: 1 11 02033 10 0000 120 | C14: Доходы от размещения временно свободных средств бюджетов сельских поселений
A15: 918 | B15: 1 11 05035 10 0000 120 | C15: Доходы от сдачи в аренду имущества, находящегося в оперативном управлении органов управления сельских поселений и созданных ими учреждений (за исключением имущества муниципальных бюджетных и автономных учреждений)
A16: 918 | B16: 1 11 09045 10 0000 120 | C16: Прочие поступления от использования имущества, находящегося в собственности сельских поселений (за исключением имущества муниципальных бюджетных и автономных учреждений, а также имущества муниципальных унитарных предприятий, в том числе казенных)
A17: 918 | B17: 1 13 01995 10 0000 130 | C17: Прочие доходы от оказания платных услуг (работ) получателями средств бюджетов сельских поселений
A18: 918 | B18: 1 13 02995 10 0000 130 | C18: Прочие доходы от компенсации затрат бюджетов сельских поселений
A19: 918 | B19: 1 14 02052 10 0000 410 | C19: Доходы от реализации имущества, находящегося в оперативном управлении учреждений, находящихся в ведении органов управления сельских поселений (за исключением имущества муниципальных бюджетных и автономных учреждений), в части реализации основных средств по указанному имуществу
A20: 918 | B20: 1 14 02052 10 0000 440 | C20: Доходы от реализации имущества, находящегося в оперативном управлении учреждений, находящихся в ведении органов управления сельских поселений (за исключением имущества муниципальных бюджетных и автономных учреждений), в части реализации материальных запасов по указанному имуществу
A21: 918 | B21: 1 14 02053 10 0000 410 | C21: Доходы от реализации иного имущества, находящегося в собственности сельских поселений (за исключением имущества муниципальных бюджетных и автономных учреждений, а также имущества муниципальных унитарных предприятий, в том числе казенных), в части реализации основных средств по указанному имуществу
A22: 918 | B22: 1 14 02053 10 0000 440 | C22: Доходы от реализации иного имущества, находящегося в собственности сельских поселений (за исключением имущества муниципальных бюджетных и автономных учреждений, а также имущества муниципальных унитарных предприятий, в том числе казенных), в части реализации материальных запасов по указанному имуществу
A23: 918 | B23: 1 14 06025 10 0000 430 | C23: Доходы от продажи земельных участков, находящихся в собственности сельских поселений (за исключением земельных участков муниципальных бюджетных и автономных учреждений)
... A39: 918 | B39: 2 08 05000 10 0000 150 | C39: Перечисления из бюджетов сельских поселений (в бюджеты поселений) для осуществления возврата (зачета) излишне уплаченных или излишне взысканных сумм налогов, сборов и иных платежей, а также сумм процентов за несвоевременное осуществление такого возврата и процентов, начисленных на излишне взысканные суммы

Sheet Прил 2
C1: Приложение 2
C2: к решению сессии Совета депутатов Паевскго сельского поселения "О бюджете Паевского сельского поселения Кадошкинского муниципального района Республики Мордовия на 2021 год и на плановый период 2022 и 2023 годов"
A3: ПЕРЕЧЕНЬ ГЛАВНЫХ АДМИНИСТРАТОРОВ ИСТОЧНИКОВ ФИНАНСИРОВАНИЯ ДЕФИЦИТА БЮДЖЕТА ПАЕВСКОГО СЕЛЬСКОГО ПОСЕЛЕНИЯ КАДОШКИНСКОГО МУНИЦИПАЛЬНОГО РАЙОНА РЕСПУБЛИКИ МОРДОВИЯ
A6: Код бюджетной классификации Российской Федерации | C6: Наименование главного администратора источника финансирования бюджета
A7: админи- стратора | B7: источников внутреннего финансирования дефицита бюджета
A8: 1 | B8: 2 | C8: 3
A9: 918 | C9: Администрация Паевского сельского поселения Кадошкинского муниципального района
A10: 918 | B10: 01 02 00 00 10 0000 710 | C10: Получение кредитов от кредитных организаций бюджетами сельских поселений в валюте Российской Федерации
A11: 918 | B11: 01 03 01 00 10 0000 810 | C11: Погашение бюджетами сельских поселений кредитов из других бюджетов бюджетной системы Российской Федерации в валюте Российской Федерации

Sheet Прил 3
D1: Приложение 3
C2: к решению сессии Совета депутатов Паевскго сельского поселения "О бюджете Паевского сельского поселения Кадошкинского муниципального района Республики Мордовия на 2021 год и на плановый период 2022 и 2023 годов"
A3: ДОХОДЫ БЮДЖЕТА ПАЕВСКОГО СЕЛЬСКОГО ПОСЕЛЕНИЯ КАДОШКИНСКОГО МУНИЦИПАЛЬНОГО РАЙОНА РЕСПУБЛИКИ МОРДОВИЯ
C4: (тыс.рублей)
A5: Код бюджетной классификации доходов бюджета | B5: Наименование доходов | C5: Сумма
C6: 2021 год | D6: 2022 год | E6: 2023 год
A7: 1 | B7: 2 | C7: 3 | D7: 4 | E7: 5
B8: ВСЕГО ДОХОДОВ | C8: =SUM(C9+C22) -> 1584.11 | D8: =SUM(D9+D22) -> 1053.8 | E8: =SUM(E9+E22) -> 1098.2
A9: 00010000000000000000 | B9: НАЛОГОВЫЕ И НЕНАЛОГОВЫЕ ДОХОДЫ | C9: =SUM(C10+C13+C15+C17+C20) -> 556.7 | D9: =SUM(D10+D13+D15+D17+D20) -> 565.6 | E9: =SUM(E10+E13+E15+E17+E20) -> 586
A10: 00010100000000000000 | B10: НАЛОГИ НА ПРИБЫЛЬ, ДОХОДЫ | C10: =SUM(C11) -> 36.5 | D10: =SUM(D11) -> 37.9 | E10: =SUM(E11) -> 39.5
A11: 00010102000010000110 | B11: Налог на доходы физических лиц | C11: =SUM(C12) -> 36.5 | D11: =SUM(D12) -> 37.9 | E11: =SUM(E12) -> 39.5
A12: 18210102010010000110 | B12: Налог на доходы физических лиц с доходов, источником которых является налоговый агент, за исключением доходов, в отношении которых исчисление и уплата налога осуществляются в соответствии со статьями 227, 2271 и 228 Налогового кодекса Российской Федерации | C12: 36.5 | D12: 37.9 | E12: 39.5
A13: 00010500000000000000 | B13: НАЛОГИ НА СОВОКУПНЫЙ ДОХОД | C13: =SUM(C14) -> 9.3 | D13: =SUM(D14) -> 0 | E13: =SUM(E14) -> 0
A14: 18210503010010000110 | B14: Единый сельскохозяйственный налог | C14: 9.3 | D14: 0 | E14: 0
A15: 00010600000000000000 | B15: НАЛОГИ НА ИМУЩЕСТВО | C15: =SUM(C16) -> 76 | D15: =SUM(D16) -> 91 | E15: =SUM(E16) -> 108
A16: 18210601030100000110 | B16: Налог на имущество физических лиц, взимаемый по ставкам, применяемым к объектам налогообложения, расположенным в границах сельских поселений | C16: 76 | D16: 91 | E16: 108
A17: 00010606000000000110 | B17: Земельный налог | C17: =SUM(C18+C19) -> 390 | D17: =SUM(D18+D19) -> 390 | E17: =SUM(E18+E19) -> 390
A18: 18210606033100000110 | B18: Земельный налог с организаций, обладающих земельным участком, расположенным в границах сельских поселений | C18: 110 | D18: 110 | E18: 110
A19: 18210606043100000110 | B19: Земельный налог с физических лиц, обладающих земельным участком, расположенным в границах сельских поселений | C19: 280 | D19: 280 | E19: 280
A20: 00011100000000000000 | B20: ДОХОДЫ ОТ ИСПОЛЬЗОВАНИЯ ИМУЩЕСТВА, НАХОДЯЩЕГОСЯ В ГОСУДАРСТВЕННОЙ И МУНИЦИПАЛЬНОЙ СОБСТВЕННОСТИ | C20: =SUM(C21) -> 44.9 | D20: =SUM(D21) -> 46.7 | E20: =SUM(E21) -> 48.5
A21: 91811105035100000120 | B21: Доходы от сдачи в аренду имущества, находящегося в оперативном управлении органов управления поселений и созданных ими учреждений (за исключением имущества муниципальных бюджетных и автономных учреждений) | C21: 44.9 | D21: 46.7 | E21: 48.5
A22: 00020200000000000000 | B22: БЕЗВОЗМЕЗДНЫЕ ПОСТУПЛЕНИЯ ОТ ДРУГИХ БЮДЖЕТОВ БЮДЖЕТНОЙ СИСТЕМЫ РОССИЙСКОЙ ФЕДЕРАЦИИ | C22: =SUM(C28+C31+C26+C23) -> 1027.41 | D22: =SUM(D28+D31+D26+D23) -> 488.2 | E22: =SUM(E28+E31+E26+E23) -> 512.2
A23: 00020210000000000150 | B23: Дотации бюджетам бюджетной системы Российской Федерации | C23: =C24+C25 -> 306.7 | D23: =D24+D25 -> 4.5 | E23: =E24+E25 -> 13.8
A24: 91820215001100000150 | B24: Дотации бюджетам сельских поселений на выравнивание бюджетной обеспеченности | C24: 0 | D24: 4.5 | E24: 13.8
A25: 91820215002100000150 | B25: Дотации бюджетам сельских поселений на поддержку мер по обеспечению сбалансированности бюджетов | C25: 306.7 | D25: 0 | E25: 0
A26: 00020220000000000150 | B26: Субсидии бюджетам бюджетной системы Российской Федерации (межбюджетные субсидии) | C26: =C27 -> 230 | D26: =D27 -> 0 | E26: =E27 -> 0
A27: 91820229999100000150 | B27: Прочие субсидии бюджетам сельских поселений | C27: 230 | D27: 0 | E27: 0
A28: 00020230000000000150 | B28: Субвенции бюджетам бюджетной системы Российской Федерации | C28: =SUM(C29+C30) -> 86.9 | D28: =SUM(D29+D30) -> 87.5 | E28: =SUM(E29+E30) -> 90.2
A29: 91820230024100000150 | B29: Субвенции на осуществление государственных полномочий Республики Мордовия по определению перечня должностных лиц, уполномоченных составлять протоколы об административных правонарушениях, предусмотренных Законом Республики Мордовия от 15 июня 2015 года № 38-З "Об административной ответственности на территории Республики Мордовия" | C29: 0.1 | D29: 0.1 | E29: 0.1
A30: 91820235118100000150 | B30: Субвенции бюджетам сельских поселений на осуществление первичного воинского учета на территориях, где отсутствуют военные комиссариаты | C30: 86.8 | D30: 87.4 | E30: 90.1
A31: 00020240000000000150 | B31: Иные межбюджетные трансферты | C31: =SUM(C32) -> 403.81 | D31: =SUM(D32) -> 396.2 | E31: =SUM(E32) -> 408.2
A32: 91820240014100000150 | B32: Межбюджетные трансферты, передаваемые бюджетам сельских поселений из бюджетов муниципальных районов на осуществление части полномочий по решению вопросов местного значения в соответствии с заключенными соглашениями | C32: =371.1+0.4+25+7.31 -> 403.81 | D32: =395.8+0.4 -> 396.2 | E32: =407.8+0.4 -> 408.2

Sheet Прил 4 
I1: Приложение 4
G2: к решению сессии Совета депутатов Паевскго сельского поселения "О бюджете Паевского сельского поселения Кадошкинского муниципального района Республики Мордовия на 2021 год и на плановый период 2022 и 2023 годов"
A3: Распределение бюджетных ассигнований бюджета Паевского сельского поселения Кадошкинского муниципального района Республики Мордовия по разделам, подразделам, целевым статьям, группам (группам и подгруппам) видов расходов классификации расходов бюджетов на 2021 год и на плановый период 2022 и 2023 годов
A5: Наименование | B5: Рз | C5: ПР | D5: ЦСР | H5: ВР | I5: Сумма (тыс. рублей)
I6: 2021 год | J6: 2022 год | K6: 2023 год
A7: 1 | B7: 2 | C7: 3 | D7: 4 | E7: 5 | F7: 6 | G7: 7 | H7: 8 | I7: 9 | J7: 10 | K7: 11
A8: ВСЕГО | I8: =I9+I62+I71+I78+I94+I101 -> 1584.11 | J8: =J9+J62+J71+J78+J94+J101+J112 -> 1053.8 | K8: =K9+K62+K71+K78+K94+K101+K112 -> 1098.2
A9: Общегосударственные вопросы | B9: 01 | I9: =I10+I19+I43 -> 898.7 | J9: =J10+J19+J43 -> 492.3 | K9: =K10+K19+K43 -> 519.4
A10: Функционирование высшего должностного лица субъекта Российской Федерации и муниципального образования | B10: 01 | C10: 02 | I10: =I11 -> 323.8 | J10: =J11 -> 134.5 | K10: =K11 -> 134.3
A11: Обеспечение деятельности администрации | B11: 01 | C11: 02 | D11: 65 | I11: =I12 -> 323.8 | J11: =J12 -> 134.5 | K11: =K12 -> 134.3
A12: Высшее должностное лицо | B12: 01 | C12: 02 | D12: 65 | E12: 1 | I12: =I13+I16 -> 323.8 | J12: =J13+J16 -> 134.5 | K12: =K13+K16 -> 134.3
A13: Расходы на выплаты по оплате труда высшего должностного лица | B13: 01 | C13: 02 | D13: 65 | E13: 1 | F13: 00 | G13: 41150 | I13: =I14 -> 233.2 | J13: =J14 -> 134.5 | K13: =K14 -> 134.3
A14: Расходы на выплаты персоналу в целях обеспечения выполнения функций государственными (муниципальными) органами, казенными учреждениями, органами управления государственными внебюджетными фондами | B14: 01 | C14: 02 | D14: 65 | E14: 1 | F14: 00 | G14: 41150 | H14: 100 | I14: =I15 -> 233.2 | J14: =J15 -> 134.5 | K14: =K15 -> 134.3
A15: Расходы на выплаты персоналу государственных (муниципальных) органов | B15: 01 | C15: 02 | D15: 65 | E15: 1 | F15: 00 | G15: 41150 | H15: 120 | I15: ='Прил 5'!J17 -> 233.2 | J15: ='Прил 5'!K17 -> 134.5 | K15: ='Прил 5'!L17 -> 134.3
A16: Субсидии на софинансирование расходных обязательств по финансовому обеспечению деятельности органов местного самоуправления и муниципальных учреждений | B16: 01 | C16: 02 | D16: 65 | E16: 1 | F16: 00 | G16: 44205 | I16: =I17 -> 90.6 | J16: =J17 -> 0 | K16: =K17 -> 0
A17: Расходы на выплаты персоналу в целях обеспечения выполнения функций государственными (муниципальными) органами, казенными учреждениями, органами управления государственными внебюджетными фондами | B17: 01 | C17: 02 | D17: 65 | E17: 1 | F17: 00 | G17: 44205 | H17: 100 | I17: =I18 -> 90.6 | J17: =J18 -> 0 | K17: =K18 -> 0
A18: Расходы на выплаты персоналу государственных (муниципальных) органов | B18: 01 | C18: 02 | D18: 65 | E18: 1 | F18: 00 | G18: 44205 | H18: 120 | I18: ='Прил 5'!J20 -> 90.6 | J18: ='Прил 5'!K20 -> 0 | K18: ='Прил 5'!L20 -> 0
A19: Функционирование Правительства Российской Федерации, высших органов исполнительной власти субъектов Российской Федерации, местных администраций | B19: 01 | C19: 04 | I19: =I20+I38 -> 573.9 | J19: =J20+J38 -> 356.8 | K19: =K20+K38 -> 384.1
A20: Обеспечение деятельности администрации | B20: 01 | C20: 04 | D20: 65 | I20: =I21 -> 573.8 | J20: =J21 -> 356.7 | K20: =K21 -> 384
A21: Непрограммные расходы в рамках обеспечения деятельности администрации | B21: 01 | C21: 04 | D21: 65 | E21: 2 | I21: =I22+I25+I31 -> 573.8 | J21: =J22+J25+J31 -> 356.7 | K21: =K22+K25+K31 -> 384
A22: Расходы на выплаты по оплате труда работников органов местного самоуправления | B22: 01 | C22: 04 | D22: 65 | E22: 2 | F22: 00 | G22: 41110 | I22: =I23 -> 363.3 | J22: =J23 -> 317.6 | K22: =K23 -> 288
A23: Расходы на выплаты персоналу в целях обеспечения выполнения функций государственными (муниципальными) органами, казенными учреждениями, органами управления государственными внебюджетными фондами | B23: 01 | C23: 04 | D23: 65 | E23: 2 | F23: 00 | G23: 41110 | H23: 100 | I23: =I24 -> 363.3 | J23: =J24 -> 317.6 | K23: =K24 -> 288
A24: Расходы на выплаты персоналу государственных (муниципальных) органов | B24: 01 | C24: 04 | D24: 65 | E24: 2 | F24: 00 | G24: 41110 | H24: 120 | I24: ='Прил 5'!J26 -> 363.3 | J24: ='Прил 5'!K26 -> 317.6 | K24: ='Прил 5'!L26 -> 288
A25: Расходы на обеспечение функций органов местного самоуправления | B25: 01 | C25: 04 | D25: 65 | E25: 2 | F25: 00 | G25: 41120 | I25: =I26+I28 -> 71.1 | J25: =J26+J28 -> 39.1 | K25: =K26+K28 -> 96
A26: Закупка товаров, работ и услуг для обеспечения государственных (муниципальных) нужд | B26: 01 | C26: 04 | D26: 65 | E26: 2 | F26: 00 | G26: 41120 | H26: 200 | I26: =I27 -> 63.5 | J26: =J27 -> 13.3 | K26: =K27 -> 70.2
A27: Иные закупки товаров, работ и услуг для обеспечения государственных (муниципальных) нужд | B27: 01 | C27: 04 | D27: 65 | E27: 2 | F27: 00 | G27: 41120 | H27: 240 | I27: ='Прил 5'!J29 -> 63.5 | J27: ='Прил 5'!K29 -> 13.3 | K27: ='Прил 5'!L29 -> 70.2
A28: Иные бюджетные ассигнования | B28: 01 | C28: 04 | D28: 65 | E28: 2 | F28: 00 | G28: 41120 | H28: 800 | I28: =I30+I29 -> 7.6 | J28: =J30+J29 -> 25.8 | K28: =K30+K29 -> 25.8
A29: Исполнение судебных актов | B29: 01 | C29: 04 | D29: 65 | E29: 2 | F29: 00 | G29: 41120 | H29: 830 | I29: ='Прил 5'!J31 -> 2 | J29: ='Прил 5'!K31 -> 0 | K29: ='Прил 5'!L31 -> 0
A30: Уплата налогов, сборов и иных платежей | B30: 01 | C30: 04 | D30: 65 | E30: 2 | F30: 00 | G30: 41120 | H30: 850 | I30: ='Прил 5'!J32 -> 5.6 | J30: ='Прил 5'!K32 -> 25.8 | K30: ='Прил 5'!L32 -> 25.8
A31: Субсидии на софинансирование расходных обязательств по финансовому обеспечению деятельности органов местного самоуправления и муниципальных учреждений | B31: 01 | C31: 04 | D31: 65 | E31: 2 | F31: 00 | G31: 44205 | I31: =I32+I34+I36 -> 139.4 | J31: =J32 -> 0 | K31: =K32 -> 0
A32: Расходы на выплаты персоналу в целях обеспечения выполнения функций государственными (муниципальными) органами, казенными учреждениями, органами управления государственными внебюджетными фондами | B32: 01 | C32: 04 | D32: 65 | E32: 2 | F32: 00 | G32: 44205 | H32: 100 | I32: =I33 -> 93 | J32: =J33 -> 0 | K32: =K33 -> 0
A33: Расходы на выплаты персоналу государственных (муниципальных) органов | B33: 01 | C33: 04 | D33: 65 | E33: 2 | F33: 00 | G33: 44205 | H33: 120 | I33: ='Прил 5'!J35 -> 93 | J33: ='Прил 5'!K35 -> 0 | K33: ='Прил 5'!L35 -> 0
A34: Закупка товаров, работ и услуг для обеспечения государственных (муниципальных) нужд | B34: 01 | C34: 04 | D34: 65 | E34: 2 | F34: 00 | G34: 44205 | H34: 200 | I34: =I35 -> 32.8 | J34: =J35 -> 0 | K34: =K35 -> 0
A35: Иные закупки товаров, работ и услуг для обеспечения государственных (муниципальных) нужд | B35: 01 | C35: 04 | D35: 65 | E35: 2 | F35: 00 | G35: 44205 | H35: 240 | I35: ='Прил 5'!J37 -> 32.8 | J35: 0 | K35: 0
A36: Иные бюджетные ассигнования | B36: 01 | C36: 04 | D36: 65 | E36: 2 | F36: 00 | G36: 44205 | H36: 800 | I36: =I37 -> 13.6 | J36: =J37 -> 0 | K36: =K37 -> 0
A37: Уплата налогов, сборов и иных платежей | B37: 01 | C37: 04 | D37: 65 | E37: 2 | F37: 00 | G37: 44205 | H37: 850 | I37: ='Прил 5'!J39 -> 13.6 | J37: 0 | K37: 0
A38: Непрограммные расходы главных распорядителей средств бюджета Паевского сельского поселения Кадошкинского муниципального района Республики Мордовия | B38: 01 | C38: 04 | D38: 89 | I38: =I39 -> 0.1 | J38: =J39 -> 0.1 | K38: =K39 -> 0.1
A39: Непрограммные расходы в рамках обеспечения деятельности главных распорядителей средств бюджета Паевского сельского поселения Кадошкинского муниципального района Республики Мордовия | B39: 01 | C39: 04 | D39: 89 | E39: 1 | I39: =I40 -> 0.1 | J39: =J40 -> 0.1 | K39: =K40 -> 0.1
A40: Осуществление государственных полномочий Республики Мордовия по определению перечня должностных лиц, уполномоченных составлять протоколы об административных правонарушениях, предусмотренных Законом Республики Мордовия от 15 июня 2015 года № 38-З "Об административной ответственности на территории Республики Мордовия" | B40: 01 | C40: 04 | D40: 89 | E40: 1 | F40: 00 | G40: 77150 | I40: =I41 -> 0.1 | J40: =J41 -> 0.1 | K40: =K41 -> 0.1
A41: Закупка товаров, работ и услуг для обеспечения государственных (муниципальных) нужд | B41: 01 | C41: 04 | D41: 89 | E41: 1 | F41: 00 | G41: 77150 | H41: 200 | I41: =I42 -> 0.1 | J41: =J42 -> 0.1 | K41: =K42 -> 0.1
...

Sheet Прил 5
H1: Приложение 5
G2: к решению сессии Совета депутатов Паевскго сельского поселения "О бюджете Паевского сельского поселения Кадошкинского муниципального района Республики Мордовия на 2021 год и на плановый период 2022 и 2023 годов"
A4: ВЕДОМСТВЕННАЯ СТРУКТУРА РАСХОДОВ БЮДЖЕТА ПАЕВСКОГО СЕЛЬСКОГО ПОСЕЛЕНИЯ КАДОШКИНСКОГО МУНИЦИПАЛЬНОГО РАЙОНА РЕСПУБЛИКИ МОРДОВИЯ НА 2021 ГОД И НА ПЛАНОВЫЙ ПЕРИОД 2022 И 2023 ГОДОВ
A6: Наименование | B6: Адм | C6: Рз | D6: ПРз | E6: ЦСР | I6: ВР | J6: Сумма (тыс. рублей)
J7: 2021 год | K7: 2022 год | L7: 2023 год
A8: 1 | B8: 2 | C8: 3 | D8: 4 | E8: 5 | F8: 6 | G8: 7 | H8: 8 | I8: 9 | J8: 10 | K8: 11 | L8: 12
A9: ВСЕГО | J9: =J10 -> 1584.11 | K9: =K10 -> 1053.8 | L9: =L10 -> 1098.2
A10: Администрация Паевского сельского поселения Кадошкинского муниципального района Республики Мордовия | B10: 918 | J10: =J11+J51+J60+J67+J83+J90 -> 1584.11 | K10: =K11+K51+K60+K67+K83+K90+K97 -> 1053.8 | L10: =L11+L51+L60+L67+L83+L90+L97 -> 1098.2
A11: Общегосударственные вопросы | B11: 918 | C11: 01 | J11: =J12+J21+J45 -> 898.7 | K11: =K12+K21+K45 -> 492.3 | L11: =L12+L21+L45 -> 519.4
A12: Функционирование высшего должностного лица субъекта Российской Федерации и муниципального образования | B12: 918 | C12: 01 | D12: 02 | J12: =J13 -> 323.8 | K12: =K13 -> 134.5 | L12: =L13 -> 134.3
A13: Обеспечение деятельности администрации | B13: 918 | C13: 01 | D13: 02 | E13: 65 | J13: =J14 -> 323.8 | K13: =K14 -> 134.5 | L13: =L14 -> 134.3
A14: Высшее должностное лицо | B14: 918 | C14: 01 | D14: 02 | E14: 65 | F14: 1 | J14: =J15+J18 -> 323.8 | K14: =K15+K18 -> 134.5 | L14: =L15+L18 -> 134.3
A15: Расходы на выплаты по оплате труда высшего должностного лица | B15: 918 | C15: 01 | D15: 02 | E15: 65 | F15: 1 | G15: 00 | H15: 41150 | J15: =J16 -> 233.2 | K15: =K16 -> 134.5 | L15: =L16 -> 134.3
A16: Расходы на выплаты персоналу в целях обеспечения выполнения функций государственными (муниципальными) органами, казенными учреждениями, органами управления государственными внебюджетными фондами | B16: 918 | C16: 01 | D16: 02 | E16: 65 | F16: 1 | G16: 00 | H16: 41150 | I16: 100 | J16: =J17 -> 233.2 | K16: =K17 -> 134.5 | L16: =L17 -> 134.3
A17: Расходы на выплаты персоналу государственных (муниципальных) органов | B17: 918 | C17: 01 | D17: 02 | E17: 65 | F17: 1 | G17: 00 | H17: 41150 | I17: 120 | J17: 233.2 | K17: 134.5 | L17: 134.3
A18: Субсидии на софинансирование расходных обязательств по финансовому обеспечению деятельности органов местного самоуправления и муниципальных учреждений | B18: 918 | C18: 01 | D18: 02 | E18: 65 | F18: 1 | G18: 00 | H18: 44205 | J18: =J19 -> 90.6 | K18: =K19 -> 0 | L18: =L19 -> 0
A19: Расходы на выплаты персоналу в целях обеспечения выполнения функций государственными (муниципальными) органами, казенными учреждениями, органами управления государственными внебюджетными фондами | B19: 918 | C19: 01 | D19: 02 | E19: 65 | F19: 1 | G19: 00 | H19: 44205 | I19: 100 | J19: =J20 -> 90.6 | K19: =K20 -> 0 | L19: =L20 -> 0
A20: Расходы на выплаты персоналу государственных (муниципальных) органов | B20: 918 | C20: 01 | D20: 02 | E20: 65 | F20: 1 | G20: 00 | H20: 44205 | I20: 120 | J20: 90.6 | K20: 0 | L20: 0
A21: Функционирование Правительства Российской Федерации, высших органов исполнительной власти субъектов Российской Федерации, местных администраций | B21: 918 | C21: 01 | D21: 04 | J21: =J22+J40 -> 573.9 | K21: =K22+K40 -> 356.8 | L21: =L22+L40 -> 384.1
A22: Обеспечение деятельности администрации | B22: 918 | C22: 01 | D22: 04 | E22: 65 | J22: =J23 -> 573.8 | K22: =K23 -> 356.7 | L22: =L23 -> 384
A23: Непрограммные расходы в рамках обеспечения деятельности администрации | B23: 918 | C23: 01 | D23: 04 | E23: 65 | F23: 2 | J23: =J25+J27+J33 -> 573.8 | K23: =K25+K27+K33 -> 356.7 | L23: =L25+L27+L33 -> 384
A24: Расходы на выплаты по оплате труда работников органов местного самоуправления | B24: 918 | C24: 01 | D24: 04 | E24: 65 | F24: 2 | G24: 00 | H24: 41110 | J24: =J25 -> 363.3 | K24: =K25 -> 317.6 | L24: =L25 -> 288
A25: Расходы на выплаты персоналу в целях обеспечения выполнения функций государственными (муниципальными) органами, казенными учреждениями, органами управления государственными внебюджетными фондами | B25: 918 | C25: 01 | D25: 04 | E25: 65 | F25: 2 | G25: 00 | H25: 41110 | I25: 100 | J25: =J26 -> 363.3 | K25: =K26 -> 317.6 | L25: =L26 -> 288
A26: Расходы на выплаты персоналу государственных (муниципальных) органов | B26: 918 | C26: 01 | D26: 04 | E26: 65 | F26: 2 | G26: 00 | H26: 41110 | I26: 120 | J26: 363.3 | K26: 317.6 | L26: 288
A27: Расходы на обеспечение функций органов местного самоуправленя | B27: 918 | C27: 01 | D27: 04 | E27: 65 | F27: 2 | G27: 00 | H27: 41120 | J27: =J28+J30 -> 71.1 | K27: =K28+K30 -> 39.1 | L27: =L28+L30 -> 96
A28: Закупка товаров, работ и услуг для обеспечения государственных (муниципальных) нужд | B28: 918 | C28: 01 | D28: 04 | E28: 65 | F28: 2 | G28: 00 | H28: 41120 | I28: 200 | J28: =J29 -> 63.5 | K28: =K29 -> 13.3 | L28: =L29 -> 70.2
A29: Иные закупки товаров, работ и услуг для обеспечения государственных (муниципальных) нужд | B29: 918 | C29: 01 | D29: 04 | E29: 65 | F29: 2 | G29: 00 | H29: 41120 | I29: 240 | J29: 63.5 | K29: 13.3 | L29: 70.2
A30: Иные бюджетные ассигнования | B30: 918 | C30: 01 | D30: 04 | E30: 65 | F30: 2 | G30: 00 | H30: 41120 | I30: 800 | J30: =J32+J31 -> 7.6 | K30: =K32+K31 -> 25.8 | L30: =L32+L31 -> 25.8
A31: Исполнение судебных актов | B31: 918 | C31: 01 | D31: 04 | E31: 65 | F31: 2 | G31: 00 | H31: 41120 | I31: 830 | J31: 2 | K31: 0 | L31: 0
A32: Уплата налогов, сборов и иных платежей | B32: 918 | C32: 01 | D32: 04 | E32: 65 | F32: 2 | G32: 00 | H32: 41120 | I32: 850 | J32: 5.6 | K32: 25.8 | L32: 25.8
A33: Субсидии на софинансирование расходных обязательств по финансовому обеспечению деятельности органов местного самоуправления и муниципальных учреждений | B33: 918 | C33: 01 | D33: 04 | E33: 65 | F33: 2 | G33: 00 | H33: 44205 | J33: =J34+J36+J38 -> 139.4 | K33: =K34+K36+K38 -> 0 | L33: =L34+L36+L38 -> 0
A34: Расходы на выплаты персоналу в целях обеспечения выполнения функций государственными (муниципальными) органами, казенными учреждениями, органами управления государственными внебюджетными фондами | B34: 918 | C34: 01 | D34: 04 | E34: 65 | F34: 2 | G34: 00 | H34: 44205 | I34: 100 | J34: =J35 -> 93 | K34: =K35 -> 0 | L34: =L35 -> 0
A35: Расходы на выплаты персоналу государственных (муниципальных) органов | B35: 918 | C35: 01 | D35: 04 | E35: 65 | F35: 2 | G35: 00 | H35: 44205 | I35: 120 | J35: 93 | K35: 0 | L35: 0
A36: Закупка товаров, работ и услуг для обеспечения государственных (муниципальных) нужд | B36: 918 | C36: 01 | D36: 04 | E36: 65 | F36: 2 | G36: 00 | H36: 44205 | I36: 200 | J36: =J37 -> 32.8 | K36: =K37 -> 0 | L36: =L37 -> 0
A37: Иные закупки товаров, работ и услуг для обеспечения государственных (муниципальных) нужд | B37: 918 | C37: 01 | D37: 04 | E37: 65 | F37: 2 | G37: 00 | H37: 44205 | I37: 240 | J37: 32.8 | K37: 0 | L37: 0
A38: Иные бюджетные ассигнования | B38: 918 | C38: 01 | D38: 04 | E38: 65 | F38: 2 | G38: 00 | H38: 44205 | I38: 800 | J38: =J39 -> 13.6 | K38: =K39 -> 0 | L38: =L39 -> 0
A39: Уплата налогов, сборов и иных платежей | B39: 918 | C39: 01 | D39: 04 | E39: 65 | F39: 2 | G39: 00 | H39: 44205 | I39: 850 | J39: 13.6 | K39: 0 | L39: 0
A40: Непрограммные расходы главных распорядителей средств бюджета Паевского сельского поселения Кадошкинского муниципального района Республики Мордовия | B40: 918 | C40: 01 | D40: 04 | E40: 89 | J40: =J41 -> 0.1 | K40: =K41 -> 0.1 | L40: =L41 -> 0.1
A41: Непрограммные расходы в рамках обеспечения деятельности главных распорядителей средств бюджета Паевского сельского поселения Кадошкинского муниципального района Республики Мордовия | B41: 918 | C41: 01 | D41: 04 | E41: 89 | F41: 1 | J41: =J42 -> 0.1 | K41: =K42 -> 0.1 | L41: =L42 -> 0.1
A42: Осуществление государственных полномочий Республики Мордовия по определению перечня должностных лиц, уполномоченных составлять протоколы об административных правонарушениях, предусмотренных Законом Республики Мордовия от 15 июня 2015 года № 38-З "Об административной ответственности на территории Республики Мордовия" | B42: 918 | C42: 01 | D42: 04 | E42: 89 | F42: 1 | G42: 00 | H42: 77150 | J42: =J43 -> 0.1 | K42: =K43 -> 0.1 | L42: =L43 -> 0.1
...

Sheet Прил 6
I1: Приложение 6
H2: к решению сессии Совета депутатов Паевскго сельского поселения "О бюджете Паевского сельского поселения Кадошкинского муниципального района Республики Мордовия на 2021 год и на плановый период 2022 и 2023 годов"
A4: РАСПРЕДЕЛЕНИЕ БЮДЖЕТНЫХ АССИГНОВАНИЙ БЮДЖЕТА ПАЕВСКОГО СЕЛЬСКОГО ПОСЕЛЕНИЯ КАДОШКИНСКОГО МУНИЦИПАЛЬНОГО РАЙОНА РЕСПУБЛИКИ МОРДОВИЯ ПО ЦЕЛЕВЫМ СТАТЬЯМ, ГРУППАМ (ГРУППАМ И ПОДГРУППАМ) ВИДОВ РАСХОДОВ КЛАССИФИКАЦИИ РАСХОДОВ БЮДЖЕТОВ, А ТАКЖЕ ПО РАЗДЕЛАМ И ПОДРАЗДЕЛАМ КЛАССИФИКАЦИИ РАСХОДОВ БЮДЖЕТОВ НА 2021 ГОД И НА ПЛАНОВЫЙ ПЕРИОД 2022 И 2023 ГОДОВ
A6: Наименование | B6: ЦСР | F6: ВР | G6: Рз | H6: ПРз | I6: Адм | J6: Сумма (тыс. рублей)
J7: 2021 год | K7: 2022 год | L7: 2023 год
A8: 1 | B8: 2 | C8: 3 | D8: 4 | E8: 5 | F8: 6 | G8: 7 | H8: 8 | I8: 9 | J8: 10 | K8: 11 | L8: 12
A9: ВСЕГО | J9: =J10+J61 -> 1584.11 | K9: =K10+K61+K81 -> 1053.8 | L9: =L10+L61+L81 -> 1098.2
A10: Обеспечение деятельности администрации | B10: 65 | J10: =J11+J24 -> 897.6 | K10: =K11+K24 -> 491.2 | L10: =L11+L24 -> 518.3
A11: Высшее должностное лицо | B11: 65 | C11: 1 | J11: =J12+J18 -> 323.8 | K11: =K12+K18 -> 134.5 | L11: =L12+L18 -> 134.3
A12: Расходы на выплаты по оплате труда высшего должностного лица муниципального образования | B12: 65 | C12: 1 | D12: 00 | E12: 41150 | J12: =J15 -> 233.2 | K12: =K15 -> 134.5 | L12: =L15 -> 134.3
A13: Расходы на выплаты персоналу в целях обеспечения выполнения функций государственными (муниципальными) органами, казенными учреждениями, органами управления государственными внебюджетными фондами | B13: 65 | C13: 1 | D13: 00 | E13: 41150 | F13: 100 | J13: =J14 -> 233.2 | K13: =K14 -> 134.5 | L13: =L14 -> 134.3
A14: Расходы на выплаты персоналу государственных (муниципальных) органов | B14: 65 | C14: 1 | D14: 00 | E14: 41150 | F14: 120 | J14: =J15 -> 233.2 | K14: =K15 -> 134.5 | L14: =L15 -> 134.3
A15: Общегосударственные вопросы | B15: 65 | C15: 1 | D15: 00 | E15: 41150 | F15: 120 | G15: 01 | J15: =J16 -> 233.2 | K15: =K16 -> 134.5 | L15: =L16 -> 134.3
A16: Функционирование высшего должностного лица субъекта Российской Федерации и муниципального образования | B16: 65 | C16: 1 | D16: 00 | E16: 41150 | F16: 120 | G16: 01 | H16: 02 | J16: =J17 -> 233.2 | K16: =K17 -> 134.5 | L16: =L17 -> 134.3
A17: Администрация Паевского сельского поселения Кадошкинского муниципального района Республики Мордовия | B17: 65 | C17: 1 | D17: 00 | E17: 41150 | F17: 120 | G17: 01 | H17: 02 | I17: 918 | J17: ='Прил 5'!J17 -> 233.2 | K17: ='Прил 5'!K17 -> 134.5 | L17: ='Прил 5'!L17 -> 134.3
A18: Субсидии на софинансирование расходных обязательств по финансовому обеспечению деятельности органов местного самоуправления и муниципальных учреждений | B18: 65 | C18: 1 | D18: 00 | E18: 44205 | J18: =J19 -> 90.6 | K18: =K19 -> 0 | L18: =L19 -> 0
A19: Расходы на выплаты персоналу в целях обеспечения выполнения функций государственными (муниципальными) органами, казенными учреждениями, органами управления государственными внебюджетными фондами | B19: 65 | C19: 1 | D19: 00 | E19: 44205 | F19: 100 | J19: =J20 -> 90.6 | K19: =K20 -> 0 | L19: =L20 -> 0
A20: Расходы на выплаты персоналу государственных (муниципальных) органов | B20: 65 | C20: 1 | D20: 00 | E20: 44205 | F20: 120 | J20: =J21 -> 90.6 | K20: =K21 -> 0 | L20: =L21 -> 0
A21: Общегосударственные вопросы | B21: 65 | C21: 1 | D21: 00 | E21: 44205 | F21: 120 | G21: 01 | J21: =J22 -> 90.6 | K21: =K22 -> 0 | L21: =L22 -> 0
A22: Функционирование высшего должностного лица субъекта Российской Федерации и муниципального образования | B22: 65 | C22: 1 | D22: 00 | E22: 44205 | F22: 120 | G22: 01 | H22: 02 | J22: =J23 -> 90.6 | K22: =K23 -> 0 | L22: =L23 -> 0
A23: Администрация Паевского сельского поселения Кадошкинского муниципального района Республики Мордовия | B23: 65 | C23: 1 | D23: 00 | E23: 44205 | F23: 120 | G23: 01 | H23: 02 | I23: 918 | J23: ='Прил 5'!J20 -> 90.6 | K23: ='Прил 5'!K20 -> 0 | L23: ='Прил 5'!L20 -> 0
A24: Непрограммные расходы в рамках обеспечения деятельности администрации | B24: 65 | C24: 2 | J24: =J25+J31+J46 -> 573.8 | K24: =K25+K31+K46 -> 356.7 | L24: =L25+L31+L46 -> 384
A25: Расходы на выплаты по оплате труда работников органов местного самоуправления | B25: 65 | C25: 2 | D25: 00 | E25: 41110 | J25: =J26 -> 363.3 | K25: =K28 -> 317.6 | L25: =L28 -> 288
A26: Расходы на выплаты персоналу в целях обеспечения выполнения функций государственными (муниципальными) органами, казенными учреждениями, органами управления государственными внебюджетными фондами | B26: 65 | C26: 2 | D26: 00 | E26: 41110 | F26: 100 | J26: =J27 -> 363.3 | K26: =K27 -> 317.6 | L26: =L27 -> 288
A27: Расходы на выплаты персоналу государственных (муниципальных) органов | B27: 65 | C27: 2 | D27: 00 | E27: 41110 | F27: 120 | J27: =J28 -> 363.3 | K27: =K28 -> 317.6 | L27: =L28 -> 288
A28: Общегосударственные вопросы | B28: 65 | C28: 2 | D28: 00 | E28: 41110 | F28: 120 | G28: 01 | J28: =J29 -> 363.3 | K28: =K29 -> 317.6 | L28: =L29 -> 288
A29: Функционирование Правительства Российской Федерации, высших органов исполнительной власти субъектов Российской Федерации, местных администраций | B29: 65 | C29: 2 | D29: 00 | E29: 41110 | F29: 120 | G29: 01 | H29: 04 | J29: =J30 -> 363.3 | K29: =K30 -> 317.6 | L29: =L30 -> 288
A30: Администрация Паевского сельского поселения Кадошкинского муниципального района Республики Мордовия | B30: 65 | C30: 2 | D30: 00 | E30: 41110 | F30: 120 | G30: 01 | H30: 04 | I30: 918 | J30: ='Прил 5'!J26 -> 363.3 | K30: ='Прил 5'!K26 -> 317.6 | L30: ='Прил 5'!L26 -> 288
A31: Расходы на обеспечение функций органов местного самоуправленя | B31: 65 | C31: 2 | D31: 00 | E31: 41120 | J31: =J34+J37 -> 71.1 | K31: =K34+K37 -> 39.1 | L31: =L34+L37 -> 96
A32: Закупка товаров, работ и услуг для обеспечения государственных (муниципальных) нужд | B32: 65 | C32: 2 | D32: 00 | E32: 41120 | F32: 200 | J32: =J33 -> 63.5 | K32: =K33 -> 13.3 | L32: =L33 -> 70.2
A33: Иные закупки товаров, работ и услуг для обеспечения государственных (муниципальных) нужд | B33: 65 | C33: 2 | D33: 00 | E33: 41120 | F33: 240 | J33: =J34 -> 63.5 | K33: =K34 -> 13.3 | L33: =L34 -> 70.2
A34: Общегосударственные вопросы | B34: 65 | C34: 2 | D34: 00 | E34: 41120 | F34: 240 | G34: 01 | J34: =J35 -> 63.5 | K34: =K35 -> 13.3 | L34: =L35 -> 70.2
A35: Функционирование Правительства Российской Федерации, высших органов исполнительной власти субъектов Российской Федерации, местных администраций | B35: 65 | C35: 2 | D35: 00 | E35: 41120 | F35: 240 | G35: 01 | H35: 04 | J35: =J36 -> 63.5 | K35: =K36 -> 13.3 | L35: =L36 -> 70.2
A36: Администрация Паевского сельского поселения Кадошкинского муниципального района Республики Мордовия | B36: 65 | C36: 2 | D36: 00 | E36: 41120 | F36: 240 | G36: 01 | H36: 04 | I36: 918 | J36: ='Прил 5'!J28 -> 63.5 | K36: ='Прил 5'!K28 -> 13.3 | L36: ='Прил 5'!L28 -> 70.2
A37: Закупка товаров, работ и услуг для обеспечения государственных (муниципальных) нужд | B37: 65 | C37: 2 | D37: 00 | E37: 41120 | F37: 800 | J37: =J42+J38 -> 7.6 | K37: =K42+K38 -> 25.8 | L37: =L42+L38 -> 25.8
A38: Исполнение судебных актов | B38: 65 | C38: 2 | D38: 00 | E38: 41120 | F38: 830 | J38: =J39 -> 2 | K38: =K39 -> 0 | L38: =L39 -> 0
A39: Общегосударственные вопросы | B39: 65 | C39: 2 | D39: 00 | E39: 41120 | F39: 830 | G39: 01 | J39: =J40 -> 2 | K39: =K40 -> 0 | L39: =L40 -> 0
A40: Функционирование Правительства Российской Федерации, высших органов исполнительной власти субъектов Российской Федерации, местных администраций | B40: 65 | C40: 2 | D40: 00 | E40: 41120 | F40: 830 | G40: 01 | H40: 04 | J40: =J41 -> 2 | K40: =K41 -> 0 | L40: =L41 -> 0
A41: Администрация Паевского сельского поселения Кадошкинского муниципального района Республики Мордовия | B41: 65 | C41: 2 | D41: 00 | E41: 41120 | F41: 830 | G41: 01 | H41: 04 | I41: 918 | J41: ='Прил 5'!J31 -> 2 | K41: ='Прил 5'!K31 -> 0 | L41: ='Прил 5'!L31 -> 0
A42: Иные закупки товаров, работ и услуг для обеспечения государственных (муниципальных) нужд | B42: 65 | C42: 2 | D42: 00 | E42: 41120 | F42: 850 | J42: =J43 -> 5.6 | K42: =K43 -> 25.8 | L42: =L43 -> 25.8
...

Sheet Прил 7
D1: Приложение 7
C2: к решению сессии Совета депутатов Паевскго сельского поселения "О бюджете Паевского сельского поселения Кадошкинского муниципального района Республики Мордовия на 2021 год и на плановый период 2022 и 2023 годов"
A3: ИСТОЧНИКИ ВНУТРЕННЕГО ФИНАНСИРОВАНИЯ ДЕФИЦИТА БЮДЖЕТА ПАЕВСКОГО СЕЛЬСКОГО ПОСЕЛЕНИЯ КАДОШКИНСКОГО МУНИЦИПАЛЬНОГО РАЙОНА РЕСПУБЛИКИ МОРДОВИЯ НА 2021 ГОД И НА ПЛАНОВЫЙ ПЕРИОД 2022 И 2023 ГОДОВ
E4: (тыс.руб.)
A5: Код | B5: НАИМЕНОВАНИЕ | C5: 2021 год | D5: 2022 год | E5: 2023 год
A6: 1 | B6: 2 | C6: 3 | D6: 4 | E6: 5
A7: 000 01 00 00 00 00 0000 000 | B7: ИСТОЧНИКИ ВНУТРЕННЕГО ФИНАНСИРОВАНИЯ ДЕФИЦИТОВ БЮДЖЕТОВ | C7: =C8+C11+C15 -> 0 | D7: =D8+D11+D15 -> 0 | E7: =E8+E11+E15 -> 0
A8: 000 01 02 00 00 00 0000 000 | B8: Кредиты кредитных организаций в валюте Российской Федерации | C8: =SUM(C9) -> 23.4 | D8: =SUM(D9) -> 47 | E8: =SUM(E9) -> 70.4
A9: 000 01 02 00 00 00 0000 700 | B9: Получение кредитов от кредитных организаций в валюте Российской Федерации | C9: =SUM(C10) -> 23.4 | D9: =SUM(D10) -> 47 | E9: =SUM(E10) -> 70.4
A10: 000 01 02 00 00 10 0000 710 | B10: Получение кредитов от кредитных организаций бюджетами сельских поселений в валюте Российской Федерации | C10: 23.4 | D10: 47 | E10: 70.4
A11: 000 01 03 00 00 00 0000 000 | B11: Бюджетные кредиты из других бюджетов бюджетной системы Российской Федерации | C11: =C12 -> -23.4 | D11: =D12 -> -47 | E11: =E12 -> -70.4
A12: 000 01 03 01 00 00 0000 800 | B12: Погашение бюджетных кредитов, полученных из других бюджетов бюджетной системы Российской Федерации в валюте Российской Федерации | C12: =C13 -> -23.4 | D12: =D13 -> -47 | E12: =E13 -> -70.4
A13: 000 01 03 01 00 10 0000 800 | B13: Погашение бюджетных кредитов, полученных из других бюджетов бюджетной системы Российской Федерации в валюте Российской Федерации | C13: =SUM(C14) -> -23.4 | D13: =SUM(D14) -> -47 | E13: =SUM(E14) -> -70.4
A14: 000 01 03 01 00 10 0000 810 | B14: Погашение бюджетами сельских поселений кредитов из других бюджетов бюджетной системы Российской Федерации в валюте Российской Федерации | C14: -23.4 | D14: -47 | E14: -70.4
A15: 000 01 05 00 00 00 0000 000 | B15: Изменение остатков средств на счетах по учету средств бюджетов | C15: =C18+C19 -> 0 | D15: =D18+D19 -> 0 | E15: =E18+E19 -> 0
A16: 000 01 05 02 00 00 0000 500 | B16: Увеличение прочих остатков средств бюджетов | C16: =SUM(C17) -> -1607.51 | D16: =SUM(D17) -> -1100.8 | E16: =SUM(E17) -> -1168.6
A17: 000 01 05 02 01 00 0000 510 | B17: Увеличение прочих остатков денежных средств бюджетов | C17: =SUM(C18) -> -1607.51 | D17: =SUM(D18) -> -1100.8 | E17: =SUM(E18) -> -1168.6
A18: 000 01 05 02 01 10 0000 510 | B18: Увеличение прочих остатков денежных средств бюджетов сельских поселений | C18: =-('Прил 3'!C8+C10) -> -1607.51 | D18: =-('Прил 3'!D8+D10) -> -1100.8 | E18: =-('Прил 3'!E8+E10) -> -1168.6
A19: 000 01 05 02 00 00 0000 600 | B19: Уменьшение прочих остатков средств бюджетов | C19: =SUM(C20) -> 1607.51 | D19: =SUM(D20) -> 1100.8 | E19: =SUM(E20) -> 1168.6
A20: 000 01 05 02 01 00 0000 610 | B20: Уменьшение прочих остатков денежных средств бюджетов | C20: =SUM(C21) -> 1607.51 | D20: =SUM(D21) -> 1100.8 | E20: =SUM(E21) -> 1168.6
A21: 000 01 05 02 01 10 0000 610 | B21: Уменьшение прочих остатков денежных средств бюджетов сельских поселений | C21: ='Прил 4 '!I8-C14 -> 1607.51 | D21: ='Прил 4 '!J8-D14 -> 1100.8 | E21: ='Прил 4 '!K8-E14 -> 1168.6
B22: Привлечение средств | C22: 23.4 | D22: 47 | E22: 70.4

Sheet Прил 8
D1: Приложение 8
C2: к решению сессии Совета депутатов Паевскго сельского поселения "О бюджете Паевского сельского поселения Кадошкинского муниципального района Республики Мордовия на 2021 год и на плановый период 2022 и 2023 годов"
A3: ПРОГРАММА МУНИЦИПАЛЬНЫХ ВНУТРЕННИХ ЗАИМСТВОВАНИЙ ПАЕВСКОГО СЕЛЬСКОГО ПОСЕЛЕНИЯ КАДОШКИНСКОГО МУНИЦИПАЛЬНОГО РАЙОНА РЕСПУБЛИКИ МОРДОВИЯ НА 2021 ГОД И НА ПЛАНОВЫЙ ПЕРИОД 2022 И 2023 ГОДОВ
E6: (тыс.руб.)
A7: № п/п | B7: ВИДЫ ЗАИМСТВОВАНИЙ | C7: Сумма
C8: 2021 год | D8: 2022 год | E8: 2023 год
A9: 1 | B9: 2 | C9: 3 | D9: 4 | E9: 5
A10: I | B10: Кредиты кредитных организаций в валюте Российской Федерации | C10: =C12 -> 23.4 | D10: =D12 -> 47 | E10: =E12 -> 70.4
B11: в том числе:
A12: 1 | B12: Объем привлечения | C12: 23.4 | D12: 47 | E12: 70.4
A13: 2 | B13: Объем средств, напрвляемых на погашение основной суммы долга
A14: II | B14: Бюджетные кредиты от других бюджетов бюджетной системы Российской Федерации | C14: =C17 -> -23.4 | D14: =D17 -> -47 | E14: =E17 -> -70.4
B15: в том числе
A16: 1 | B16: Объем привлечения
A17: 2 | B17: Объем средств, напрвляемых на погашение основной суммы долга | C17: -23.4 | D17: -47 | E17: -70.4
B18: ВСЕГО | C18: =C12+C17 -> 0 | D18: =D12+D17 -> 0 | E18: =E12+E17 -> 0
