Workbook
Name _1Excel_BuiltIn_Print_Area_1_1_1: Доходы!$A$1:$C$34
Name _2Excel_BuiltIn_Print_Area_7_1_1: #REF!
Name _2Excel_BuiltIn_Print_Area_7_1_1: #REF!
Name _Toc105952698: Функцион!$A$3
Name _Toc105952698: #REF!
Name Excel_BuiltIn_Print_Area_1: Доходы!$A$1:$C$34
Name Excel_BuiltIn_Print_Area_1_1: Доходы!$A$1:$C$34
Name Excel_BuiltIn_Print_Area_2: #REF!
Name Excel_BuiltIn_Print_Area_2: #REF!
Name Excel_BuiltIn_Print_Area_3: #REF!
Name Excel_BuiltIn_Print_Area_3_1: #REF!
Name Excel_BuiltIn_Print_Area_3_1: #REF!
Name Excel_BuiltIn_Print_Area_4: #REF!
Name Excel_BuiltIn_Print_Area_4: #REF!
Name Excel_BuiltIn_Print_Area_5: Функцион!$A$1:$I$50
Name Excel_BuiltIn_Print_Area_5: #REF!
Name Excel_BuiltIn_Print_Area_5_1: Функцион!$A$1:$I$50
Name Excel_BuiltIn_Print_Area_5_1: #REF!
Name Excel_BuiltIn_Print_Area_6: Ведомствен!$A$1:$G$44
Name Excel_BuiltIn_Print_Area_6_1: Ведомствен!$A$1:$G$44
Name Excel_BuiltIn_Print_Area_7: #REF!
Name Excel_BuiltIn_Print_Area_7: #REF!
Name Excel_BuiltIn_Print_Area_7_1: #REF!
Name Excel_BuiltIn_Print_Area_7_1: #REF!

Sheet Доходы
D1: Приложение 1
A3: ДОХОДЫ БЮДЖЕТА АДАШЕВСКОГО СЕЛЬСКОГО ПОСЕЛЕНИЯ КАДОШКИНСКОГО МУНИЦИПАЛЬНОГО РАЙОНА РЕСПУБЛИКИ МОРДОВИЯ
C5: (тыс.рублей)
A6: Код бюджетной классификации доходов бюджета | B6: Наименование доходов | C6: Сумма
C7: План 2020 год | D7: Исполнение 2020 год | E7: % исполнения
A8: 1 | B8: 2 | C8: 3 | D8: 4 | E8: 5
B9: ВСЕГО ДОХОДОВ | C9: =SUM(C10+C24) -> 1555.9 | D9: =SUM(D10+D24) -> 1454.9 | E9: =D9/C9*100 -> 93.50858
A10: 00010000000000000000 | B10: НАЛОГОВЫЕ И НЕНАЛОГОВЫЕ ДОХОДЫ | C10: =SUM(C11+C14+C16+C18+C21) -> 500.2 | D10: =SUM(D11+D14+D16+D18+D21) -> 510.7 | E10: =D10/C10*100 -> 102.09916
A11: 00010100000000000000 | B11: НАЛОГИ НА ПРИБЫЛЬ, ДОХОДЫ | C11: =SUM(C12) -> 20.7 | D11: =SUM(D12) -> 16.8 | E11: =D11/C11*100 -> 81.15942
A12: 00010102000010000110 | B12: Налог на доходы физических лиц | C12: =SUM(C13) -> 20.7 | D12: =SUM(D13) -> 16.8 | E12: =D12/C12*100 -> 81.15942
A13: 18210102010010000110 | B13: Налог на доходы физических лиц с доходов, источником которых является налоговый агент, за исключением доходов, в отношении которых исчисление и уплата налога осуществляются в соответствии со статьями 227, 2271 и 228 Налогового кодекса Российской Федерации | C13: 20.7 | D13: 16.8 | E13: =D13/C13*100 -> 81.15942
A14: 00010500000000000000 | B14: НАЛОГИ НА СОВОКУПНЫЙ ДОХОД | C14: =SUM(C15) -> 28.3 | D14: =SUM(D15) -> 66.7 | E14: =D14/C14*100 -> 235.68905
A15: 18210503010010000110 | B15: Единый сельскохозяйственный налог | C15: 28.3 | D15: 66.7 | E15: =D15/C15*100 -> 235.68905
A16: 00010600000000000000 | B16: НАЛОГИ НА ИМУЩЕСТВО | C16: =SUM(C17) -> 55 | D16: =SUM(D17) -> 39.7 | E16: =D16/C16*100 -> 72.181818
A17: 18210601030100000110 | B17: Налог на имущество физических лиц, взимаемый по ставкам, применяемым к объектам налогообложения, расположенным в границах сельских поселений | C17: 55 | D17: 39.7 | E17: =D17/C17*100 -> 72.181818
A18: 00010606000000000110 | B18: Земельный налог | C18: =SUM(C19+C20) -> 350 | D18: =SUM(D19+D20) -> 340.4 | E18: =D18/C18*100 -> 97.257143
A19: 18210606033100000110 | B19: Земельный налог с организаций, обладающих земельным участком, расположенным в границах сельских поселений | C19: 88 | D19: 82.4 | E19: =D19/C19*100 -> 93.636364
A20: 18210606043100000110 | B20: Земельный налог с физических лиц, обладающих земельным участком, расположенным в границах сельских поселений | C20: 262 | D20: 258 | E20: =D20/C20*100 -> 98.473282
A21: 00011100000000000000 | B21: ДОХОДЫ ОТ ИСПОЛЬЗОВАНИЯ ИМУЩЕСТВА, НАХОДЯЩЕГОСЯ В ГОСУДАРСТВЕННОЙ И МУНИЦИПАЛЬНОЙ СОБСТВЕННОСТИ | C21: =SUM(C22+C23) -> 46.2 | D21: =SUM(D22+D23) -> 47.1 | E21: =D21/C21*100 -> 101.94805
A22: 91011105025100000120 | B22: Доходы, получаемые в виде арендной платы, а также средства от продажи права на заключение договоров аренды за земли, находящиеся в собственности сельских поселений (за исключением земельных участков муниципальных бюджетных и автономных учреждений) | C22: 17.2 | D22: 17.2 | E22: =D22/C22*100 -> 100
A23: 91011105035100000120 | B23: Доходы от сдачи в аренду имущества, находящегося в оперативном управлении органов управления сельских поселений и созданных ими учреждений (за исключением имущества муниципальных бюджетных и автономных учреждений) | C23: 29 | D23: 29.9 | E23: =D23/C23*100 -> 103.10345
A24: 00020200000000000000 | B24: БЕЗВОЗМЕЗДНЫЕ ПОСТУПЛЕНИЯ ОТ ДРУГИХ БЮДЖЕТОВ БЮДЖЕТНОЙ СИСТЕМЫ РОССИЙСКОЙ ФЕДЕРАЦИИ | C24: =SUM(C30+C33+C25+C27) -> 1055.7 | D24: =SUM(D30+D33+D25+D27) -> 944.2 | E24: =D24/C24*100 -> 89.438287
A25: 00020210000000000150 | B25: Дотации бюджетам бюджетной системы Российской Федерации | C25: =C26 -> 27.8 | D25: =D26 -> 27.8 | E25: =D25/C25*100 -> 100
A26: 91020215001100000150 | B26: Дотации бюджетам сельских поселений на выравнивание бюджетной обеспеченности | C26: 27.8 | D26: 27.8 | E26: =D26/C26*100 -> 100
A27: 00020220000000000150 | B27: Субсидии бюджетам бюджетной системы Российской Федерации (межбюджетные субсидии) | C27: =C29+C28 -> 724.2 | D27: =D29+D28 -> 627.1 | E27: =D27/C27*100 -> 86.592102
A28: 91020225576100000150 | B28: Субсидии бюджетам сельских поселений на обеспечение комплексного развития сельских территорий | C28: 344 | D28: 246.9 | E28: =D28/C28*100 -> 71.773256
A29: 91020229999100000150 | B29: Прочие субсидии бюджетам сельских поселений | C29: 380.2 | D29: 380.2 | E29: =D29/C29*100 -> 100
A30: 00020230000000000150 | B30: Субвенции бюджетам бюджетной системы Российской Федерации | C30: =SUM(C31+C32) -> 84.6 | D30: =SUM(D31+D32) -> 84.6 | E30: =D30/C30*100 -> 100
A31: 91020230024100000150 | B31: Субвенции на осуществление государственных полномочий Республики Мордовия по определению перечня должностных лиц, уполномоченных составлять протоколы об административных правонарушениях, предусмотренных Законом Республики Мордовия от 15 июня 2015 года № 38-З "Об административной ответственности на территории Республики Мордовия" | C31: 0.1 | D31: 0.1 | E31: =D31/C31*100 -> 100
A32: 91020235118100000150 | B32: Субвенции бюджетам сельских поселений на осуществление первичного воинского учета на территориях, где отсутствуют военные комиссариаты | C32: =78.7+5.8 -> 84.5 | D32: 84.5 | E32: =D32/C32*100 -> 100
A33: 00020240000000000150 | B33: Иные межбюджетные трансферты | C33: =SUM(C34) -> 219.1 | D33: =SUM(D34) -> 204.7 | E33: =D33/C33*100 -> 93.427659
A34: 91020240014100000150 | B34: Межбюджетные трансферты, передаваемые бюджетам сельских поселений из бюджетов муниципальных районов на осуществление части полномочий по решению вопросов местного значения в соответствии с заключенными соглашениями | C34: 219.1 | D34: 204.7 | E34: =D34/C34*100 -> 93.427659

Sheet Функцион
I1: Приложение 2
A3: РАСПРЕДЕЛЕНИЕ БЮДЖЕТНЫХ АССИГНОВАНИЙ БЮДЖЕТА АДАШЕВСКОГО СЕЛЬСКОГО ПОСЕЛЕНИЯ КАДОШКИНСКОГО МУНИЦИПАЛЬНОГО РАЙОНА РЕСПУБЛИКИ МОРДОВИЯ ПО РАЗДЕЛАМ, ПОДРАЗДЕЛАМ, ЦЕЛЕВЫМ СТАТЬЯМ (ГОСУДАРСТВЕННЫМ ПРОГРАММАМ И НЕПРОГРАММНЫМ НАПРАВЛЕНИЯМ ДЕЯТЕЛЬНОСТИ), ГРУППАМ (ГРУППАМ И ПОДГРУППАМ) ВИДОВ РАСХОДОВ КЛАССИФИКАЦИИ РАСХОДОВ БЮДЖЕТОВ НА 2020 ГОД
A5: Наименование | B5: Рз | C5: ПР | D5: ЦСР | H5: ВР | I5: Сумма (тыс. рублей)
I6: план 2020 | J6: фактическое исполнение 2020 | K6: % исполнения
A7: 1 | B7: 2 | C7: 3 | D7: 4 | E7: 5 | F7: 6 | G7: 7 | H7: 8 | I7: 9 | J7: 10 | K7: 11
A8: ВСЕГО | I8: =I9+I57+I66+I73+I94+I101 -> 1809.7 | J8: =J9+J57+J66+J73+J94+J101 -> 1695.2 | K8: =J8/I8*100 -> 93.672984
A9: Общегосударственные вопросы | B9: 01 | I9: =I10+I19+I38 -> 981.2 | J9: =J10+J19+J38 -> 980.2 | K9: =J9/I9*100 -> 99.898084
A10: Функционирование высшего должностного лица субъекта Российской Федерации и муниципального образования | B10: 01 | C10: 02 | I10: =I11 -> 441.1 | J10: =J11 -> 441.1 | K10: =J10/I10*100 -> 100
A11: Обеспечение деятельности администрации | B11: 01 | C11: 02 | D11: 65 | I11: =I12 -> 441.1 | J11: =J12 -> 441.1 | K11: =J11/I11*100 -> 100
A12: Высшее должностное лицо | B12: 01 | C12: 02 | D12: 65 | E12: 1 | I12: =I13+I16 -> 441.1 | J12: =J13+J16 -> 441.1 | K12: =J12/I12*100 -> 100
A13: Расходы на выплаты по оплате труда высшего должностного лица | B13: 01 | C13: 02 | D13: 65 | E13: 1 | F13: 00 | G13: 41150 | I13: =I14 -> 241.2 | J13: =J14 -> 241.2 | K13: =J13/I13*100 -> 100
A14: Расходы на выплаты персоналу в целях обеспечения выполнения функций государственными (муниципальными) органами, казенными учреждениями, органами управления государственными внебюджетными фондами | B14: 01 | C14: 02 | D14: 65 | E14: 1 | F14: 00 | G14: 41150 | H14: 100 | I14: =I15 -> 241.2 | J14: =J15 -> 241.2 | K14: =J14/I14*100 -> 100
A15: Расходы на выплаты персоналу государственных (муниципальных) органов | B15: 01 | C15: 02 | D15: 65 | E15: 1 | F15: 00 | G15: 41150 | H15: 120 | I15: =Ведомствен!J16 -> 241.2 | J15: =Ведомствен!K16 -> 241.2 | K15: =J15/I15*100 -> 100
A16: Субсидии на софинансирование расходных обязательств по финансовому обеспечению деятельности органов местного самоуправления и муниципальных учреждений | B16: 01 | C16: 02 | D16: 65 | E16: 1 | F16: 00 | G16: 44205 | I16: =I17 -> 199.9 | J16: =J17 -> 199.9 | K16: =J16/I16*100 -> 100
A17: Расходы на выплаты персоналу в целях обеспечения выполнения функций государственными (муниципальными) органами, казенными учреждениями, органами управления государственными внебюджетными фондами | B17: 01 | C17: 02 | D17: 65 | E17: 1 | F17: 00 | G17: 44205 | H17: 100 | I17: =I18 -> 199.9 | J17: =J18 -> 199.9 | K17: =J17/I17*100 -> 100
A18: Расходы на выплаты персоналу государственных (муниципальных) органов | B18: 01 | C18: 02 | D18: 65 | E18: 1 | F18: 00 | G18: 44205 | H18: 120 | I18: =Ведомствен!J19 -> 199.9 | J18: =Ведомствен!K19 -> 199.9 | K18: =J18/I18*100 -> 100
A19: Функционирование Правительства Российской Федерации, высших органов исполнительной власти субъектов Российской Федерации, местных администраций | B19: 01 | C19: 04 | I19: =I20+I33 -> 539.1 | J19: =J20+J33 -> 539.1 | K19: =J19/I19*100 -> 100
A20: Обеспечение деятельности администрации | B20: 01 | C20: 04 | D20: 65 | I20: =I21 -> 539 | J20: =J21 -> 539 | K20: =J20/I20*100 -> 100
A21: Непрограммные расходы в рамках обеспечения деятельности администрации | B21: 01 | C21: 04 | D21: 65 | E21: 2 | I21: =I22+I30+I25 -> 539 | J21: =J22+J30+J25 -> 539 | K21: =J21/I21*100 -> 100
A22: Расходы на выплаты по оплате труда работников органов местного самоуправления | B22: 01 | C22: 04 | D22: 65 | E22: 2 | F22: 00 | G22: 41110 | I22: =I23 -> 181.9 | J22: =J23 -> 181.9 | K22: =J22/I22*100 -> 100
A23: Расходы на выплаты персоналу в целях обеспечения выполнения функций государственными (муниципальными) органами, казенными учреждениями, органами управления государственными внебюджетными фондами | B23: 01 | C23: 04 | D23: 65 | E23: 2 | F23: 00 | G23: 41110 | H23: 100 | I23: =I24 -> 181.9 | J23: =J24 -> 181.9 | K23: =J23/I23*100 -> 100
A24: Расходы на выплаты персоналу государственных (муниципальных) органов | B24: 01 | C24: 04 | D24: 65 | E24: 2 | F24: 00 | G24: 41110 | H24: 120 | I24: =Ведомствен!J25 -> 181.9 | J24: =Ведомствен!K25 -> 181.9 | K24: =J24/I24*100 -> 100
A25: Расходы на обеспечение функций органов местного самоуправления | B25: 01 | C25: 04 | D25: 65 | E25: 2 | F25: 00 | G25: 41120 | I25: =I28+I26 -> 176.8 | J25: =J28+J26 -> 176.8 | K25: =J25/I25*100 -> 100
A26: Закупка товаров, работ и услуг для обеспечения государственных (муниципальных) нужд | B26: 01 | C26: 04 | D26: 65 | E26: 2 | F26: 00 | G26: 41120 | H26: 200 | I26: =I27 -> 151.2 | J26: =J27 -> 151.2 | K26: =J26/I26*100 -> 100
A27: Иные закупки товаров, работ и услуг для обеспечения государственных (муниципальных) нужд | B27: 01 | C27: 04 | D27: 65 | E27: 2 | F27: 00 | G27: 41120 | H27: 240 | I27: =Ведомствен!J28 -> 151.2 | J27: =Ведомствен!K28 -> 151.2 | K27: =J27/I27*100 -> 100
A28: Иные бюджетные ассигнования | B28: 01 | C28: 04 | D28: 65 | E28: 2 | F28: 00 | G28: 41120 | H28: 800 | I28: =I29 -> 25.6 | J28: =J29 -> 25.6 | K28: =J28/I28*100 -> 100
A29: Уплата налогов, сборов и иных платежей | B29: 01 | C29: 04 | D29: 65 | E29: 2 | F29: 00 | G29: 41120 | H29: 850 | I29: =Ведомствен!J30 -> 25.6 | J29: =Ведомствен!K30 -> 25.6 | K29: =J29/I29*100 -> 100
A30: Субсидии на софинансирование расходных обязательств по финансовому обеспечению деятельности органов местного самоуправления и муниципальных учреждений | B30: 01 | C30: 04 | D30: 65 | E30: 2 | F30: 00 | G30: 44205 | I30: =I31 -> 180.3 | J30: =J31 -> 180.3 | K30: =J30/I30*100 -> 100
A31: Расходы на выплаты персоналу в целях обеспечения выполнения функций государственными (муниципальными) органами, казенными учреждениями, органами управления государственными внебюджетными фондами | B31: 01 | C31: 04 | D31: 65 | E31: 2 | F31: 00 | G31: 44205 | H31: 100 | I31: =I32 -> 180.3 | J31: =J32 -> 180.3 | K31: =J31/I31*100 -> 100
A32: Расходы на выплаты персоналу государственных (муниципальных) органов | B32: 01 | C32: 04 | D32: 65 | E32: 2 | F32: 00 | G32: 44205 | H32: 120 | I32: =Ведомствен!J33 -> 180.3 | J32: =Ведомствен!K33 -> 180.3 | K32: =J32/I32*100 -> 100
A33: Непрограммные расходы главных распорядителей средств бюджета Адашевского сельского поселения Кадошкинского муниципального района Республики Мордовия | B33: 01 | C33: 04 | D33: 89 | I33: =I34 -> 0.1 | J33: =J34 -> 0.1 | K33: =J33/I33*100 -> 100
A34: Непрограммные расходы в рамках обеспечения деятельности главных распорядителей средств бюджета Адашевского сельского поселения Кадошкинского муниципального района Республики Мордовия | B34: 01 | C34: 04 | D34: 89 | E34: 1 | I34: =I35 -> 0.1 | J34: =J35 -> 0.1 | K34: =J34/I34*100 -> 100
A35: Осуществление государственных полномочий Республики Мордовия по определению перечня должностных лиц, уполномоченных составлять протоколы об административных правонарушениях, предусмотренных Законом Республики Мордовия от 15 июня 2015 года № 38-З "Об административной ответственности на территории Республики Мордовия" | B35: 01 | C35: 04 | D35: 89 | E35: 1 | F35: 00 | G35: 77150 | I35: =I36 -> 0.1 | J35: =J36 -> 0.1 | K35: =J35/I35*100 -> 100
A36: Закупка товаров, работ и услуг для обеспечения государственных (муниципальных) нужд | B36: 01 | C36: 04 | D36: 89 | E36: 1 | F36: 00 | G36: 77150 | H36: 200 | I36: =I37 -> 0.1 | J36: =J37 -> 0.1 | K36: =J36/I36*100 -> 100
A37: Иные закупки товаров, работ и услуг для обеспечения государственных (муниципальных) нужд | B37: 01 | C37: 04 | D37: 89 | E37: 1 | F37: 00 | G37: 77150 | H37: 240 | I37: =Ведомствен!J38 -> 0.1 | J37: =Ведомствен!K38 -> 0.1 | K37: =J37/I37*100 -> 100
A38: Резервные фонды | B38: 01 | C38: 11 | I38: =I39 -> 1 | J38: =J39 -> 0 | K38: =J38/I38*100 -> 0
A39: Непрограммные расходы главных распорядителей средств бюджета Адашевского сельского поселения Кадошкинского муниципального района Республики Мордовия | B39: 01 | C39: 11 | D39: 89 | I39: =I40 -> 1 | J39: =J40 -> 0 | K39: =J39/I39*100 -> 0
A40: Непрограммные расходы в рамках обеспечения деятельности главных распорядителей средств бюджета Адашевского сельского поселения Кадошкинского муниципального района Республики Мордовия | B40: 01 | C40: 11 | D40: 89 | E40: 1 | I40: =I41 -> 1 | J40: =J41 -> 0 | K40: =J40/I40*100 -> 0
A41: Резервный фонд администрации Адашевского сельского поселения Кадошкинского муниципального района Республики Мордовия | B41: 01 | C41: 11 | D41: 89 | E41: 1 | F41: 00 | G41: 41180 | I41: =I42 -> 1 | J41: =J42 -> 0 | K41: =J41/I41*100 -> 0
A42: Иные бюджетные ассигнования | B42: 01 | C42: 11 | D42: 89 | E42: 1 | F42: 00 | G42: 41180 | H42: 800 | I42: =I43 -> 1 | J42: =J43 -> 0 | K42: =J42/I42*100 -> 0
...

Sheet Ведомствен
H1: Приложение 3
A3: ВЕДОМСТВЕННАЯ СТРУКТУРА РАСХОДОВ БЮДЖЕТА АДАШЕВСКОГО СЕЛЬСКОГО ПОСЕЛЕНИЯ КАДОШКИНСКОГО МУНИЦИПАЛЬНОГО РАЙОНА РЕСПУБЛИКИ МОРДОВИЯ НА 2020 ГОД
A5: Наименование | B5: Адм | C5: Рз | D5: ПРз | E5: ЦСР | I5: ВР | J5: Сумма (тыс. рублей)
J6: план 2020 | K6: фактическое исполнение 2020 | L6: % исполнения
A7: 1 | B7: 2 | C7: 3 | D7: 4 | E7: 5 | F7: 6 | G7: 7 | H7: 8 | I7: 9 | J7: 10 | K7: 11 | L7: 12
A8: ВСЕГО | J8: =J9 -> 1809.7 | K8: =K9 -> 1695.2 | L8: =K8/J8*100 -> 93.672984
A9: Администрация Адашевского сельского поселения Кадошкинского муниципального района Республики Мордовия | B9: 910 | J9: =J10+J45+J54+J61+J82+J89 -> 1809.7 | K9: =K10+K45+K54+K61+K82+K89 -> 1695.2 | L9: =K9/J9*100 -> 93.672984
A10: Общегосударственные вопросы | B10: 910 | C10: 01 | J10: =J11+J20+J39 -> 981.2 | K10: =K11+K20+K39 -> 980.2 | L10: =K10/J10*100 -> 99.898084
A11: Функционирование высшего должностного лица субъекта Российской Федерации и муниципального образования | B11: 910 | C11: 01 | D11: 02 | J11: =J12 -> 441.1 | K11: =K12 -> 441.1 | L11: =K11/J11*100 -> 100
A12: Обеспечение деятельности администрации | B12: 910 | C12: 01 | D12: 02 | E12: 65 | J12: =J13 -> 441.1 | K12: =K13 -> 441.1 | L12: =K12/J12*100 -> 100
A13: Высшее должностное лицо | B13: 910 | C13: 01 | D13: 02 | E13: 65 | F13: 1 | J13: =J14+J17 -> 441.1 | K13: =K14+K17 -> 441.1 | L13: =K13/J13*100 -> 100
A14: Расходы на выплаты по оплате труда высшего должностного лица | B14: 910 | C14: 01 | D14: 02 | E14: 65 | F14: 1 | G14: 00 | H14: 41150 | J14: =J15 -> 241.2 | K14: =K15 -> 241.2 | L14: =K14/J14*100 -> 100
A15: Расходы на выплаты персоналу в целях обеспечения выполнения функций государственными (муниципальными) органами, казенными учреждениями, органами управления государственными внебюджетными фондами | B15: 910 | C15: 01 | D15: 02 | E15: 65 | F15: 1 | G15: 00 | H15: 41150 | I15: 100 | J15: =J16 -> 241.2 | K15: =K16 -> 241.2 | L15: =K15/J15*100 -> 100
A16: Расходы на выплаты персоналу государственных (муниципальных) органов | B16: 910 | C16: 01 | D16: 02 | E16: 65 | F16: 1 | G16: 00 | H16: 41150 | I16: 120 | J16: 241.2 | K16: 241.2 | L16: =K16/J16*100 -> 100
A17: Субсидии на софинансирование расходных обязательств по финансовому обеспечению деятельности органов местного самоуправления и муниципальных учреждений | B17: 910 | C17: 01 | D17: 02 | E17: 65 | F17: 1 | G17: 00 | H17: 44205 | J17: =J18 -> 199.9 | K17: =K18 -> 199.9 | L17: =K17/J17*100 -> 100
A18: Расходы на выплаты персоналу в целях обеспечения выполнения функций государственными (муниципальными) органами, казенными учреждениями, органами управления государственными внебюджетными фондами | B18: 910 | C18: 01 | D18: 02 | E18: 65 | F18: 1 | G18: 00 | H18: 44205 | I18: 100 | J18: =J19 -> 199.9 | K18: =K19 -> 199.9 | L18: =K18/J18*100 -> 100
A19: Расходы на выплаты персоналу государственных (муниципальных) органов | B19: 910 | C19: 01 | D19: 02 | E19: 65 | F19: 1 | G19: 00 | H19: 44205 | I19: 120 | J19: 199.9 | K19: 199.9 | L19: =K19/J19*100 -> 100
A20: Функционирование Правительства Российской Федерации, высших органов исполнительной власти субъектов Российской Федерации, местных администраций | B20: 910 | C20: 01 | D20: 04 | J20: =J21+J34 -> 539.1 | K20: =K21+K34 -> 539.1 | L20: =K20/J20*100 -> 100
A21: Обеспечение деятельности администрации | B21: 910 | C21: 01 | D21: 04 | E21: 65 | J21: =J22 -> 539 | K21: =K22 -> 539 | L21: =K21/J21*100 -> 100
A22: Непрограммные расходы в рамках обеспечения деятельности администрации | B22: 910 | C22: 01 | D22: 04 | E22: 65 | F22: 2 | J22: =J24+J26+J31 -> 539 | K22: =K24+K26+K31 -> 539 | L22: =K22/J22*100 -> 100
A23: Расходы на выплаты по оплате труда работников органов местного самоуправления | B23: 910 | C23: 01 | D23: 04 | E23: 65 | F23: 2 | G23: 00 | H23: 41110 | J23: =J24 -> 181.9 | K23: =K24 -> 181.9 | L23: =K23/J23*100 -> 100
A24: Расходы на выплаты персоналу в целях обеспечения выполнения функций государственными (муниципальными) органами, казенными учреждениями, органами управления государственными внебюджетными фондами | B24: 910 | C24: 01 | D24: 04 | E24: 65 | F24: 2 | G24: 00 | H24: 41110 | I24: 100 | J24: =J25 -> 181.9 | K24: =K25 -> 181.9 | L24: =K24/J24*100 -> 100
A25: Расходы на выплаты персоналу государственных (муниципальных) органов | B25: 910 | C25: 01 | D25: 04 | E25: 65 | F25: 2 | G25: 00 | H25: 41110 | I25: 120 | J25: 181.9 | K25: 181.9 | L25: =K25/J25*100 -> 100
A26: Расходы на обеспечение функций органов местного самоуправления | B26: 910 | C26: 01 | D26: 04 | E26: 65 | F26: 2 | G26: 00 | H26: 41120 | J26: =J29+J27 -> 176.8 | K26: =K29+K27 -> 176.8 | L26: =K26/J26*100 -> 100
A27: Закупка товаров, работ и услуг для обеспечения государственных (муниципальных) нужд | B27: 910 | C27: 01 | D27: 04 | E27: 65 | F27: 2 | G27: 00 | H27: 41120 | I27: 200 | J27: =J28 -> 151.2 | K27: =K28 -> 151.2 | L27: =K27/J27*100 -> 100
A28: Иные закупки товаров, работ и услуг для обеспечения государственных (муниципальных) нужд | B28: 910 | C28: 01 | D28: 04 | E28: 65 | F28: 2 | G28: 00 | H28: 41120 | I28: 240 | J28: 151.2 | K28: 151.2 | L28: =K28/J28*100 -> 100
A29: Иные бюджетные ассигнования | B29: 910 | C29: 01 | D29: 04 | E29: 65 | F29: 2 | G29: 00 | H29: 41120 | I29: 800 | J29: =J30 -> 25.6 | K29: =K30 -> 25.6 | L29: =K29/J29*100 -> 100
A30: Уплата налогов, сборов и иных платежей | B30: 910 | C30: 01 | D30: 04 | E30: 65 | F30: 2 | G30: 00 | H30: 41120 | I30: 850 | J30: 25.6 | K30: 25.6 | L30: =K30/J30*100 -> 100
A31: Субсидии на софинансирование расходных обязательств по финансовому обеспечению деятельности органов местного самоуправления и муниципальных учреждений | B31: 910 | C31: 01 | D31: 04 | E31: 65 | F31: 2 | G31: 00 | H31: 44205 | J31: =J32 -> 180.3 | K31: =K32 -> 180.3 | L31: =K31/J31*100 -> 100
A32: Расходы на выплаты персоналу в целях обеспечения выполнения функций государственными (муниципальными) органами, казенными учреждениями, органами управления государственными внебюджетными фондами | B32: 910 | C32: 01 | D32: 04 | E32: 65 | F32: 2 | G32: 00 | H32: 44205 | I32: 100 | J32: =J33 -> 180.3 | K32: =K33 -> 180.3 | L32: =K32/J32*100 -> 100
A33: Расходы на выплаты персоналу государственных (муниципальных) органов | B33: 910 | C33: 01 | D33: 04 | E33: 65 | F33: 2 | G33: 00 | H33: 44205 | I33: 120 | J33: 180.3 | K33: 180.3 | L33: =K33/J33*100 -> 100
A34: Непрограммные расходы главных распорядителей средств бюджета Адашевского сельского поселения Кадошкинского муниципального района Республики Мордовия | B34: 910 | C34: 01 | D34: 04 | E34: 89 | J34: =J35 -> 0.1 | K34: =K35 -> 0.1 | L34: =K34/J34*100 -> 100
A35: Непрограммные расходы в рамках обеспечения деятельности главных распорядителей средств бюджета Адашевского сельского поселения Кадошкинского муниципального района Республики Мордовия | B35: 910 | C35: 01 | D35: 04 | E35: 89 | F35: 1 | J35: =J36 -> 0.1 | K35: =K36 -> 0.1 | L35: =K35/J35*100 -> 100
A36: Осуществление государственных полномочий Республики Мордовия по определению перечня должностных лиц, уполномоченных составлять протоколы об административных правонарушениях, предусмотренных Законом Республики Мордовия от 15 июня 2015 года № 38-З "Об административной ответственности на территории Республики Мордовия" | B36: 910 | C36: 01 | D36: 04 | E36: 89 | F36: 1 | G36: 00 | H36: 77150 | J36: =J37 -> 0.1 | K36: =K37 -> 0.1 | L36: =K36/J36*100 -> 100
A37: Закупка товаров, работ и услуг для обеспечения государственных (муниципальных) нужд | B37: 910 | C37: 01 | D37: 04 | E37: 89 | F37: 1 | G37: 00 | H37: 77150 | I37: 200 | J37: =J38 -> 0.1 | K37: =K38 -> 0.1 | L37: =K37/J37*100 -> 100
A38: Иные закупки товаров, работ и услуг для обеспечения государственных (муниципальных) нужд | B38: 910 | C38: 01 | D38: 04 | E38: 89 | F38: 1 | G38: 00 | H38: 77150 | I38: 240 | J38: 0.1 | K38: 0.1 | L38: =K38/J38*100 -> 100
A39: Резервные фонды | B39: 910 | C39: 01 | D39: 11 | J39: =J40 -> 1 | K39: =K40 -> 0 | L39: =K39/J39*100 -> 0
A40: Непрограммные расходы главных распорядителей средств бюджета Адашевского сельского поселения Кадошкинского муниципального района Республики Мордовия | B40: 910 | C40: 01 | D40: 11 | E40: 89 | J40: =J41 -> 1 | K40: =K41 -> 0 | L40: =K40/J40*100 -> 0
A41: Непрограммные расходы в рамках обеспечения деятельности главных распорядителей средств бюджета Адашевского сельского поселения Кадошкинского муниципального района Республики Мордовия | B41: 910 | C41: 01 | D41: 11 | E41: 89 | F41: 1 | J41: =J42 -> 1 | K41: =K42 -> 0 | L41: =K41/J41*100 -> 0
A42: Резервный фонд администрации Адашевского сельского поселения Кадошкинского муниципального района Республики Мордовия | B42: 910 | C42: 01 | D42: 11 | E42: 89 | F42: 1 | G42: 00 | H42: 41180 | J42: =J43 -> 1 | K42: =K43 -> 0 | L42: =K42/J42*100 -> 0
...

Sheet Источники
D1: Приложение 4
A3: ИСТОЧНИКИ ВНУТРЕННЕГО ФИНАНСИРОВАНИЯ ДЕФИЦИТА БЮДЖЕТА АДАШЕВСКОГО СЕЛЬСКОГО ПОСЕЛЕНИЯ КАДОШКИНСКОГО МУНИЦИПАЛЬНОГО РАЙОНА РЕСПУБЛИКИ МОРДОВИЯ НА 2020 ГОД
A5: Код | B5: НАИМЕНОВАНИЕ | C5: план 2020 | D5: фактическое исполнение 2020
A6: 1 | B6: 2 | C6: 3 | D6: 4
A7: 000 01 00 00 00 00 0000 000 | B7: ИСТОЧНИКИ ВНУТРЕННЕГО ФИНАНСИРОВАНИЯ ДЕФИЦИТОВ БЮДЖЕТОВ | C7: =C8+C15 -> 253.8 | D7: =D15 -> 240.3
A8: 000 01 02 00 00 00 0000 000 | B8: Кредиты кредитных организаций в валюте Российской Федерации | C8: =SUM(C9) -> 0 | D8: =SUM(D9) -> 0
A9: 000 01 02 00 00 00 0000 700 | B9: Получение кредитов от кредитных организаций в валюте Российской Федерации | C9: =SUM(C10) -> 0 | D9: =SUM(D10) -> 0
A10: 000 01 02 00 00 10 0000 710 | B10: Получение кредитов от других бюджетов бюджетной системы Российской Федерации бюджетами сельских поселений в валюте Российской Федерации | C10: 0 | D10: 0
A11: 000 01 03 00 00 00 0000 000 | B11: Бюджетные кредиты от других бюджетов бюджетной системы Российской Федерации | C11: =C12 -> 0 | D11: =D12 -> 0
A12: 000 01 03 01 00 00 0000 000 | B12: Бюджетные кредиты от других бюджетов бюджетной системы Российской Федерации в валюте Российской Федерации | C12: =C13 -> 0 | D12: =D13 -> 0
A13: 000 01 03 01 00 10 0000 800 | B13: Погашение бюджетных кредитов, полученных от других бюджетов бюджетной системы Российской Федерации в валюте Российской Федерации | C13: =SUM(C14) -> 0 | D13: =SUM(D14) -> 0
A14: 000 01 03 01 00 10 0000 810 | B14: Погашение бюджетами сельских поселений кредитов от других бюджетов бюджетной системы Российской Федерации в валюте Российской Федерации | C14: 0 | D14: 0
A15: 000 01 05 00 00 00 0000 000 | B15: Изменения остатков средств на счетах по учету средств бюджета | C15: =C18+C19 -> 253.8 | D15: =D18+D19 -> 240.3
A16: 000 01 05 02 00 00 0000 500 | B16: Увеличение прочих остатков средств бюджетов | C16: =SUM(C17) -> -1555.9 | D16: =SUM(D17) -> -1456.5
A17: 000 01 05 02 01 00 0000 510 | B17: Увеличение прочих остатков денежных средств бюджетов | C17: =SUM(C18) -> -1555.9 | D17: =SUM(D18) -> -1456.5
A18: 000 01 05 02 01 10 0000 510 | B18: Увеличение остатков денежных средств местных бюджетов | C18: =-(Доходы!C9+C10) -> -1555.9 | D18: -1456.5
A19: 000 01 05 02 00 00 0000 600 | B19: Уменьшение прочих остатков средств бюджетов | C19: =SUM(C20) -> 1809.7 | D19: =SUM(D20) -> 1696.8
A20: 000 01 05 02 01 00 0000 610 | B20: Уменьшение прочих остатков денежных средств бюджетов | C20: =SUM(C21) -> 1809.7 | D20: =SUM(D21) -> 1696.8
A21: 000 01 05 02 01 10 0000 610 | B21: Уменьшение прочих остатков денежных средств местных бюджетов | C21: =Функцион!I8 -> 1809.7 | D21: 1696.8
A22: 000 01 00 00 00 00 0000 000 | B22: Итого источников внутреннего финансирования дефицита бюджета Адашевского сельского поселения Кадошкинского муниципального района Республики Мордовия | C22: =C18+C21 -> 253.8 | D22: =D18+D21 -> 240.3
