Workbook
Name _1Excel_BuiltIn_Print_Area_1_1_1: 'Прил 3'!$A$1:$C$35
Name _2Excel_BuiltIn_Print_Area_7_1_1: #REF!
Name _2Excel_BuiltIn_Print_Area_7_1_1: #REF!
Name _Toc105952698: 'Прил 4 '!$A$3
Name _Toc105952698: #REF!
Name Excel_BuiltIn_Print_Area_1: 'Прил 3'!$A$1:$C$35
Name Excel_BuiltIn_Print_Area_1_1: 'Прил 3'!$A$1:$C$35
Name Excel_BuiltIn_Print_Area_2: #REF!
Name Excel_BuiltIn_Print_Area_2: #REF!
Name Excel_BuiltIn_Print_Area_3: 'Прил 1'!$A$1:$C$33
Name Excel_BuiltIn_Print_Area_3_1: #REF!
Name Excel_BuiltIn_Print_Area_3_1: #REF!
Name Excel_BuiltIn_Print_Area_4: #REF!
Name Excel_BuiltIn_Print_Area_4: #REF!
Name Excel_BuiltIn_Print_Area_5: 'Прил 4 '!$A$1:$I$57
Name Excel_BuiltIn_Print_Area_5: #REF!
Name Excel_BuiltIn_Print_Area_5_1: 'Прил 4 '!$A$1:$I$57
Name Excel_BuiltIn_Print_Area_5_1: #REF!
Name Excel_BuiltIn_Print_Area_6: 'Прил 5'!$A$1:$G$60
Name Excel_BuiltIn_Print_Area_6_1: 'Прил 5'!$A$1:$G$60
Name Excel_BuiltIn_Print_Area_7: #REF!
Name Excel_BuiltIn_Print_Area_7: #REF!
Name Excel_BuiltIn_Print_Area_7_1: #REF!
Name Excel_BuiltIn_Print_Area_7_1: #REF!

Sheet Прил 1
C1: Приложение 1
C2: к решению сессии Совета депутатов Пушкинского сельского поселения "О бюджете Паевского сельского поселения Кадошкинского муниципального района Республики Мордовия на 2021 год и на плановый период 2022 и 2023 годов"
A3: ПЕРЕЧЕНЬ АДМИНИСТРАТОРОВ ДОХОДОВ БЮДЖЕТА ПУШКИНСКОГО СЕЛЬСКОГО ПОСЕЛЕНИЯ КАДОШКИНСКОГО МУНИЦИПАЛЬНОГО РАЙОНА РЕСПУБЛИКИ МОРДОВИЯ
A5: Код бюджетной классификации Российской Федерации | C5: Наименование доходов бюджета
A6: админи- стратора доходов | B6: доходов бюджета
A7: 1 | B7: 2 | C7: 3
A9: 919 | B9: Администрация Пушкинского сельского поселения Кадошкинского муниципального района Республики Мордовия
A11: 919 | B11: 1 08 04020 01 1000 110 | C11: Государственная пошлина за совершение нотариальных действий должностными лицами органов местного самоуправления, уполномоченными в соответствии с законодательными актами Российской Федерации на совершение нотариальных действий
A12: 919 | B12: 1 08 04020 01 4000 110 | C12: Государственная пошлина за совершение нотариальных действий должностными лицами органов местного самоуправления, уполномоченными в соответствии с законодательными актами Российской Федерации на совершение нотариальных действий (прочие поступления)
A13: 919 | B13: 1 11 02033 10 0000 120 | C13: Доходы от размещения временно свободных средств бюджетов сельских поселений
A14: 919 | B14: 1 11 05025 10 0000 120 | C14: Доходы, получаемые в виде арендной платы, а также средства от продажи права на заключение договоров аренды за земли, находящиеся в собственности сельских поселений (за исключением земельных участков муниципальных бюджетных и автономных учреждений)
A15: 919 | B15: 1 11 09045 10 0000 120 | C15: Прочие поступления от использования имущества, находящегося в собственности сельских поселений (за исключением имущества муниципальных бюджетных и автономных учреждений, а также имущества муниципальных унитарных предприятий, в том числе казенных)
A16: 919 | B16: 1 13 01995 10 0000 130 | C16: Прочие доходы от оказания платных услуг (работ) получателями средств бюджетов сельских поселений
A17: 919 | B17: 1 13 02995 10 0000 130 | C17: Прочие доходы от компенсации затрат бюджетов сельских поселений
A18: 919 | B18: 1 14 02052 10 0000 410 | C18: Доходы от реализации имущества, находящегося в оперативном управлении учреждений, находящихся в ведении органов управления сельских поселений (за исключением имущества муниципальных бюджетных и автономных учреждений), в части реализации основных средств по указанному имуществу
A19: 919 | B19: 1 14 02052 10 0000 440 | C19: Доходы от реализации имущества, находящегося в оперативном управлении учреждений, находящихся в ведении органов управления сельских поселений (за исключением имущества муниципальных бюджетных и автономных учреждений), в части реализации материальных запасов по указанному имуществу
A20: 919 | B20: 1 14 02053 10 0000 410 | C20: Доходы от реализации иного имущества, находящегося в собственности сельских поселений (за исключением имущества муниципальных бюджетных и автономных учреждений, а также имущества муниципальных унитарных предприятий, в том числе казенных), в части реализации основных средств по указанному имуществу
A21: 919 | B21: 1 14 02053 10 0000 440 | C21: Доходы от реализации иного имущества, находящегося в собственности сельских поселений (за исключением имущества муниципальных бюджетных и автономных учреждений, а также имущества муниципальных унитарных предприятий, в том числе казенных), в части реализации материальных запасов по указанному имуществу
A22: 919 | B22: 1 14 06025 10 0000 430 | C22: Доходы от продажи земельных участков, находящихся в собственности сельских поселений (за исключением земельных участков муниципальных бюджетных и автономных учреждений)
... A38: 919 | B38: 2 08 05000 10 0000 150 | C38: Перечисления из бюджетов сельских поселений (в бюджеты поселений) для осуществления возврата (зачета) излишне уплаченных или излишне взысканных сумм налогов, сборов и иных платежей, а также сумм процентов за несвоевременное осуществление такого возврата и процентов, начисленных на излишне взысканные суммы

Sheet Прил 2
C1: Приложение 2
C2: к решению сессии Совета депутатов Пушкинского сельского поселения "О бюджете Паевского сельского поселения Кадошкинского муниципального района Республики Мордовия на 2021 год и на плановый период 2022 и 2023 годов"
A3: ПЕРЕЧЕНЬ ГЛАВНЫХ АДМИНИСТРАТОРОВ ИСТОЧНИКОВ ФИНАНСИРОВАНИЯ ДЕФИЦИТА БЮДЖЕТА ПУШКИНСКОГО СЕЛЬСКОГО ПОСЕЛЕНИЯ КАДОШКИНСКОГО МУНИЦИПАЛЬНОГО РАЙОНА РЕСПУБЛИКИ МОРДОВИЯ
A6: Код бюджетной классификации Российской Федерации | C6: Наименование главного администратора источника финансирования бюджета
A7: админи- стратора | B7: источников внутреннего финансирования дефицита бюджета
A8: 1 | B8: 2 | C8: 3
A9: 919 | C9: Администрация Пушкинского сельского поселения Кадошкинского муниципального района
A10: 919 | B10: 01 02 00 00 10 0000 710 | C10: Получение кредитов от других бюджетов бюджетной системы Российской Федерации бюджетами сельских поселений в валюте Российской Федерации
A11: 919 | B11: 01 03 01 00 10 0000 810 | C11: Погашение бюджетами сельских поселений кредитов от других бюджетов бюджетной системы Российской Федерации в валюте Российской Федерации

Sheet Прил 3
D1: Приложение 3
C2: к решению сессии Совета депутатов Пушкинского сельского поселения "О бюджете Паевского сельского поселения Кадошкинского муниципального района Республики Мордовия на 2021 год и на плановый период 2022 и 2023 годов"
A3: ДОХОДЫ БЮДЖЕТА ПУШКИНСКОГО СЕЛЬСКОГО ПОСЕЛЕНИЯ КАДОШКИНСКОГО МУНИЦИПАЛЬНОГО РАЙОНА РЕСПУБЛИКИ МОРДОВИЯ
C5: (тыс.рублей)
A6: Код бюджетной классификации доходов бюджета | B6: Наименование доходов | C6: Сумма
C7: 2021 год | D7: 2022 год | E7: 2023 год
A8: 1 | B8: 2 | C8: 3 | D8: 4 | E8: 5
B9: ВСЕГО ДОХОДОВ | C9: =SUM(C10+C25) -> 2417.83 | D9: =SUM(D10+D25) -> 1764.3 | E9: =SUM(E10+E25) -> 1975.8
A10: 00010000000000000000 | B10: НАЛОГОВЫЕ И НЕНАЛОГОВЫЕ ДОХОДЫ | C10: =SUM(C11+C14+C16+C18+C21+C23) -> 1028 | D10: =SUM(D11+D14+D16+D18+D21+D23) -> 1006.1 | E10: =SUM(E11+E14+E16+E18+E21+E23) -> 1194.6
A11: 00010100000000000000 | B11: НАЛОГИ НА ПРИБЫЛЬ, ДОХОДЫ | C11: =SUM(C12) -> 22.7 | D11: =SUM(D12) -> 23.6 | E11: =SUM(E12) -> 24.6
A12: 00010102000010000110 | B12: Налог на доходы физических лиц | C12: =SUM(C13) -> 22.7 | D12: =SUM(D13) -> 23.6 | E12: =SUM(E13) -> 24.6
A13: 18210102010010000110 | B13: Налог на доходы физических лиц с доходов, источником которых является налоговый агент, за исключением доходов, в отношении которых исчисление и уплата налога осуществляются в соответствии со статьями 227, 2271 и 228 Налогового кодекса Российской Федерации | C13: 22.7 | D13: 23.6 | E13: 24.6
A14: 00010500000000000000 | B14: НАЛОГИ НА СОВОКУПНЫЙ ДОХОД | C14: =SUM(C15) -> 0 | D14: =SUM(D15) -> 6.3 | E14: =SUM(E15) -> 6.5
A15: 18210503010010000110 | B15: Единый сельскохозяйственный налог | C15: 0 | D15: 6.3 | E15: 6.5
A16: 00010600000000000000 | B16: НАЛОГИ НА ИМУЩЕСТВО | C16: =SUM(C17) -> 29 | D16: =SUM(D17) -> 30 | E16: =SUM(E17) -> 31
A17: 18210601030100000110 | B17: Налог на имущество физических лиц, взимаемый по ставкам, применяемым к объектам налогообложения, расположенным в границах сельских поселений | C17: 29 | D17: 30 | E17: 31
A18: 00010606000000000110 | B18: Земельный налог | C18: =SUM(C19+C20) -> 688 | D18: =SUM(D19+D20) -> 815 | E18: =SUM(E19+E20) -> 996
A19: 18210606033100000110 | B19: Земельный налог с организаций, обладающих земельным участком, расположенным в границах сельских поселений | C19: 510 | D19: 655 | E19: 836
A20: 18210606043100000110 | B20: Земельный налог с физических лиц, обладающих земельным участком, расположенным в границах сельских поселений | C20: 178 | D20: 160 | E20: 160
A21: 00011100000000000000 | B21: ДОХОДЫ ОТ ИСПОЛЬЗОВАНИЯ ИМУЩЕСТВА, НАХОДЯЩЕГОСЯ В ГОСУДАРСТВЕННОЙ И МУНИЦИПАЛЬНОЙ СОБСТВЕННОСТИ | C21: =SUM(C22) -> 126.3 | D21: =SUM(D22) -> 131.2 | E21: =SUM(E22) -> 136.5
A22: 91911105025100000120 | B22: Доходы, получаемые в виде арендной платы, а также средства от продажи права на заключение договоров аренды за земли, находящиеся в собственности сельских поселений (за исключением земельных участков муниципальных бюджетных и автономных учреждений) | C22: 126.3 | D22: 131.2 | E22: 136.5
A23: 00011400000000000000 | B23: ДОХОДЫ ОТ ПРОДАЖИ МАТЕРИАЛЬНЫХ И НЕМАТЕРИАЛЬНЫХ АКТИВОВ | C23: =SUM(C24) -> 162 | D23: =SUM(D24) -> 0 | E23: =SUM(E24) -> 0
A24: 91911406025100000430 | B24: Доходы от продажи земельных участков, находящихся в собственности сельских поселений (за исключением земельных участков муниципальных бюджетных и автономных учреждений) | C24: 162 | D24: 0 | E24: 0
A25: 00020200000000000000 | B25: БЕЗВОЗМЕЗДНЫЕ ПОСТУПЛЕНИЯ ОТ ДРУГИХ БЮДЖЕТОВ БЮДЖЕТНОЙ СИСТЕМЫ РОССИЙСКОЙ ФЕДЕРАЦИИ | C25: =SUM(C31+C34+C26+C29) -> 1389.83 | D25: =SUM(D31+D34+D26+D29) -> 758.2 | E25: =SUM(E31+E34+E26+E29) -> 781.2
A26: 00020210000000000150 | B26: Дотации бюджетам бюджетной системы Российской Федерации | C26: =C27+C28 -> 296.9 | D26: =D27+D28 -> 0 | E26: =E27+E28 -> 0
A27: 91920215001100000150 | B27: Дотации бюджетам сельских поселений на выравнивание бюджетной обеспеченности | C27: 40.9 | D27: 0 | E27: 0
A28: 91920215002100000150 | B28: Дотации бюджетам сельских поселений на поддержку мер по обеспечению сбалансированности бюджетов | C28: 256 | D28: 0 | E28: 0
A29: 00020220000000000150 | B29: Субсидии бюджетам бюджетной системы Российской Федерации (межбюджетные субсидии) | C29: =C30 -> 192 | D29: =D30 -> 0 | E29: =E30 -> 0
A30: 91920229999100000150 | B30: Прочие субсидии бюджетам сельских поселений | C30: 192 | D30: 0 | E30: 0
A31: 00020230000000000150 | B31: Субвенции бюджетам бюджетной системы Российской Федерации | C31: =SUM(C32+C33) -> 86.9 | D31: =SUM(D32+D33) -> 87.5 | E31: =SUM(E32+E33) -> 90.2
A32: 91920230024100000150 | B32: Субвенции на осуществление государственных полномочий Республики Мордовия по определению перечня должностных лиц, уполномоченных составлять протоколы об административных правонарушениях, предусмотренных Законом Республики Мордовия от 15 июня 2015 года № 38-З "Об административной ответственности на территории Республики Мордовия" | C32: 0.1 | D32: 0.1 | E32: 0.1
A33: 91920235118100000150 | B33: Субвенции бюджетам сельских поселений на осуществление первичного воинского учета на территориях, где отсутствуют военные комиссариаты | C33: 86.8 | D33: 87.4 | E33: 90.1
A34: 00020240000000000150 | B34: Иные межбюджетные трансферты | C34: =C35+C36 -> 814.03 | D34: =D35+D36 -> 670.7 | E34: =E35+E36 -> 691
A35: 91920240014100000150 | B35: Межбюджетные трансферты, передаваемые бюджетам сельских поселений из бюджетов муниципальных районов на осуществление части полномочий по решению вопросов местного значения в соответствии с заключенными соглашениями | C35: =628.4+0.4+40+117.2 -> 786 | D35: =670.3+0.4 -> 670.7 | E35: =690.6+0.4 -> 691
A36: 91920249999100000150 | B36: Прочие межбюджетные трансферты, передаваемые бюджетам сельских поселений | C36: 28.03 | D36: 0 | E36: 0

Sheet Прил 4 
I1: Приложение 4
I2: к решению сессии Совета депутатов Пушкинского сельского поселения "О бюджете Пушкинского сельского поселения Кадошкинского муниципального района Республики Мордовия на 2021 год и на плановый период 2022 и 2023 годов"
A3: РАСПРЕДЕЛЕНИЕ БЮДЖЕТНЫХ АССИГНОВАНИЙ БЮДЖЕТА ПУШКИНСКОГО СЕЛЬСКОГО ПОСЕЛЕНИЯ КАДОШКИНСКОГО МУНИЦИПАЛЬНОГО РАЙОНА РЕСПУБЛИКИ МОРДОВИЯ ПО РАЗДЕЛАМ, ПОДРАЗДЕЛАМ, ЦЕЛЕВЫМ СТАТЬЯМ, ГРУППАМ (ГРУППАМ И ПОДГРУППАМ) ВИДОВ РАСХОДОВ КЛАССИФИКАЦИИ РАСХОДОВ БЮДЖЕТОВ НА 2021 ГОД И НА ПЛАНОВЫЙ ПЕРИОД 2022 И 2023 ГОДОВ
A5: Наименование | B5: Рз | C5: ПР | D5: ЦСР | H5: ВР | I5: Сумма (тыс. рублей)
I6: 2021 год | J6: 2022 год | K6: 2023 год
A7: 1 | B7: 2 | C7: 3 | D7: 4 | E7: 5 | F7: 6 | G7: 7 | H7: 8 | I7: 9 | J7: 10 | K7: 11
A8: ВСЕГО | I8: =I9+I60+I79+I85+I101+I108 -> 2469.23 | J8: =J9+J60+J79+J85+J101+J108+J115 -> 1764.3 | K8: =K9+K60+K79+K85+K101+K108+K115 -> 1975.8
A9: Общегосударственные вопросы | B9: 01 | I9: =I10+I19+I45+I51+I69+I39 -> 1244.23 | J9: =J10+J19+J45+J51+J69 -> 739.6 | K9: =K10+K19+K45+K51+K69 -> 857.8
A10: Функционирование высшего должностного лица субъекта Российской Федерации и муниципального образования | B10: 01 | C10: 02 | I10: =I11 -> 444.1 | J10: =J11 -> 234.2 | K10: =K11 -> 295.95
A11: Обеспечение деятельности администрации | B11: 01 | C11: 02 | D11: 65 | I11: =I12 -> 444.1 | J11: =J12 -> 234.2 | K11: =K12 -> 295.95
A12: Высшее должностное лицо | B12: 01 | C12: 02 | D12: 65 | E12: 1 | I12: =I13+I16 -> 444.1 | J12: =J13+J16 -> 234.2 | K12: =K13+K16 -> 295.95
A13: Расходы на выплаты по оплате труда высшего должностного лица | B13: 01 | C13: 02 | D13: 65 | E13: 1 | F13: 00 | G13: 41150 | I13: =I14 -> 343.4 | J13: =J14 -> 234.2 | K13: =K14 -> 295.95
A14: Расходы на выплаты персоналу в целях обеспечения выполнения функций государственными (муниципальными) органами, казенными учреждениями, органами управления государственными внебюджетными фондами | B14: 01 | C14: 02 | D14: 65 | E14: 1 | F14: 00 | G14: 41150 | H14: 100 | I14: =I15 -> 343.4 | J14: =J15 -> 234.2 | K14: =K15 -> 295.95
A15: Расходы на выплаты персоналу государственных (муниципальных) органов | B15: 01 | C15: 02 | D15: 65 | E15: 1 | F15: 00 | G15: 41150 | H15: 120 | I15: ='Прил 5'!J16 -> 343.4 | J15: ='Прил 5'!K16 -> 234.2 | K15: ='Прил 5'!L16 -> 295.95
A16: Субсидии на софинансирование расходных обязательств по финансовому обеспечению деятельности органов местного самоуправления и муниципальных учреждений | B16: 01 | C16: 02 | D16: 65 | E16: 1 | F16: 00 | G16: 44205 | I16: =I17 -> 100.7 | J16: =J17 -> 0 | K16: =K17 -> 0
A17: Расходы на выплаты персоналу в целях обеспечения выполнения функций государственными (муниципальными) органами, казенными учреждениями, органами управления государственными внебюджетными фондами | B17: 01 | C17: 02 | D17: 65 | E17: 1 | F17: 00 | G17: 44205 | H17: 100 | I17: =I18 -> 100.7 | J17: =J18 -> 0 | K17: =K18 -> 0
A18: Расходы на выплаты персоналу государственных (муниципальных) органов | B18: 01 | C18: 02 | D18: 65 | E18: 1 | F18: 00 | G18: 44205 | H18: 120 | I18: ='Прил 5'!J19 -> 100.7 | J18: ='Прил 5'!K19 -> 0 | K18: ='Прил 5'!L19 -> 0
A19: Функционирование Правительства Российской Федерации, высших органов исполнительной власти субъектов Российской Федерации, местных администраций | B19: 01 | C19: 04 | I19: =I20+I34 -> 766.6 | J19: =J20+J34 -> 502.9 | K19: =K20+K34 -> 560.85
A20: Обеспечение деятельности администрации | B20: 01 | C20: 04 | D20: 65 | I20: =I21 -> 766.5 | J20: =J21 -> 502.8 | K20: =K21 -> 560.75
A21: Непрограммные расходы в рамках обеспечения деятельности администрации | B21: 01 | C21: 04 | D21: 65 | E21: 2 | I21: =I22+I25+I31 -> 766.5 | J21: =J22+J25+J31 -> 502.8 | K21: =K22+K25+K31 -> 560.75
A22: Расходы на выплаты по оплате труда работников органов местного самоуправления | B22: 01 | C22: 04 | D22: 65 | E22: 2 | F22: 00 | G22: 41110 | I22: =I23 -> 417.8 | J22: =J23 -> 479.1 | K22: =K23 -> 458.35
A23: Расходы на выплаты персоналу в целях обеспечения выполнения функций государственными (муниципальными) органами, казенными учреждениями, органами управления государственными внебюджетными фондами | B23: 01 | C23: 04 | D23: 65 | E23: 2 | F23: 00 | G23: 41110 | H23: 100 | I23: =I24 -> 417.8 | J23: =J24 -> 479.1 | K23: =K24 -> 458.35
A24: Расходы на выплаты персоналу государственных (муниципальных) органов | B24: 01 | C24: 04 | D24: 65 | E24: 2 | F24: 00 | G24: 41110 | H24: 120 | I24: ='Прил 5'!J25 -> 417.8 | J24: ='Прил 5'!K25 -> 479.1 | K24: ='Прил 5'!L25 -> 458.35
A25: Расходы на обеспечение функций органов местного самоуправления | B25: 01 | C25: 04 | D25: 65 | E25: 2 | F25: 00 | G25: 41120 | I25: =I26+I28 -> 257.4 | J25: =J26+J28 -> 23.7 | K25: =K26+K28 -> 102.4
A26: Закупка товаров, работ и услуг для обеспечения государственных (муниципальных) нужд | B26: 01 | C26: 04 | D26: 65 | E26: 2 | F26: 00 | G26: 41120 | H26: 200 | I26: =I27 -> 220.9 | J26: =J27 -> 11.7 | K26: =K27 -> 90.4
A27: Иные закупки товаров, работ и услуг для обеспечения государственных (муниципальных) нужд | B27: 01 | C27: 04 | D27: 65 | E27: 2 | F27: 00 | G27: 41120 | H27: 240 | I27: ='Прил 5'!J28 -> 220.9 | J27: ='Прил 5'!K28 -> 11.7 | K27: ='Прил 5'!L28 -> 90.4
A28: Иные бюджетные ассигнования | B28: 01 | C28: 04 | D28: 65 | E28: 2 | F28: 00 | G28: 41120 | H28: 800 | I28: =I30+I29 -> 36.5 | J28: =J30+J29 -> 12 | K28: =K30+K29 -> 12
A29: Исполнение судебных актов | B29: 01 | C29: 04 | D29: 65 | E29: 2 | F29: 00 | G29: 41120 | H29: 830 | I29: ='Прил 5'!J30 -> 1 | J29: ='Прил 5'!K30 -> 0 | K29: ='Прил 5'!L30 -> 0
A30: Уплата налогов, сборов и иных платежей | B30: 01 | C30: 04 | D30: 65 | E30: 2 | F30: 00 | G30: 41120 | H30: 850 | I30: ='Прил 5'!J31 -> 35.5 | J30: ='Прил 5'!K31 -> 12 | K30: ='Прил 5'!L31 -> 12
A31: Субсидии на софинансирование расходных обязательств по финансовому обеспечению деятельности органов местного самоуправления и муниципальных учреждений | B31: 01 | C31: 04 | D31: 65 | E31: 2 | F31: 00 | G31: 44205 | I31: =I32 -> 91.3 | J31: =J32 -> 0 | K31: =K32 -> 0
A32: Расходы на выплаты персоналу в целях обеспечения выполнения функций государственными (муниципальными) органами, казенными учреждениями, органами управления государственными внебюджетными фондами | B32: 01 | C32: 04 | D32: 65 | E32: 2 | F32: 00 | G32: 44205 | H32: 100 | I32: =I33 -> 91.3 | J32: =J33 -> 0 | K32: =K33 -> 0
A33: Расходы на выплаты персоналу государственных (муниципальных) органов | B33: 01 | C33: 04 | D33: 65 | E33: 2 | F33: 00 | G33: 44205 | H33: 120 | I33: ='Прил 5'!J34 -> 91.3 | J33: ='Прил 5'!K34 -> 0 | K33: ='Прил 5'!L34 -> 0
A34: Непрограммные расходы главных распорядителей средств бюджета Пушкинского сельского поселения Кадошкинского муниципального района Республики Мордовия | B34: 01 | C34: 04 | D34: 89 | I34: =I35 -> 0.1 | J34: =J35 -> 0.1 | K34: =K35 -> 0.1
A35: Непрограммные расходы в рамках обеспечения деятельности главных распорядителей средств бюджета Пушкинского сельского поселения Кадошкинского муниципального района Республики Мордовия | B35: 01 | C35: 04 | D35: 89 | E35: 1 | I35: =I36 -> 0.1 | J35: =J36 -> 0.1 | K35: =K36 -> 0.1
A36: Осуществление государственных полномочий Республики Мордовия по определению перечня должностных лиц, уполномоченных составлять протоколы об административных правонарушениях, предусмотренных Законом Республики Мордовия от 15 июня 2015 года № 38-З "Об административной ответственности на территории Республики Мордовия" | B36: 01 | C36: 04 | D36: 89 | E36: 1 | F36: 00 | G36: 77150 | I36: =I37 -> 0.1 | J36: =J37 -> 0.1 | K36: =K37 -> 0.1
A37: Закупка товаров, работ и услуг для обеспечения государственных (муниципальных) нужд | B37: 01 | C37: 04 | D37: 89 | E37: 1 | F37: 00 | G37: 77150 | H37: 200 | I37: =I38 -> 0.1 | J37: =J38 -> 0.1 | K37: =K38 -> 0.1
A38: Иные закупки товаров, работ и услуг для обеспечения государственных (муниципальных) нужд | B38: 01 | C38: 04 | D38: 89 | E38: 1 | F38: 00 | G38: 77150 | H38: 240 | I38: ='Прил 5'!J39 -> 0.1 | J38: ='Прил 5'!K39 -> 0.1 | K38: ='Прил 5'!L39 -> 0.1
A39: Обеспечение проведения выборов и референдумов | B39: 01 | C39: 07 | I39: =I40 -> 3 | J39: =J40 -> 0 | K39: =K40 -> 0
A40: Непрограммные расходы главных распорядителей средств бюджета Пушкинского сельского поселения Кадошкинского муниципального района Республики Мордовия | B40: 01 | C40: 07 | I40: =I41 -> 3 | J40: =J41 -> 0 | K40: =K41 -> 0
A41: Непрограммные расходы в рамках обеспечения деятельности главных распорядителей средств бюджета Пушкинского сельского поселения Кадошкинского муниципального района Республики Мордовия | B41: 01 | C41: 07 | D41: 89 | E41: 1 | I41: =I42 -> 3 | J41: =J42 -> 0 | K41: =K42 -> 0
...

Sheet Прил 5
H1: Приложение 5
J2: к решению сессии Совета депутатов Пушкинского сельского поселения "О бюджете Пушкинского сельского поселения Кадошкинского муниципального района Республики Мордовия на 2021 год и на плановый период 2022 и 2023 годов"
A3: ВЕДОМСТВЕННАЯ СТРУКТУРА РАСХОДОВ БЮДЖЕТА ПУШКИНСКОГО СЕЛЬСКОГО ПОСЕЛЕНИЯ КАДОШКИНСКОГО МУНИЦИПАЛЬНОГО РАЙОНА РЕСПУБЛИКИ МОРДОВИЯ НА 2021 ГОД И НА ПЛАНОВЫЙ ПЕРИОД 2022 И 2023 ГОДОВ
A5: Наименование | B5: Адм | C5: Рз | D5: ПРз | E5: ЦСР | I5: ВР | J5: Сумма (тыс. рублей)
J6: 2021 год | K6: 2022 год | L6: 2023 год
A7: 1 | B7: 2 | C7: 3 | D7: 4 | E7: 5 | F7: 6 | G7: 7 | H7: 8 | I7: 9 | J7: 10 | K7: 11 | L7: 12
A8: ВСЕГО | J8: =J9 -> 2469.23 | K8: =K9 -> 1764.3 | L8: =L9 -> 1975.8
A9: Администрация Пушкинского сельского поселения Кадошкинского муниципального района Республики Мордовия | B9: 919 | J9: =J10+J61+J80+J86+J102+J109+J70 -> 2469.23 | K9: =K10+K61+K80+K86+K102+K109+K70+K116 -> 1764.3 | L9: =L10+L61+L80+L86+L102+L109+L70+L116 -> 1975.8
A10: Общегосударственные вопросы | B10: 919 | C10: 01 | J10: =J11+J20+J46+J52+J40 -> 1215.92 | K10: =K11+K20+K46+K52+K40 -> 739.6 | L10: =L11+L20+L46+L52+L40 -> 857.8
A11: Функционирование высшего должностного лица субъекта Российской Федерации и муниципального образования | B11: 919 | C11: 01 | D11: 02 | J11: =J12 -> 444.1 | K11: =K12 -> 234.2 | L11: =L12 -> 295.95
A12: Обеспечение деятельности администрации | B12: 919 | C12: 01 | D12: 02 | E12: 65 | J12: =J13 -> 444.1 | K12: =K13 -> 234.2 | L12: =L13 -> 295.95
A13: Высшее должностное лицо | B13: 919 | C13: 01 | D13: 02 | E13: 65 | F13: 1 | J13: =J14+J17 -> 444.1 | K13: =K14+K17 -> 234.2 | L13: =L14+L17 -> 295.95
A14: Расходы на выплаты по оплате труда высшего должностного лица | B14: 919 | C14: 01 | D14: 02 | E14: 65 | F14: 1 | G14: 00 | H14: 41150 | J14: =J15 -> 343.4 | K14: =K15 -> 234.2 | L14: =L15 -> 295.95
A15: Расходы на выплаты персоналу в целях обеспечения выполнения функций государственными (муниципальными) органами, казенными учреждениями, органами управления государственными внебюджетными фондами | B15: 919 | C15: 01 | D15: 02 | E15: 65 | F15: 1 | G15: 00 | H15: 41150 | I15: 100 | J15: =J16 -> 343.4 | K15: =K16 -> 234.2 | L15: =L16 -> 295.95
A16: Расходы на выплаты персоналу государственных (муниципальных) органов | B16: 919 | C16: 01 | D16: 02 | E16: 65 | F16: 1 | G16: 00 | H16: 41150 | I16: 120 | J16: =232+60+51.4 -> 343.4 | K16: 234.2 | L16: 295.95
A17: Субсидии на софинансирование расходных обязательств по финансовому обеспечению деятельности органов местного самоуправления и муниципальных учреждений | B17: 919 | C17: 01 | D17: 02 | E17: 65 | F17: 1 | G17: 00 | H17: 44205 | J17: =J18 -> 100.7 | K17: =K18 -> 0 | L17: =L18 -> 0
A18: Расходы на выплаты персоналу в целях обеспечения выполнения функций государственными (муниципальными) органами, казенными учреждениями, органами управления государственными внебюджетными фондами | B18: 919 | C18: 01 | D18: 02 | E18: 65 | F18: 1 | G18: 00 | H18: 44205 | I18: 100 | J18: =J19 -> 100.7 | K18: =K19 -> 0 | L18: =L19 -> 0
A19: Расходы на выплаты персоналу государственных (муниципальных) органов | B19: 919 | C19: 01 | D19: 02 | E19: 65 | F19: 1 | G19: 00 | H19: 44205 | I19: 120 | J19: 100.7 | K19: 0 | L19: 0
A20: Функционирование Правительства Российской Федерации, высших органов исполнительной власти субъектов Российской Федерации, местных администраций | B20: 919 | C20: 01 | D20: 04 | J20: =J21+J35 -> 766.6 | K20: =K21+K35 -> 502.9 | L20: =L21+L35 -> 560.85
A21: Обеспечение деятельности администрации | B21: 919 | C21: 01 | D21: 04 | E21: 65 | J21: =J22 -> 766.5 | K21: =K22 -> 502.8 | L21: =L22 -> 560.75
A22: Непрограммные расходы в рамках обеспечения деятельности администрации | B22: 919 | C22: 01 | D22: 04 | E22: 65 | F22: 2 | J22: =J24+J26+J32 -> 766.5 | K22: =K24+K26+K32 -> 502.8 | L22: =L24+L26+L32 -> 560.75
A23: Расходы на выплаты по оплате труда работников органов местного самоуправления | B23: 919 | C23: 01 | D23: 04 | E23: 65 | F23: 2 | G23: 00 | H23: 41110 | J23: =J24 -> 417.8 | K23: =K24 -> 479.1 | L23: =L24 -> 458.35
A24: Расходы на выплаты персоналу в целях обеспечения выполнения функций государственными (муниципальными) органами, казенными учреждениями, органами управления государственными внебюджетными фондами | B24: 919 | C24: 01 | D24: 04 | E24: 65 | F24: 2 | G24: 00 | H24: 41110 | I24: 100 | J24: =J25 -> 417.8 | K24: =K25 -> 479.1 | L24: =L25 -> 458.35
A25: Расходы на выплаты персоналу государственных (муниципальных) органов | B25: 919 | C25: 01 | D25: 04 | E25: 65 | F25: 2 | G25: 00 | H25: 41110 | I25: 120 | J25: 417.8 | K25: 479.1 | L25: 458.35
A26: Расходы на обеспечение функций органов местного самоуправленя | B26: 919 | C26: 01 | D26: 04 | E26: 65 | F26: 2 | G26: 00 | H26: 41120 | J26: =J27+J29 -> 257.4 | K26: =K27+K29 -> 23.7 | L26: =L27+L29 -> 102.4
A27: Закупка товаров, работ и услуг для обеспечения государственных (муниципальных) нужд | B27: 919 | C27: 01 | D27: 04 | E27: 65 | F27: 2 | G27: 00 | H27: 41120 | I27: 200 | J27: =J28 -> 220.9 | K27: =K28 -> 11.7 | L27: =L28 -> 90.4
A28: Иные закупки товаров, работ и услуг для обеспечения государственных (муниципальных) нужд | B28: 919 | C28: 01 | D28: 04 | E28: 65 | F28: 2 | G28: 00 | H28: 41120 | I28: 240 | J28: 220.9 | K28: 11.7 | L28: 90.4
A29: Иные бюджетные ассигнования | B29: 919 | C29: 01 | D29: 04 | E29: 65 | F29: 2 | G29: 00 | H29: 41120 | I29: 800 | J29: =J31+J30 -> 36.5 | K29: =K31+K30 -> 12 | L29: =L31+L30 -> 12
A30: Исполнение судебных актов | B30: 919 | C30: 01 | D30: 04 | E30: 65 | F30: 2 | G30: 00 | H30: 41120 | I30: 830 | J30: 1 | K30: 0 | L30: 0
A31: Уплата налогов, сборов и иных платежей | B31: 919 | C31: 01 | D31: 04 | E31: 65 | F31: 2 | G31: 00 | H31: 41120 | I31: 850 | J31: 35.5 | K31: 12 | L31: 12
A32: Субсидии на софинансирование расходных обязательств по финансовому обеспечению деятельности органов местного самоуправления и муниципальных учреждений | B32: 919 | C32: 01 | D32: 04 | E32: 65 | F32: 2 | G32: 00 | H32: 44205 | J32: =J33 -> 91.3 | K32: =K33 -> 0 | L32: =L33 -> 0
A33: Расходы на выплаты персоналу в целях обеспечения выполнения функций государственными (муниципальными) органами, казенными учреждениями, органами управления государственными внебюджетными фондами | B33: 919 | C33: 01 | D33: 04 | E33: 65 | F33: 2 | G33: 00 | H33: 44205 | I33: 100 | J33: =J34 -> 91.3 | K33: =K34 -> 0 | L33: =L34 -> 0
A34: Расходы на выплаты персоналу государственных (муниципальных) органов | B34: 919 | C34: 01 | D34: 04 | E34: 65 | F34: 2 | G34: 00 | H34: 44205 | I34: 120 | J34: 91.3 | K34: 0 | L34: 0
A35: Непрограммные расходы главных распорядителей средств бюджета Пушкинского сельского поселения Кадошкинского муниципального района Республики Мордовия | B35: 919 | C35: 01 | D35: 04 | E35: 89 | J35: =J36 -> 0.1 | K35: =K36 -> 0.1 | L35: =L36 -> 0.1
A36: Непрограммные расходы в рамках обеспечения деятельности главных распорядителей средств бюджета Пушкинского сельского поселения Кадошкинского муниципального района Республики Мордовия | B36: 919 | C36: 01 | D36: 04 | E36: 89 | F36: 1 | J36: =J37 -> 0.1 | K36: =K37 -> 0.1 | L36: =L37 -> 0.1
A37: Осуществление государственных полномочий Республики Мордовия по определению перечня должностных лиц, уполномоченных составлять протоколы об административных правонарушениях, предусмотренных Законом Республики Мордовия от 15 июня 2015 года № 38-З "Об административной ответственности на территории Республики Мордовия" | B37: 919 | C37: 01 | D37: 04 | E37: 89 | F37: 1 | G37: 00 | H37: 77150 | J37: =J38 -> 0.1 | K37: =K38 -> 0.1 | L37: =L38 -> 0.1
A38: Закупка товаров, работ и услуг для обеспечения государственных (муниципальных) нужд | B38: 919 | C38: 01 | D38: 04 | E38: 89 | F38: 1 | G38: 00 | H38: 77150 | I38: 200 | J38: =J39 -> 0.1 | K38: =K39 -> 0.1 | L38: =L39 -> 0.1
A39: Иные закупки товаров, работ и услуг для обеспечения государственных (муниципальных) нужд | B39: 919 | C39: 01 | D39: 04 | E39: 89 | F39: 1 | G39: 00 | H39: 77150 | I39: 240 | J39: 0.1 | K39: 0.1 | L39: 0.1
A40: Обеспечение проведения выборов и референдумов | B40: 919 | C40: 01 | D40: 07 | J40: =J41 -> 3 | K40: =K41 -> 0 | L40: =L41 -> 0
A41: Непрограммные расходы главных распорядителей средств бюджета Пушкинского сельского поселения Кадошкинского муниципального района Республики Мордовия | B41: 919 | C41: 01 | D41: 07 | J41: =J42 -> 3 | K41: =K42 -> 0 | L41: =L42 -> 0
...

Sheet Прил 6
I1: Приложение 6
J2: к решению сессии Совета депутатов Пушкинского сельского поселения "О бюджете Пушкинского сельского поселения Кадошкинского муниципального района Республики Мордовия на 2021 год и на плановый период 2022 и 2023 годов"
A3: РАСПРЕДЕЛЕНИЕ БЮДЖЕТНЫХ АССИГНОВАНИЙ БЮДЖЕТА ПУШКИНСКОГО СЕЛЬСКОГО ПОСЕЛЕНИЯ КАДОШКИНСКОГО МУНИЦИПАЛЬНОГО РАЙОНА РЕСПУБЛИКИ МОРДОВИЯ ПО ЦЕЛЕВЫМ СТАТЬЯМ, ГРУППАМ (ГРУППАМ И ПОДГРУППАМ) ВИДОВ РАСХОДОВ КЛАССИФИКАЦИИ РАСХОДОВ БЮДЖЕТОВ, А ТАКЖЕ ПО РАЗДЕЛАМ И ПОДРАЗДЕЛАМ КЛАССИФИКАЦИИ РАСХОДОВ БЮДЖЕТОВ НА 2021 ГОД И НА ПЛАНОВЫЙ ПЕРИОД 2022 И 2023 ГОДОВ
A5: Наименование | B5: ЦСР | F5: ВР | G5: Рз | H5: ПРз | I5: Адм | J5: Сумма (тыс. рублей)
J6: 2021 год | K6: 2022 год | L6: 2023 год
A7: 1 | B7: 2 | C7: 3 | D7: 4 | E7: 5 | F7: 6 | G7: 7 | H7: 8 | I7: 9 | J7: 10 | K7: 11 | L7: 12
A8: ВСЕГО | J8: =J30+J72+J9+J16+J23 -> 2469.23 | K8: =K30+K72+K9+K16+K23 -> 1764.3 | L8: =L30+L72+L9+L16+L23 -> 1975.8
A9: Программа "Развитие муниципальной службы в Пушкинском сельском поселении на 2020-2022 годы" | B9: 01 | J9: =J10 -> 1 | K9: =K10 -> 1 | L9: =L10 -> 0
A10: Подготовка, переподготовка и повышение квалификации кадров | B10: 01 | C10: 0 | D10: 00 | E10: 41250 | J10: =J11 -> 1 | K10: =K11 -> 1 | L10: =L11 -> 0
A11: Закупка товаров, работ и услуг для обеспечения государственных (муниципальных) нужд | B11: 01 | C11: 0 | D11: 00 | E11: 41250 | F11: 200 | J11: =J12 -> 1 | K11: =K12 -> 1 | L11: =L12 -> 0
A12: Иные закупки товаров, работ и услуг для обеспечения государственных (муниципальных) нужд | B12: 01 | C12: 0 | D12: 00 | E12: 41250 | F12: 240 | J12: =J13 -> 1 | K12: =K13 -> 1 | L12: =L13 -> 0
A13: Общегосударственные вопросы | B13: 01 | C13: 0 | D13: 00 | E13: 41250 | F13: 240 | G13: 01 | J13: =J14 -> 1 | K13: =K14 -> 1 | L13: =L14 -> 0
A14: Другие общегосударственные вопросы | B14: 01 | C14: 0 | D14: 00 | E14: 41250 | F14: 240 | G14: 01 | H14: 13 | J14: =J15 -> 1 | K14: =K15 -> 1 | L14: =L15 -> 0
A15: Администрация Пушкинского сельского поселения Кадошкинского муниципального района Республики Мордовия | B15: 01 | C15: 0 | D15: 00 | E15: 41250 | F15: 240 | G15: 01 | H15: 13 | I15: 919 | J15: ='Прил 5'!J56 -> 1 | K15: ='Прил 5'!K56 -> 1 | L15: ='Прил 5'!L56 -> 0
A16: Программа "Пожарная безопасность на территории Пушкинского сельского поселения Кадошкинского муниципального района Республики Мордовия на 2020-2022г.г." | B16: 08 | J16: =J17 -> 0.5 | K16: =K17 -> 0.5 | L16: =L17 -> 0
A17: Мероприятия по обеспечению пожарной безопасности | B17: 08 | C17: 0 | D17: 00 | E17: 42120 | J17: =J18 -> 0.5 | K17: =K18 -> 0.5 | L17: =L18 -> 0
A18: Закупка товаров, работ и услуг для обеспечения государственных (муниципальных) нужд | B18: 08 | C18: 0 | D18: 00 | E18: 42120 | F18: 200 | J18: =J19 -> 0.5 | K18: =K19 -> 0.5 | L18: =L19 -> 0
A19: Иные закупки товаров, работ и услуг для обеспечения государственных (муниципальных) нужд | B19: 08 | C19: 0 | D19: 00 | E19: 42120 | F19: 240 | J19: =J20 -> 0.5 | K19: =K20 -> 0.5 | L19: =L20 -> 0
A20: Общегосударственные вопросы | B20: 08 | C20: 0 | D20: 00 | E20: 42120 | F20: 240 | G20: 01 | J20: =J21 -> 0.5 | K20: =K21 -> 0.5 | L20: =L21 -> 0
A21: Другие общегосударственные вопросы | B21: 08 | C21: 0 | D21: 00 | E21: 42120 | F21: 240 | G21: 01 | H21: 13 | J21: =J22 -> 0.5 | K21: =K22 -> 0.5 | L21: =L22 -> 0
A22: Администрация Пушкинского сельского поселения Кадошкинского муниципального района Республики Мордовия | B22: 08 | C22: 0 | D22: 00 | E22: 42120 | F22: 240 | G22: 01 | H22: 13 | I22: 919 | J22: ='Прил 5'!J60 -> 0.5 | K22: ='Прил 5'!K60 -> 0.5 | L22: ='Прил 5'!L60 -> 0
A23: Программа комплексного развития транспортной инфраструктуры Пушкинского сельского поселения Кадошкинского муниципального района Республики Мордовия на 2017-2025 годы | B23: 13 | J23: =J24 -> 628.4 | K23: =K24 -> 670.3 | L23: =L24 -> 690.6
A24: Иные межбюджетные трансферты на осуществление полномочий по дорожной деятельности в отношении автомобильных дорог местного значения в границах населенных пунктов поселения и обеспечению безопасности дорожного движения на них, включая создание и обеспечение функционирования парковок (парковочных мест), осуществлению муниципального контроля за сохранностью автомобильных дорог местного значения в границах населенных пунктов поселения, организации дорожного движения, а также осуществлению иных полномочий в области использования автомобильных дорог и осуществления дорожной деятельности в соответствии с законодательством Российской Федерации | B24: 13 | C24: 0 | D24: 00 | E24: 44102 | J24: =J25 -> 628.4 | K24: =K25 -> 670.3 | L24: =L25 -> 690.6
A25: Иные закупки товаров, работ и услуг для обеспечения государственных (муниципальных) нужд | B25: 13 | C25: 0 | D25: 00 | E25: 44102 | F25: 200 | J25: =J26 -> 628.4 | K25: =K26 -> 670.3 | L25: =L26 -> 690.6
A26: Прочая закупка товаров, работ и услуг | B26: 13 | C26: 0 | D26: 00 | E26: 44102 | F26: 240 | J26: =J27 -> 628.4 | K26: =K27 -> 670.3 | L26: =L27 -> 690.6
A27: Национальная экономика | B27: 13 | C27: 0 | D27: 00 | E27: 44102 | F27: 240 | G27: 04 | J27: =J28 -> 628.4 | K27: =K28 -> 670.3 | L27: =L28 -> 690.6
A28: Дорожное хозяйство (дорожные фонды) | B28: 13 | C28: 0 | D28: 00 | E28: 44102 | F28: 240 | G28: 04 | H28: 09 | J28: =J29 -> 628.4 | K28: =K29 -> 670.3 | L28: =L29 -> 690.6
A29: Администрация Пушкинского сельского поселения Кадошкинского муниципального района Республики Мордовия | B29: 13 | C29: 0 | D29: 00 | E29: 44102 | F29: 240 | G29: 04 | H29: 09 | I29: 919 | J29: ='Прил 5'!J85 -> 628.4 | K29: ='Прил 5'!K85 -> 670.3 | L29: ='Прил 5'!L85 -> 690.6
A30: Обеспечение деятельности администрации | B30: 65 | J30: =J31+J44 -> 1210.6 | K30: =K31+K44 -> 737 | L30: =L31+L44 -> 856.7
A31: Высшее должностное лицо | B31: 65 | C31: 1 | J31: =J32+J38 -> 444.1 | K31: =K32+K38 -> 234.2 | L31: =L32+L38 -> 295.95
A32: Расходы на выплаты по оплате труда высшего должностного лица муниципального образования | B32: 65 | C32: 1 | D32: 00 | E32: 41150 | J32: =J35 -> 343.4 | K32: =K35 -> 234.2 | L32: =L35 -> 295.95
A33: Расходы на выплаты персоналу в целях обеспечения выполнения функций государственными (муниципальными) органами, казенными учреждениями, органами управления государственными внебюджетными фондами | B33: 65 | C33: 1 | D33: 00 | E33: 41150 | F33: 100 | J33: =J34 -> 343.4 | K33: =K34 -> 234.2 | L33: =L34 -> 295.95
A34: Расходы на выплаты персоналу государственных (муниципальных) органов | B34: 65 | C34: 1 | D34: 00 | E34: 41150 | F34: 120 | J34: =J35 -> 343.4 | K34: =K35 -> 234.2 | L34: =L35 -> 295.95
A35: Общегосударственные вопросы | B35: 65 | C35: 1 | D35: 00 | E35: 41150 | F35: 120 | G35: 01 | J35: =J36 -> 343.4 | K35: =K36 -> 234.2 | L35: =L36 -> 295.95
A36: Функционирование высшего должностного лица субъекта Российской Федерации и муниципального образования | B36: 65 | C36: 1 | D36: 00 | E36: 41150 | F36: 120 | G36: 01 | H36: 02 | J36: =J37 -> 343.4 | K36: =K37 -> 234.2 | L36: =L37 -> 295.95
A37: Администрация Пушкинского сельского поселения Кадошкинского муниципального района Республики Мордовия | B37: 65 | C37: 1 | D37: 00 | E37: 41150 | F37: 120 | G37: 01 | H37: 02 | I37: 919 | J37: ='Прил 5'!J16 -> 343.4 | K37: ='Прил 5'!K16 -> 234.2 | L37: ='Прил 5'!L16 -> 295.95
A38: Субсидии на софинансирование расходных обязательств по финансовому обеспечению деятельности органов местного самоуправления и муниципальных учреждений | B38: 65 | C38: 1 | D38: 00 | E38: 44205 | J38: =J39 -> 100.7 | K38: =K39 -> 0 | L38: =L39 -> 0
A39: Расходы на выплаты персоналу в целях обеспечения выполнения функций государственными (муниципальными) органами, казенными учреждениями, органами управления государственными внебюджетными фондами | B39: 65 | C39: 1 | D39: 00 | E39: 44205 | F39: 100 | J39: =J40 -> 100.7 | K39: =K40 -> 0 | L39: =L40 -> 0
A40: Расходы на выплаты персоналу государственных (муниципальных) органов | B40: 65 | C40: 1 | D40: 00 | E40: 44205 | F40: 120 | J40: =J41 -> 100.7 | K40: =K41 -> 0 | L40: =L41 -> 0
A41: Общегосударственные вопросы | B41: 65 | C41: 1 | D41: 00 | E41: 44205 | F41: 120 | G41: 01 | J41: =J42 -> 100.7 | K41: =K42 -> 0 | L41: =L42 -> 0
...

Sheet Прил 7
D1: Приложение 7
C2: к решению сессии Совета депутатов Пушкинского сельского поселения "О бюджете Пушкинского сельского поселения Кадошкинского муниципального района Республики Мордовия на 2021 год и на плановый период 2022 и 2023 годов"
A3: ИСТОЧНИКИ ВНУТРЕННЕГО ФИНАНСИРОВАНИЯ ДЕФИЦИТА БЮДЖЕТА ПУШКИНСКОГО СЕЛЬСКОГО ПОСЕЛЕНИЯ КАДОШКИНСКОГО МУНИЦИПАЛЬНОГО РАЙОНА РЕСПУБЛИКИ МОРДОВИЯ НА 2021 ГОД И НА ПЛАНОВЫЙ ПЕРИОД 2022 И 2023 ГОДОВ
E4: (тыс.руб.)
A5: Код | B5: НАИМЕНОВАНИЕ | C5: 2021 год | D5: 2022 год | E5: 2023 год
A6: 1 | B6: 2 | C6: 3 | D6: 4 | E6: 5
A7: 000 01 00 00 00 00 0000 000 | B7: ИСТОЧНИКИ ВНУТРЕННЕГО ФИНАНСИРОВАНИЯ ДЕФИЦИТОВ БЮДЖЕТОВ | C7: =C8+C15+C11 -> 51.4 | D7: =D8+D15+D11 -> 0 | E7: =E8+E15+E11 -> 0
A8: 000 01 02 00 00 00 0000 000 | B8: Кредиты кредитных организаций в валюте Российской Федерации | C8: =SUM(C9) -> 33.3 | D8: =SUM(D9) -> 66.6 | E8: =SUM(E9) -> 99.9
A9: 000 01 02 00 00 00 0000 700 | B9: Получение кредитов от кредитных организаций в валюте Российской Федерации | C9: =SUM(C10) -> 33.3 | D9: =SUM(D10) -> 66.6 | E9: =SUM(E10) -> 99.9
A10: 000 01 02 00 00 10 0000 710 | B10: Получение кредитов от кредитных организаций бюджетами сельских поселений в валюте Российской Федерации | C10: 33.3 | D10: 66.6 | E10: 99.9
A11: 000 01 03 00 00 00 0000 000 | B11: Бюджетные кредиты из других бюджетов бюджетной системы Российской Федерации | C11: =C12 -> -33.3 | D11: =D12 -> -66.6 | E11: =E12 -> -99.9
A12: 000 01 03 01 00 00 0000 800 | B12: Погашение бюджетных кредитов, полученных из других бюджетов бюджетной системы Российской Федерации в валюте Российской Федерации | C12: =C13 -> -33.3 | D12: =D13 -> -66.6 | E12: =E13 -> -99.9
A13: 000 01 03 01 00 10 0000 800 | B13: Погашение бюджетных кредитов, полученных из других бюджетов бюджетной системы Российской Федерации в валюте Российской Федерации | C13: =SUM(C14) -> -33.3 | D13: =SUM(D14) -> -66.6 | E13: =SUM(E14) -> -99.9
A14: 000 01 03 01 00 10 0000 810 | B14: Погашение бюджетами сельских поселений кредитов из других бюджетов бюджетной системы Российской Федерации в валюте Российской Федерации | C14: -33.3 | D14: -66.6 | E14: -99.9
A15: 000 01 05 00 00 00 0000 000 | B15: Изменение остатков средств на счетах по учету средств бюджетов | C15: =C18+C19 -> 51.4 | D15: =D18+D19 -> 0 | E15: =E18+E19 -> 0
A16: 000 01 05 02 00 00 0000 500 | B16: Увеличение прочих остатков средств бюджетов | C16: =SUM(C17) -> -2451.13 | D16: =SUM(D17) -> -1830.9 | E16: =SUM(E17) -> -2075.7
A17: 000 01 05 02 01 00 0000 510 | B17: Увеличение прочих остатков денежных средств бюджетов | C17: =SUM(C18) -> -2451.13 | D17: =SUM(D18) -> -1830.9 | E17: =SUM(E18) -> -2075.7
A18: 000 01 05 02 01 10 0000 510 | B18: Увеличение прочих остатков денежных средств бюджетов сельских поселений | C18: =-'Прил 3'!C9-C10 -> -2451.13 | D18: =-'Прил 3'!D9-D10 -> -1830.9 | E18: =-'Прил 3'!E9-E10 -> -2075.7
A19: 000 01 05 02 00 00 0000 600 | B19: Уменьшение прочих остатков средств бюджетов | C19: =SUM(C20) -> 2502.53 | D19: =SUM(D20) -> 1830.9 | E19: =SUM(E20) -> 2075.7
A20: 000 01 05 02 01 00 0000 610 | B20: Уменьшение прочих остатков денежных средств бюджетов | C20: =SUM(C21) -> 2502.53 | D20: =SUM(D21) -> 1830.9 | E20: =SUM(E21) -> 2075.7
A21: 000 01 05 02 01 10 0000 610 | B21: Уменьшение прочих остатков денежных средств местных бюджетов | C21: ='Прил 4 '!I8-C14 -> 2502.53 | D21: ='Прил 4 '!J8-D14 -> 1830.9 | E21: ='Прил 4 '!K8-E14 -> 2075.7
B22: Привлечение средств | C22: 33.3 | D22: 66.6 | E22: 99.9

Sheet Прил 8
D1: Приложение 8
C2: к решению сессии Совета депутатов Пушкинского сельского поселения "О бюджете Паевского сельского поселения Кадошкинского муниципального района Республики Мордовия на 2021 год и на плановый период 2022 и 2023 годов"
A3: ПРОГРАММА МУНИЦИПАЛЬНЫХ ВНУТРЕННИХ ЗАИМСТВОВАНИЙ ПУШКИНСКОГО СЕЛЬСКОГО ПОСЕЛЕНИЯ КАДОШКИНСКОГО МУНИЦИПАЛЬНОГО РАЙОНА РЕСПУБЛИКИ МОРДОВИЯ НА 2021 ГОД И НА ПЛАНОВЫЙ ПЕРИОД 2022 И 2023 ГОДОВ
E6: (тыс.руб.)
A7: № п/п | B7: ВИДЫ ЗАИМСТВОВАНИЙ | C7: Сумма
C8: 2021 год | D8: 2022 год | E8: 2023 год
A9: 1 | B9: 2 | C9: 3 | D9: 4 | E9: 5
A10: I | B10: Кредиты кредитных организаций в валюте Российской Федерации | C10: =C12 -> 33.3 | D10: =D12 -> 66.6 | E10: =E12 -> 99.9
B11: в том числе:
A12: 1 | B12: Объем привлечения | C12: 33.3 | D12: 66.6 | E12: 99.9
A13: 2 | B13: Объем средств, напрвляемых на погашение основной суммы долга
A14: II | B14: Бюджетные кредиты от других бюджетов бюджетной системы Российской Федерации | C14: =C17 -> -33.3 | D14: =D17 -> -66.6 | E14: =E17 -> -99.9
B15: в том числе
A16: 1 | B16: Объем привлечения
A17: 2 | B17: Объем средств, напрвляемых на погашение основной суммы долга | C17: -33.3 | D17: -66.6 | E17: -99.9
B18: ВСЕГО | C18: =C12+C17 -> 0 | D18: =D12+D17 -> 0 | E18: =E12+E17 -> 0
