Workbook
Name _1Excel_BuiltIn_Print_Area_1_1_1: 'Прил 3'!$A$1:$C$31
Name _2Excel_BuiltIn_Print_Area_7_1_1: #REF!
Name _2Excel_BuiltIn_Print_Area_7_1_1: #REF!
Name _Toc105952698: 'Прил 5 '!$A$2
Name _Toc105952698: #REF!
Name Excel_BuiltIn_Print_Area_1: 'Прил 3'!$A$1:$C$31
Name Excel_BuiltIn_Print_Area_1_1: 'Прил 3'!$A$1:$C$31
Name Excel_BuiltIn_Print_Area_2: #REF!
Name Excel_BuiltIn_Print_Area_2: #REF!
Name Excel_BuiltIn_Print_Area_3: 'Прил 1'!$A$1:$C$32
Name Excel_BuiltIn_Print_Area_3_1: #REF!
Name Excel_BuiltIn_Print_Area_3_1: #REF!
Name Excel_BuiltIn_Print_Area_4: #REF!
Name Excel_BuiltIn_Print_Area_4: #REF!
Name Excel_BuiltIn_Print_Area_5: 'Прил 5 '!$A$1:$I$42
Name Excel_BuiltIn_Print_Area_5: #REF!
Name Excel_BuiltIn_Print_Area_5_1: 'Прил 5 '!$A$1:$I$42
Name Excel_BuiltIn_Print_Area_5_1: #REF!
Name Excel_BuiltIn_Print_Area_6: 'Прил 4'!$A$1:$G$43
Name Excel_BuiltIn_Print_Area_6_1: 'Прил 4'!$A$1:$G$43
Name Excel_BuiltIn_Print_Area_7: #REF!
Name Excel_BuiltIn_Print_Area_7: #REF!
Name Excel_BuiltIn_Print_Area_7_1: #REF!
Name Excel_BuiltIn_Print_Area_7_1: #REF!

Sheet Прил 1
C1: Приложение 1 к решению Совета депутатов Паевского сельского поселения "О бюджете Паевского сельского поселения Кадошкинского муниципального района Республики Мордовия на 2022 год и на плановый период 2023 и 2024 годов"
A2: ПЕРЕЧЕНЬ АДМИНИСТРАТОРОВ ДОХОДОВ БЮДЖЕТА ПАЕВСКОГО СЕЛЬСКОГО ПОСЕЛЕНИЯ КАДОШКИНСКОГО МУНИЦИПАЛЬНОГО РАЙОНА РЕСПУБЛИКИ МОРДОВИЯ
A4: Код бюджетной классификации Российской Федерации | C4: Наименование доходов бюджета
A5: администратора доходов | B5: доходов бюджета
A6: 1 | B6: 2 | C6: 3
A8: 918 | B8: Администрация Паевского сельского поселения Кадошкинского муниципального района Республики Мордовия
A10: 918 | B10: 1 08 04020 01 1000 110 | C10: Государственная пошлина за совершение нотариальных действий должностными лицами органов местного самоуправления, уполномоченными в соответствии с законодательными актами Российской Федерации на совершение нотариальных действий
A11: 918 | B11: 1 08 04020 01 4000 110 | C11: Государственная пошлина за совершение нотариальных действий должностными лицами органов местного самоуправления, уполномоченными в соответствии с законодательными актами Российской Федерации на совершение нотариальных действий (прочие поступления)
A12: 918 | B12: 1 11 02033 10 0000 120 | C12: Доходы от размещения временно свободных средств бюджетов сельских поселений
A13: 918 | B13: 1 11 05035 10 0000 120 | C13: Доходы от сдачи в аренду имущества, находящегося в оперативном управлении органов управления сельских поселений и созданных ими учреждений (за исключением имущества муниципальных бюджетных и автономных учреждений)
A14: 918 | B14: 1 11 09045 10 0000 120 | C14: Прочие поступления от использования имущества, находящегося в собственности сельских поселений (за исключением имущества муниципальных бюджетных и автономных учреждений, а также имущества муниципальных унитарных предприятий, в том числе казенных)
A15: 918 | B15: 1 13 01995 10 0000 130 | C15: Прочие доходы от оказания платных услуг (работ) получателями средств бюджетов сельских поселений
A16: 918 | B16: 1 13 02995 10 0000 130 | C16: Прочие доходы от компенсации затрат бюджетов сельских поселений
A17: 918 | B17: 1 14 02052 10 0000 410 | C17: Доходы от реализации имущества, находящегося в оперативном управлении учреждений, находящихся в ведении органов управления сельских поселений (за исключением имущества муниципальных бюджетных и автономных учреждений), в части реализации основных средств по указанному имуществу
A18: 918 | B18: 1 14 02052 10 0000 440 | C18: Доходы от реализации имущества, находящегося в оперативном управлении учреждений, находящихся в ведении органов управления сельских поселений (за исключением имущества муниципальных бюджетных и автономных учреждений), в части реализации материальных запасов по указанному имуществу
A19: 918 | B19: 1 14 02053 10 0000 410 | C19: Доходы от реализации иного имущества, находящегося в собственности сельских поселений (за исключением имущества муниципальных бюджетных и автономных учреждений, а также имущества муниципальных унитарных предприятий, в том числе казенных), в части реализации основных средств по указанному имуществу
A20: 918 | B20: 1 14 02053 10 0000 440 | C20: Доходы от реализации иного имущества, находящегося в собственности сельских поселений (за исключением имущества муниципальных бюджетных и автономных учреждений, а также имущества муниципальных унитарных предприятий, в том числе казенных), в части реализации материальных запасов по указанному имуществу
A21: 918 | B21: 1 14 06025 10 0000 430 | C21: Доходы от продажи земельных участков, находящихся в собственности сельских поселений (за исключением земельных участков муниципальных бюджетных и автономных учреждений)
... A37: 918 | B37: 2 08 05000 10 0000 150 | C37: Перечисления из бюджетов сельских поселений (в бюджеты поселений) для осуществления возврата (зачета) излишне уплаченных или излишне взысканных сумм налогов, сборов и иных платежей, а также сумм процентов за несвоевременное осуществление такого возврата и процентов, начисленных на излишне взысканные суммы

Sheet Прил 2
C1: Приложение 2 к решению Совета депутатов Паевского сельского поселения "О бюджете Паевского сельского поселения Кадошкинского муниципального района Республики Мордовия на 2022 год и на плановый период 2023 и 2024 годов"
A2: ПЕРЕЧЕНЬ ГЛАВНЫХ АДМИНИСТРАТОРОВ ИСТОЧНИКОВ ФИНАНСИРОВАНИЯ ДЕФИЦИТА БЮДЖЕТА ПАЕВСКОГО СЕЛЬСКОГО ПОСЕЛЕНИЯ КАДОШКИНСКОГО МУНИЦИПАЛЬНОГО РАЙОНА РЕСПУБЛИКИ МОРДОВИЯ
A5: Код бюджетной классификации Российской Федерации | C5: Наименование главного администратора источника финансирования бюджета
A6: администратора | B6: источников внутреннего финансирования дефицита бюджета
A7: 1 | B7: 2 | C7: 3
A8: 918 | C8: Администрация Паевского сельского поселения Кадошкинского муниципального района
A9: 918 | B9: 01 02 00 00 10 0000 710 | C9: Получение кредитов от кредитных организаций бюджетами сельских поселений в валюте Российской Федерации
A10: 918 | B10: 01 03 01 00 10 0000 810 | C10: Погашение бюджетами сельских поселений кредитов из других бюджетов бюджетной системы Российской Федерации в валюте Российской Федерации

Sheet Прил 3
C1: Приложение 3 к решению Совета депутатов Паевского сельского поселения "О бюджете Паевского сельского поселения Кадошкинского муниципального района Республики Мордовия на 2022 год и на плановый период 2023 и 2024 годов"
A2: ДОХОДЫ БЮДЖЕТА ПАЕВСКОГО СЕЛЬСКОГО ПОСЕЛЕНИЯ КАДОШКИНСКОГО МУНИЦИПАЛЬНОГО РАЙОНА РЕСПУБЛИКИ МОРДОВИЯ
C3: (тыс.рублей)
A4: Код бюджетной классификации доходов бюджета | B4: Наименование доходов | C4: Сумма
C5: 2022 год | D5: 2023 год | E5: 2024 год
A6: 1 | B6: 2 | C6: 3 | D6: 4 | E6: 5
B7: ВСЕГО ДОХОДОВ | C7: =SUM(C8+C21) -> 1272.6 | D7: =SUM(D8+D21) -> 964.7 | E7: =SUM(E8+E21) -> 1022.4
A8: 00010000000000000000 | B8: НАЛОГОВЫЕ И НЕНАЛОГОВЫЕ ДОХОДЫ | C8: =SUM(C9+C12+C14+C16+C19) -> 493.9 | D8: =SUM(D9+D12+D14+D16+D19) -> 475.7 | E8: =SUM(E9+E12+E14+E16+E19) -> 511.6
A9: 00010100000000000000 | B9: НАЛОГИ НА ПРИБЫЛЬ, ДОХОДЫ | C9: =SUM(C10) -> 48 | D9: =SUM(D10) -> 23 | E9: =SUM(E10) -> 52
A10: 00010102000010000110 | B10: Налог на доходы физических лиц | C10: =SUM(C11) -> 48 | D10: =SUM(D11) -> 23 | E10: =SUM(E11) -> 52
A11: 18210102010010000110 | B11: Налог на доходы физических лиц с доходов, источником которых является налоговый агент, за исключением доходов, в отношении которых исчисление и уплата налога осуществляются в соответствии со статьями 227, 2271 и 228 Налогового кодекса Российской Федерации | C11: 48 | D11: 23 | E11: 52
A12: 00010500000000000000 | B12: НАЛОГИ НА СОВОКУПНЫЙ ДОХОД | C12: =SUM(C13) -> 7 | D12: =SUM(D13) -> 7 | E12: =SUM(E13) -> 7
A13: 18210503010010000110 | B13: Единый сельскохозяйственный налог | C13: 7 | D13: 7 | E13: 7
A14: 00010600000000000000 | B14: НАЛОГИ НА ИМУЩЕСТВО | C14: =SUM(C15) -> 74 | D14: =SUM(D15) -> 78 | E14: =SUM(E15) -> 80
A15: 18210601030100000110 | B15: Налог на имущество физических лиц, взимаемый по ставкам, применяемым к объектам налогообложения, расположенным в границах сельских поселений | C15: 74 | D15: 78 | E15: 80
A16: 00010606000000000110 | B16: Земельный налог | C16: =SUM(C17+C18) -> 320 | D16: =SUM(D17+D18) -> 321 | E16: =SUM(E17+E18) -> 324
A17: 18210606033100000110 | B17: Земельный налог с организаций, обладающих земельным участком, расположенным в границах сельских поселений | C17: 85 | D17: 85 | E17: 85
A18: 18210606043100000110 | B18: Земельный налог с физических лиц, обладающих земельным участком, расположенным в границах сельских поселений | C18: 235 | D18: 236 | E18: 239
A19: 00011100000000000000 | B19: ДОХОДЫ ОТ ИСПОЛЬЗОВАНИЯ ИМУЩЕСТВА, НАХОДЯЩЕГОСЯ В ГОСУДАРСТВЕННОЙ И МУНИЦИПАЛЬНОЙ СОБСТВЕННОСТИ | C19: =SUM(C20) -> 44.9 | D19: =SUM(D20) -> 46.7 | E19: =SUM(E20) -> 48.6
A20: 91811105035100000120 | B20: Доходы от сдачи в аренду имущества, находящегося в оперативном управлении органов управления поселений и созданных ими учреждений (за исключением имущества муниципальных бюджетных и автономных учреждений) | C20: 44.9 | D20: 46.7 | E20: 48.6
A21: 00020200000000000000 | B21: БЕЗВОЗМЕЗДНЫЕ ПОСТУПЛЕНИЯ ОТ ДРУГИХ БЮДЖЕТОВ БЮДЖЕТНОЙ СИСТЕМЫ РОССИЙСКОЙ ФЕДЕРАЦИИ | C21: =SUM(C27+C30+C25+C22) -> 778.7 | D21: =SUM(D27+D30+D25+D22) -> 489 | E21: =SUM(E27+E30+E25+E22) -> 510.8
A22: 00020210000000000150 | B22: Дотации бюджетам бюджетной системы Российской Федерации | C22: =C23+C24 -> 311.2 | D22: =D23+D24 -> 13.8 | E22: =E23+E24 -> 13.8
A23: 91820215001100000150 | B23: Дотации бюджетам сельских поселений на выравнивание бюджетной обеспеченности | C23: 4.5 | D23: 13.8 | E23: 13.8
A24: 91820215002100000150 | B24: Дотации бюджетам сельских поселений на поддержку мер по обеспечению сбалансированности бюджетов | C24: 306.7 | D24: 0 | E24: 0
A25: 00020220000000000150 | B25: Субсидии бюджетам бюджетной системы Российской Федерации (межбюджетные субсидии) | C25: =C26 -> 0 | D25: =D26 -> 0 | E25: =E26 -> 0
A26: 91820229999100000150 | B26: Прочие субсидии бюджетам сельских поселений | C26: 0 | D26: 0 | E26: 0
A27: 00020230000000000150 | B27: Субвенции бюджетам бюджетной системы Российской Федерации | C27: =SUM(C28+C29) -> 87.5 | D27: =SUM(D28+D29) -> 90.2 | E27: =SUM(E28+E29) -> 90.2
A28: 91820230024100000150 | B28: Субвенции на осуществление государственных полномочий Республики Мордовия по определению перечня должностных лиц, уполномоченных составлять протоколы об административных правонарушениях, предусмотренных Законом Республики Мордовия от 15 июня 2015 года № 38-З "Об административной ответственности на территории Республики Мордовия" | C28: 0.1 | D28: 0.1 | E28: 0.1
A29: 91820235118100000150 | B29: Субвенции бюджетам сельских поселений на осуществление первичного воинского учета на территориях, где отсутствуют военные комиссариаты | C29: 87.4 | D29: 90.1 | E29: 90.1
A30: 00020240000000000150 | B30: Иные межбюджетные трансферты | C30: =SUM(C31) -> 380 | D30: =SUM(D31) -> 385 | E30: =SUM(E31) -> 406.8
A31: 91820240014100000150 | B31: Межбюджетные трансферты, передаваемые бюджетам сельских поселений из бюджетов муниципальных районов на осуществление части полномочий по решению вопросов местного значения в соответствии с заключенными соглашениями | C31: =354.6+25.4 -> 380 | D31: =359.6+25.4 -> 385 | E31: =381.4+25.4 -> 406.8

Sheet Прил 4
J1: Приложение 4 к решению Совета депутатов Паевского сельского поселения "О бюджете Паевского сельского поселения Кадошкинского муниципального района Республики Мордовия на 2022 год и на плановый период 2023 и 2024 годов"
A2: ВЕДОМСТВЕННАЯ СТРУКТУРА РАСХОДОВ БЮДЖЕТА ПАЕВСКОГО СЕЛЬСКОГО ПОСЕЛЕНИЯ КАДОШКИНСКОГО МУНИЦИПАЛЬНОГО РАЙОНА РЕСПУБЛИКИ МОРДОВИЯ НА 2022 ГОД И НА ПЛАНОВЫЙ ПЕРИОД 2023 И 2024 ГОДОВ
L3: (тыс. рублей)
A4: Наименование | B4: Адм | C4: Рз | D4: Прз | E4: Цср | I4: Вр | J4: Сумма
J5: 2022 год | K5: 2023 год | L5: 2024 год
A6: 1 | B6: 2 | C6: 3 | D6: 4 | E6: 5 | F6: 6 | G6: 7 | H6: 8 | I6: 9 | J6: 10 | K6: 11 | L6: 12
A7: ВСЕГО | J7: =J8 -> 1272.64 | K7: =K8 -> 964.7 | L7: =L8 -> 1022.4
A8: Администрация Паевского сельского поселения Кадошкинского муниципального района Республики Мордовия | B8: 918 | J8: =J9+J44+J53+J60+J76+J83 -> 1272.64 | K8: =K9+K44+K53+K60+K76+K83+K90 -> 964.7 | L8: =L9+L44+L53+L60+L76+L83+L90 -> 1022.4
A9: Общегосударственные вопросы | B9: 918 | C9: 01 | J9: =J10+J19+J38 -> 691.94 | K9: =K10+K19+K38 -> 409.1 | L9: =L10+L19+L38 -> 445
A10: Функционирование высшего должностного лица субъекта Российской Федерации и муниципального образования | B10: 918 | C10: 01 | D10: 02 | J10: =J11 -> 223.24 | K10: =K11 -> 134.5 | L10: =L11 -> 134.3
A11: Обеспечение деятельности администрации | B11: 918 | C11: 01 | D11: 02 | E11: 65 | J11: =J12 -> 223.24 | K11: =K12 -> 134.5 | L11: =L12 -> 134.3
A12: Высшее должностное лицо | B12: 918 | C12: 01 | D12: 02 | E12: 65 | F12: 1 | J12: =J13+J16 -> 223.24 | K12: =K13+K16 -> 134.5 | L12: =L13+L16 -> 134.3
A13: Расходы на выплаты по оплате труда высшего должностного лица | B13: 918 | C13: 01 | D13: 02 | E13: 65 | F13: 1 | G13: 00 | H13: 41150 | J13: =J14 -> 223.24 | K13: =K14 -> 134.5 | L13: =L14 -> 134.3
A14: Расходы на выплаты персоналу в целях обеспечения выполнения функций государственными (муниципальными) органами, казенными учреждениями, органами управления государственными внебюджетными фондами | B14: 918 | C14: 01 | D14: 02 | E14: 65 | F14: 1 | G14: 00 | H14: 41150 | I14: 100 | J14: =J15 -> 223.24 | K14: =K15 -> 134.5 | L14: =L15 -> 134.3
A15: Расходы на выплаты персоналу государственных (муниципальных) органов | B15: 918 | C15: 01 | D15: 02 | E15: 65 | F15: 1 | G15: 00 | H15: 41150 | I15: 120 | J15: 223.24 | K15: 134.5 | L15: 134.3
A16: Субсидии на софинансирование расходных обязательств по финансовому обеспечению деятельности органов местного самоуправления и муниципальных учреждений | B16: 918 | C16: 01 | D16: 02 | E16: 65 | F16: 1 | G16: 00 | H16: 44205 | J16: =J17 -> 0 | K16: =K17 -> 0 | L16: =L17 -> 0
A17: Расходы на выплаты персоналу в целях обеспечения выполнения функций государственными (муниципальными) органами, казенными учреждениями, органами управления государственными внебюджетными фондами | B17: 918 | C17: 01 | D17: 02 | E17: 65 | F17: 1 | G17: 00 | H17: 44205 | I17: 100 | J17: =J18 -> 0 | K17: =K18 -> 0 | L17: =L18 -> 0
A18: Расходы на выплаты персоналу государственных (муниципальных) органов | B18: 918 | C18: 01 | D18: 02 | E18: 65 | F18: 1 | G18: 00 | H18: 44205 | I18: 120 | J18: 0 | K18: 0 | L18: 0
A19: Функционирование Правительства Российской Федерации, высших органов исполнительной власти субъектов Российской Федерации, местных администраций | B19: 918 | C19: 01 | D19: 04 | J19: =J20+J33 -> 467.7 | K19: =K20+K33 -> 273.6 | L19: =L20+L33 -> 309.7
A20: Обеспечение деятельности администрации | B20: 918 | C20: 01 | D20: 04 | E20: 65 | J20: =J21 -> 467.6 | K20: =K21 -> 273.5 | L20: =L21 -> 309.6
A21: Непрограммные расходы в рамках обеспечения деятельности администрации | B21: 918 | C21: 01 | D21: 04 | E21: 65 | F21: 2 | J21: =J23+J25+J30 -> 467.6 | K21: =K23+K25+K30 -> 273.5 | L21: =L23+L25+L30 -> 309.6
A22: Расходы на выплаты по оплате труда работников органов местного самоуправления | B22: 918 | C22: 01 | D22: 04 | E22: 65 | F22: 2 | G22: 00 | H22: 41110 | J22: =J23 -> 425.3 | K22: =K23 -> 234.4 | L22: =L23 -> 213.6
A23: Расходы на выплаты персоналу в целях обеспечения выполнения функций государственными (муниципальными) органами, казенными учреждениями, органами управления государственными внебюджетными фондами | B23: 918 | C23: 01 | D23: 04 | E23: 65 | F23: 2 | G23: 00 | H23: 41110 | I23: 100 | J23: =J24 -> 425.3 | K23: =K24 -> 234.4 | L23: =L24 -> 213.6
A24: Расходы на выплаты персоналу государственных (муниципальных) органов | B24: 918 | C24: 01 | D24: 04 | E24: 65 | F24: 2 | G24: 00 | H24: 41110 | I24: 120 | J24: 425.3 | K24: 234.4 | L24: 213.6
A25: Расходы на обеспечение функций органов местного самоуправления | B25: 918 | C25: 01 | D25: 04 | E25: 65 | F25: 2 | G25: 00 | H25: 41120 | J25: =J26+J28 -> 42.3 | K25: =K26+K28 -> 39.1 | L25: =L26+L28 -> 96
A26: Закупка товаров, работ и услуг для обеспечения государственных (муниципальных) нужд | B26: 918 | C26: 01 | D26: 04 | E26: 65 | F26: 2 | G26: 00 | H26: 41120 | I26: 200 | J26: =J27 -> 31.7 | K26: =K27 -> 13.3 | L26: =L27 -> 70.2
A27: Иные закупки товаров, работ и услуг для обеспечения государственных (муниципальных) нужд | B27: 918 | C27: 01 | D27: 04 | E27: 65 | F27: 2 | G27: 00 | H27: 41120 | I27: 240 | J27: 31.7 | K27: 13.3 | L27: 70.2
A28: Иные бюджетные ассигнования | B28: 918 | C28: 01 | D28: 04 | E28: 65 | F28: 2 | G28: 00 | H28: 41120 | I28: 800 | J28: =J29 -> 10.6 | K28: =K29 -> 25.8 | L28: =L29 -> 25.8
A29: Уплата налогов, сборов и иных платежей | B29: 918 | C29: 01 | D29: 04 | E29: 65 | F29: 2 | G29: 00 | H29: 41120 | I29: 850 | J29: 10.6 | K29: 25.8 | L29: 25.8
A30: Субсидии на софинансирование расходных обязательств по финансовому обеспечению деятельности органов местного самоуправления и муниципальных учреждений | B30: 918 | C30: 01 | D30: 04 | E30: 65 | F30: 2 | G30: 00 | H30: 44205 | J30: =J31 -> 0 | K30: =K31 -> 0 | L30: =L31 -> 0
A31: Расходы на выплаты персоналу в целях обеспечения выполнения функций государственными (муниципальными) органами, казенными учреждениями, органами управления государственными внебюджетными фондами | B31: 918 | C31: 01 | D31: 04 | E31: 65 | F31: 2 | G31: 00 | H31: 44205 | I31: 100 | J31: =J32 -> 0 | K31: =K32 -> 0 | L31: =L32 -> 0
A32: Расходы на выплаты персоналу государственных (муниципальных) органов | B32: 918 | C32: 01 | D32: 04 | E32: 65 | F32: 2 | G32: 00 | H32: 44205 | I32: 120 | J32: 0 | K32: 0 | L32: 0
A33: Непрограммные расходы главных распорядителей средств бюджета Паевского сельского поселения Кадошкинского муниципального района Республики Мордовия | B33: 918 | C33: 01 | D33: 04 | E33: 89 | J33: =J34 -> 0.1 | K33: =K34 -> 0.1 | L33: =L34 -> 0.1
A34: Непрограммные расходы в рамках обеспечения деятельности главных распорядителей средств бюджета Паевского сельского поселения Кадошкинского муниципального района Республики Мордовия | B34: 918 | C34: 01 | D34: 04 | E34: 89 | F34: 1 | J34: =J35 -> 0.1 | K34: =K35 -> 0.1 | L34: =L35 -> 0.1
A35: Осуществление государственных полномочий Республики Мордовия по определению перечня должностных лиц, уполномоченных составлять протоколы об административных правонарушениях, предусмотренных Законом Республики Мордовия от 15 июня 2015 года № 38-З "Об административной ответственности на территории Республики Мордовия" | B35: 918 | C35: 01 | D35: 04 | E35: 89 | F35: 1 | G35: 00 | H35: 77150 | J35: =J36 -> 0.1 | K35: =K36 -> 0.1 | L35: =L36 -> 0.1
A36: Закупка товаров, работ и услуг для обеспечения государственных (муниципальных) нужд | B36: 918 | C36: 01 | D36: 04 | E36: 89 | F36: 1 | G36: 00 | H36: 77150 | I36: 200 | J36: =J37 -> 0.1 | K36: =K37 -> 0.1 | L36: =L37 -> 0.1
A37: Иные закупки товаров, работ и услуг для обеспечения государственных (муниципальных) нужд | B37: 918 | C37: 01 | D37: 04 | E37: 89 | F37: 1 | G37: 00 | H37: 77150 | I37: 240 | J37: 0.1 | K37: 0.1 | L37: 0.1
A38: Резервные фонды | B38: 918 | C38: 01 | D38: 11 | J38: =J39 -> 1 | K38: =K39 -> 1 | L38: =L39 -> 1
A39: Непрограммные расходы главных распорядителей средств бюджета Паевского сельского поселения Кадошкинского муниципального района Республики Мордовия | B39: 918 | C39: 01 | D39: 11 | E39: 89 | J39: =J40 -> 1 | K39: =K40 -> 1 | L39: =L40 -> 1
A40: Непрограммные расходы в рамках обеспечения деятельности главных распорядителей средств бюджета Паевского сельского поселения Кадошкинского муниципального района Республики Мордовия | B40: 918 | C40: 01 | D40: 11 | E40: 89 | F40: 1 | J40: =J41 -> 1 | K40: =K41 -> 1 | L40: =L41 -> 1
...

Sheet Прил 5 
I1: Приложение 5 к решению Совета депутатов Паевского сельского поселения "О бюджете Паевского сельского поселения Кадошкинского муниципального района Республики Мордовия на 2022 год и на плановый период 2023 и 2024 годов"
A2: РАСПРЕДЕЛЕНИЕ БЮДЖЕТНЫХ АССИГНОВАНИЙ БЮДЖЕТА ПАЕВСКОГО СЕЛЬСКОГО ПОСЕЛЕНИЯ КАДОШКИНСКОГО МУНИЦИПАЛЬНОГО РАЙОНА РЕСПУБЛИКИ МОРДОВИЯ ПО РАЗДЕЛАМ, ПОДРАЗДЕЛАМ, ЦЕЛЕВЫМ СТАТЬЯМ (МУНИЦИПАЛЬНЫМ ПРОГРАММАМ И НЕПРОГРАММНЫМ НАПРАВЛЕНИЯМ ДЕЯТЕЛЬНОСТИ), ГРУППАМ И ПОДГРУППАМ ВИДОВ РАСХОДОВ КЛАССИФИКАЦИИ РАСХОДОВ БЮДЖЕТОВ НА 2022 ГОД И НА ПЛАНОВЫЙ ПЕРИОД 2023 И 2024 ГОДОВ
K3: (тыс. рублей)
A4: Наименование | B4: Рз | C4: Прз | D4: Цср | H4: Вр | I4: Сумма
I5: 2022 год | J5: 2023 год | K5: 2024 год
A6: 1 | B6: 2 | C6: 3 | D6: 4 | E6: 5 | F6: 6 | G6: 7 | H6: 8 | I6: 9 | J6: 10 | K6: 11
A7: ВСЕГО | I7: =I8+I43+I52+I59+I75+I82 -> 1272.64 | J7: =J8+J43+J52+J59+J75+J82+J93 -> 964.7 | K7: =K8+K43+K52+K59+K75+K82+K93 -> 1022.4
A8: Общегосударственные вопросы | B8: 01 | I8: =I9+I18+I37 -> 691.94 | J8: =J9+J18+J37 -> 409.1 | K8: =K9+K18+K37 -> 445
A9: Функционирование высшего должностного лица субъекта Российской Федерации и муниципального образования | B9: 01 | C9: 02 | I9: =I10 -> 223.24 | J9: =J10 -> 134.5 | K9: =K10 -> 134.3
A10: Обеспечение деятельности администрации | B10: 01 | C10: 02 | D10: 65 | I10: =I11 -> 223.24 | J10: =J11 -> 134.5 | K10: =K11 -> 134.3
A11: Высшее должностное лицо | B11: 01 | C11: 02 | D11: 65 | E11: 1 | I11: =I12+I15 -> 223.24 | J11: =J12+J15 -> 134.5 | K11: =K12+K15 -> 134.3
A12: Расходы на выплаты по оплате труда высшего должностного лица | B12: 01 | C12: 02 | D12: 65 | E12: 1 | F12: 00 | G12: 41150 | I12: =I13 -> 223.24 | J12: =J13 -> 134.5 | K12: =K13 -> 134.3
A13: Расходы на выплаты персоналу в целях обеспечения выполнения функций государственными (муниципальными) органами, казенными учреждениями, органами управления государственными внебюджетными фондами | B13: 01 | C13: 02 | D13: 65 | E13: 1 | F13: 00 | G13: 41150 | H13: 100 | I13: =I14 -> 223.24 | J13: =J14 -> 134.5 | K13: =K14 -> 134.3
A14: Расходы на выплаты персоналу государственных (муниципальных) органов | B14: 01 | C14: 02 | D14: 65 | E14: 1 | F14: 00 | G14: 41150 | H14: 120 | I14: ='Прил 4'!J15 -> 223.24 | J14: ='Прил 4'!K15 -> 134.5 | K14: ='Прил 4'!L15 -> 134.3
A15: Субсидии на софинансирование расходных обязательств по финансовому обеспечению деятельности органов местного самоуправления и муниципальных учреждений | B15: 01 | C15: 02 | D15: 65 | E15: 1 | F15: 00 | G15: 44205 | I15: =I16 -> 0 | J15: =J16 -> 0 | K15: =K16 -> 0
A16: Расходы на выплаты персоналу в целях обеспечения выполнения функций государственными (муниципальными) органами, казенными учреждениями, органами управления государственными внебюджетными фондами | B16: 01 | C16: 02 | D16: 65 | E16: 1 | F16: 00 | G16: 44205 | H16: 100 | I16: =I17 -> 0 | J16: =J17 -> 0 | K16: =K17 -> 0
A17: Расходы на выплаты персоналу государственных (муниципальных) органов | B17: 01 | C17: 02 | D17: 65 | E17: 1 | F17: 00 | G17: 44205 | H17: 120 | I17: ='Прил 4'!J18 -> 0 | J17: ='Прил 4'!K18 -> 0 | K17: ='Прил 4'!L18 -> 0
A18: Функционирование Правительства Российской Федерации, высших органов исполнительной власти субъектов Российской Федерации, местных администраций | B18: 01 | C18: 04 | I18: =I19+I32 -> 467.7 | J18: =J19+J32 -> 273.6 | K18: =K19+K32 -> 309.7
A19: Обеспечение деятельности администрации | B19: 01 | C19: 04 | D19: 65 | I19: =I20 -> 467.6 | J19: =J20 -> 273.5 | K19: =K20 -> 309.6
A20: Непрограммные расходы в рамках обеспечения деятельности администрации | B20: 01 | C20: 04 | D20: 65 | E20: 2 | I20: =I21+I24+I29 -> 467.6 | J20: =J21+J24+J29 -> 273.5 | K20: =K21+K24+K29 -> 309.6
A21: Расходы на выплаты по оплате труда работников органов местного самоуправления | B21: 01 | C21: 04 | D21: 65 | E21: 2 | F21: 00 | G21: 41110 | I21: =I22 -> 425.3 | J21: =J22 -> 234.4 | K21: =K22 -> 213.6
A22: Расходы на выплаты персоналу в целях обеспечения выполнения функций государственными (муниципальными) органами, казенными учреждениями, органами управления государственными внебюджетными фондами | B22: 01 | C22: 04 | D22: 65 | E22: 2 | F22: 00 | G22: 41110 | H22: 100 | I22: =I23 -> 425.3 | J22: =J23 -> 234.4 | K22: =K23 -> 213.6
A23: Расходы на выплаты персоналу государственных (муниципальных) органов | B23: 01 | C23: 04 | D23: 65 | E23: 2 | F23: 00 | G23: 41110 | H23: 120 | I23: ='Прил 4'!J24 -> 425.3 | J23: ='Прил 4'!K24 -> 234.4 | K23: ='Прил 4'!L24 -> 213.6
A24: Расходы на обеспечение функций органов местного самоуправления | B24: 01 | C24: 04 | D24: 65 | E24: 2 | F24: 00 | G24: 41120 | I24: =I25+I27 -> 42.3 | J24: =J25+J27 -> 39.1 | K24: =K25+K27 -> 96
A25: Закупка товаров, работ и услуг для обеспечения государственных (муниципальных) нужд | B25: 01 | C25: 04 | D25: 65 | E25: 2 | F25: 00 | G25: 41120 | H25: 200 | I25: =I26 -> 31.7 | J25: =J26 -> 13.3 | K25: =K26 -> 70.2
A26: Иные закупки товаров, работ и услуг для обеспечения государственных (муниципальных) нужд | B26: 01 | C26: 04 | D26: 65 | E26: 2 | F26: 00 | G26: 41120 | H26: 240 | I26: ='Прил 4'!J27 -> 31.7 | J26: ='Прил 4'!K27 -> 13.3 | K26: ='Прил 4'!L27 -> 70.2
A27: Иные бюджетные ассигнования | B27: 01 | C27: 04 | D27: 66 | E27: 2 | F27: 00 | G27: 41120 | H27: 800 | I27: =I28 -> 10.6 | J27: =J28 -> 25.8 | K27: =K28 -> 25.8
A28: Уплата налогов, сборов и иных платежей | B28: 01 | C28: 04 | D28: 66 | E28: 2 | F28: 00 | G28: 41120 | H28: 850 | I28: ='Прил 4'!J29 -> 10.6 | J28: ='Прил 4'!K29 -> 25.8 | K28: ='Прил 4'!L29 -> 25.8
A29: Субсидии на софинансирование расходных обязательств по финансовому обеспечению деятельности органов местного самоуправления и муниципальных учреждений | B29: 01 | C29: 04 | D29: 65 | E29: 2 | F29: 00 | G29: 44205 | I29: =I30 -> 0 | J29: =J30 -> 0 | K29: =K30 -> 0
A30: Расходы на выплаты персоналу в целях обеспечения выполнения функций государственными (муниципальными) органами, казенными учреждениями, органами управления государственными внебюджетными фондами | B30: 01 | C30: 04 | D30: 65 | E30: 2 | F30: 00 | G30: 44205 | H30: 100 | I30: =I31 -> 0 | J30: =J31 -> 0 | K30: =K31 -> 0
A31: Расходы на выплаты персоналу государственных (муниципальных) органов | B31: 01 | C31: 04 | D31: 65 | E31: 2 | F31: 00 | G31: 44205 | H31: 120 | I31: ='Прил 4'!J32 -> 0 | J31: ='Прил 4'!K32 -> 0 | K31: ='Прил 4'!L32 -> 0
A32: Непрограммные расходы главных распорядителей средств бюджета Паевского сельского поселения Кадошкинского муниципального района Республики Мордовия | B32: 01 | C32: 04 | D32: 89 | I32: =I33 -> 0.1 | J32: =J33 -> 0.1 | K32: =K33 -> 0.1
A33: Непрограммные расходы в рамках обеспечения деятельности главных распорядителей средств бюджета Паевского сельского поселения Кадошкинского муниципального района Республики Мордовия | B33: 01 | C33: 04 | D33: 89 | E33: 1 | I33: =I34 -> 0.1 | J33: =J34 -> 0.1 | K33: =K34 -> 0.1
A34: Осуществление государственных полномочий Республики Мордовия по определению перечня должностных лиц, уполномоченных составлять протоколы об административных правонарушениях, предусмотренных Законом Республики Мордовия от 15 июня 2015 года № 38-З "Об административной ответственности на территории Республики Мордовия" | B34: 01 | C34: 04 | D34: 89 | E34: 1 | F34: 00 | G34: 77150 | I34: =I35 -> 0.1 | J34: =J35 -> 0.1 | K34: =K35 -> 0.1
A35: Закупка товаров, работ и услуг для обеспечения государственных (муниципальных) нужд | B35: 01 | C35: 04 | D35: 89 | E35: 1 | F35: 00 | G35: 77150 | H35: 200 | I35: =I36 -> 0.1 | J35: =J36 -> 0.1 | K35: =K36 -> 0.1
A36: Иные закупки товаров, работ и услуг для обеспечения государственных (муниципальных) нужд | B36: 01 | C36: 04 | D36: 89 | E36: 1 | F36: 00 | G36: 77150 | H36: 240 | I36: ='Прил 4'!J37 -> 0.1 | J36: ='Прил 4'!K37 -> 0.1 | K36: ='Прил 4'!L37 -> 0.1
A37: Резервные фонды | B37: 01 | C37: 11 | I37: =I38 -> 1 | J37: =J38 -> 1 | K37: =K38 -> 1
A38: Непрограммные расходы главных распорядителей средств бюджета Паевского сельского поселения Кадошкинского муниципального района Республики Мордовия | B38: 01 | C38: 11 | D38: 89 | I38: =I39 -> 1 | J38: =J39 -> 1 | K38: =K39 -> 1
A39: Непрограммные расходы в рамках обеспечения деятельности главных распорядителей средств бюджета Паевского сельского поселения Кадошкинского муниципального района Республики Мордовия | B39: 01 | C39: 11 | D39: 89 | E39: 1 | I39: =I40 -> 1 | J39: =J40 -> 1 | K39: =K40 -> 1
A40: Резервный фонд администрации Паевского сельского поселения Кадошкинского муниципального района Республики Мордовия | B40: 01 | C40: 11 | D40: 89 | E40: 1 | F40: 00 | G40: 41180 | I40: =I41 -> 1 | J40: =J41 -> 1 | K40: =K41 -> 1
...

Sheet Прил 6
J1: Приложение 6 к решению Совета депутатов Паевского сельского поселения "О бюджете Паевского сельского поселения Кадошкинского муниципального района Республики Мордовия на 2022 год и на плановый период 2023 и 2024 годов"
A2: РАСПРЕДЕЛЕНИЕ БЮДЖЕТНЫХ АССИГНОВАНИЙ БЮДЖЕТА ПАЕВСКОГО СЕЛЬСКОГО ПОСЕЛЕНИЯ КАДОШКИНСКОГО МУНИЦИПАЛЬНОГО РАЙОНА РЕСПУБЛИКИ МОРДОВИЯ ПО ЦЕЛЕВЫМ СТАТЬЯМ (МУНИЦИПАЛЬНЫМ ПРОГРАММАМ И НЕПРОГРАММНЫМ НАПРАВЛЕНИЯМ ДЕЯТЕЛЬНОСТИ), ГРУППАМ И ПОДГРУППАМ ВИДОВ РАСХОДОВ, РАЗДЕЛАМ И ПОДРАЗДЕЛАМ КЛАССИФИКАЦИИ РАСХОДОВ БЮДЖЕТОВ НА 2022 ГОД НА ПЛАНОВЫЙ ПЕРИОД 2023 И 2024 ГОДОВ
L3: (тыс. рублей)
A4: Наименование | B4: Цср | F4: ВР | G4: Рз | H4: Прз | I4: Адм | J4: Сумма
J5: 2022 год | K5: 2023 год | L5: 2024 год
A6: 1 | B6: 2 | C6: 3 | D6: 4 | E6: 5 | F6: 6 | G6: 7 | H6: 8 | I6: 9 | J6: 10 | K6: 11 | L6: 12
A7: ВСЕГО | J7: =J8+J46 -> 1272.64 | K7: =K8+K46+K66 -> 964.7 | L7: =L8+L46+L66 -> 1022.4
A8: Обеспечение деятельности администрации | B8: 65 | J8: =J9+J22 -> 690.84 | K8: =K9+K22 -> 408 | L8: =L9+L22 -> 443.9
A9: Высшее должностное лицо | B9: 65 | C9: 1 | J9: =J10+J16 -> 223.24 | K9: =K10+K16 -> 134.5 | L9: =L10+L16 -> 134.3
A10: Расходы на выплаты по оплате труда высшего должностного лица муниципального образования | B10: 65 | C10: 1 | D10: 00 | E10: 41150 | J10: =J13 -> 223.24 | K10: =K13 -> 134.5 | L10: =L13 -> 134.3
A11: Расходы на выплаты персоналу в целях обеспечения выполнения функций государственными (муниципальными) органами, казенными учреждениями, органами управления государственными внебюджетными фондами | B11: 65 | C11: 1 | D11: 00 | E11: 41150 | F11: 100 | J11: =J12 -> 223.24 | K11: =K12 -> 134.5 | L11: =L12 -> 134.3
A12: Расходы на выплаты персоналу государственных (муниципальных) органов | B12: 65 | C12: 1 | D12: 00 | E12: 41150 | F12: 120 | J12: =J13 -> 223.24 | K12: =K13 -> 134.5 | L12: =L13 -> 134.3
A13: Общегосударственные вопросы | B13: 65 | C13: 1 | D13: 00 | E13: 41150 | F13: 120 | G13: 01 | J13: =J14 -> 223.24 | K13: =K14 -> 134.5 | L13: =L14 -> 134.3
A14: Функционирование высшего должностного лица субъекта Российской Федерации и муниципального образования | B14: 65 | C14: 1 | D14: 00 | E14: 41150 | F14: 120 | G14: 01 | H14: 02 | J14: =J15 -> 223.24 | K14: =K15 -> 134.5 | L14: =L15 -> 134.3
A15: Администрация Паевского сельского поселения Кадошкинского муниципального района Республики Мордовия | B15: 65 | C15: 1 | D15: 00 | E15: 41150 | F15: 120 | G15: 01 | H15: 02 | I15: 918 | J15: ='Прил 4'!J15 -> 223.24 | K15: ='Прил 4'!K15 -> 134.5 | L15: ='Прил 4'!L15 -> 134.3
A16: Субсидии на софинансирование расходных обязательств по финансовому обеспечению деятельности органов местного самоуправления и муниципальных учреждений | B16: 65 | C16: 1 | D16: 00 | E16: 44205 | J16: =J17 -> 0 | K16: =K17 -> 0 | L16: =L17 -> 0
A17: Расходы на выплаты персоналу в целях обеспечения выполнения функций государственными (муниципальными) органами, казенными учреждениями, органами управления государственными внебюджетными фондами | B17: 65 | C17: 1 | D17: 00 | E17: 44205 | F17: 100 | J17: =J18 -> 0 | K17: =K18 -> 0 | L17: =L18 -> 0
A18: Расходы на выплаты персоналу государственных (муниципальных) органов | B18: 65 | C18: 1 | D18: 00 | E18: 44205 | F18: 120 | J18: =J19 -> 0 | K18: =K19 -> 0 | L18: =L19 -> 0
A19: Общегосударственные вопросы | B19: 65 | C19: 1 | D19: 00 | E19: 44205 | F19: 120 | G19: 01 | J19: =J20 -> 0 | K19: =K20 -> 0 | L19: =L20 -> 0
A20: Функционирование высшего должностного лица субъекта Российской Федерации и муниципального образования | B20: 65 | C20: 1 | D20: 00 | E20: 44205 | F20: 120 | G20: 01 | H20: 02 | J20: =J21 -> 0 | K20: =K21 -> 0 | L20: =L21 -> 0
A21: Администрация Паевского сельского поселения Кадошкинского муниципального района Республики Мордовия | B21: 65 | C21: 1 | D21: 00 | E21: 44205 | F21: 120 | G21: 01 | H21: 02 | I21: 918 | J21: ='Прил 4'!J18 -> 0 | K21: ='Прил 4'!K18 -> 0 | L21: ='Прил 4'!L18 -> 0
A22: Непрограммные расходы в рамках обеспечения деятельности администрации | B22: 65 | C22: 2 | J22: =J23+J29+J40 -> 467.6 | K22: =K23+K29+K40 -> 273.5 | L22: =L23+L29+L40 -> 309.6
A23: Расходы на выплаты по оплате труда работников органов местного самоуправления | B23: 65 | C23: 2 | D23: 00 | E23: 41110 | J23: =J24 -> 425.3 | K23: =K26 -> 234.4 | L23: =L26 -> 213.6
A24: Расходы на выплаты персоналу в целях обеспечения выполнения функций государственными (муниципальными) органами, казенными учреждениями, органами управления государственными внебюджетными фондами | B24: 65 | C24: 2 | D24: 00 | E24: 41110 | F24: 100 | J24: =J25 -> 425.3 | K24: =K25 -> 234.4 | L24: =L25 -> 213.6
A25: Расходы на выплаты персоналу государственных (муниципальных) органов | B25: 65 | C25: 2 | D25: 00 | E25: 41110 | F25: 120 | J25: =J26 -> 425.3 | K25: =K26 -> 234.4 | L25: =L26 -> 213.6
A26: Общегосударственные вопросы | B26: 65 | C26: 2 | D26: 00 | E26: 41110 | F26: 120 | G26: 01 | J26: =J27 -> 425.3 | K26: =K27 -> 234.4 | L26: =L27 -> 213.6
A27: Функционирование Правительства Российской Федерации, высших органов исполнительной власти субъектов Российской Федерации, местных администраций | B27: 65 | C27: 2 | D27: 00 | E27: 41110 | F27: 120 | G27: 01 | H27: 04 | J27: =J28 -> 425.3 | K27: =K28 -> 234.4 | L27: =L28 -> 213.6
A28: Администрация Паевского сельского поселения Кадошкинского муниципального района Республики Мордовия | B28: 65 | C28: 2 | D28: 00 | E28: 41110 | F28: 120 | G28: 01 | H28: 04 | I28: 918 | J28: ='Прил 4'!J24 -> 425.3 | K28: ='Прил 4'!K24 -> 234.4 | L28: ='Прил 4'!L24 -> 213.6
A29: Расходы на обеспечение функций органов местного самоуправленя | B29: 65 | C29: 2 | D29: 00 | E29: 41120 | J29: =J32+J35 -> 42.3 | K29: =K32+K35 -> 39.1 | L29: =L32+L35 -> 96
A30: Закупка товаров, работ и услуг для обеспечения государственных (муниципальных) нужд | B30: 65 | C30: 2 | D30: 00 | E30: 41120 | F30: 200 | J30: =J31 -> 31.7 | K30: =K31 -> 13.3 | L30: =L31 -> 70.2
A31: Иные закупки товаров, работ и услуг для обеспечения государственных (муниципальных) нужд | B31: 65 | C31: 2 | D31: 00 | E31: 41120 | F31: 240 | J31: =J32 -> 31.7 | K31: =K32 -> 13.3 | L31: =L32 -> 70.2
A32: Общегосударственные вопросы | B32: 65 | C32: 2 | D32: 00 | E32: 41120 | F32: 240 | G32: 01 | J32: =J33 -> 31.7 | K32: =K33 -> 13.3 | L32: =L33 -> 70.2
A33: Функционирование Правительства Российской Федерации, высших органов исполнительной власти субъектов Российской Федерации, местных администраций | B33: 65 | C33: 2 | D33: 00 | E33: 41120 | F33: 240 | G33: 01 | H33: 04 | J33: =J34 -> 31.7 | K33: =K34 -> 13.3 | L33: =L34 -> 70.2
A34: Администрация Паевского сельского поселения Кадошкинского муниципального района Республики Мордовия | B34: 65 | C34: 2 | D34: 00 | E34: 41120 | F34: 240 | G34: 01 | H34: 04 | I34: 918 | J34: ='Прил 4'!J26 -> 31.7 | K34: ='Прил 4'!K26 -> 13.3 | L34: ='Прил 4'!L26 -> 70.2
A35: Закупка товаров, работ и услуг для обеспечения государственных (муниципальных) нужд | B35: 65 | C35: 2 | D35: 00 | E35: 41120 | F35: 800 | J35: =J36 -> 10.6 | K35: =K36 -> 25.8 | L35: =L36 -> 25.8
A36: Иные закупки товаров, работ и услуг для обеспечения государственных (муниципальных) нужд | B36: 65 | C36: 2 | D36: 00 | E36: 41120 | F36: 850 | J36: =J37 -> 10.6 | K36: =K37 -> 25.8 | L36: =L37 -> 25.8
A37: Общегосударственные вопросы | B37: 65 | C37: 2 | D37: 00 | E37: 41120 | F37: 850 | G37: 01 | J37: =J38 -> 10.6 | K37: =K38 -> 25.8 | L37: =L38 -> 25.8
A38: Функционирование Правительства Российской Федерации, высших органов исполнительной власти субъектов Российской Федерации, местных администраций | B38: 65 | C38: 2 | D38: 00 | E38: 41120 | F38: 850 | G38: 01 | H38: 04 | J38: =J39 -> 10.6 | K38: =K39 -> 25.8 | L38: =L39 -> 25.8
A39: Администрация Паевского сельского поселения Кадошкинского муниципального района Республики Мордовия | B39: 65 | C39: 2 | D39: 00 | E39: 41120 | F39: 850 | G39: 01 | H39: 04 | I39: 918 | J39: ='Прил 4'!J28 -> 10.6 | K39: ='Прил 4'!K28 -> 25.8 | L39: ='Прил 4'!L28 -> 25.8
A40: Субсидии на софинансирование расходных обязательств по финансовому обеспечению деятельности органов местного самоуправления и муниципальных учреждений | B40: 65 | C40: 2 | D40: 00 | E40: 44205 | J40: =J41 -> 0 | K40: =K41 -> 0 | L40: =L41 -> 0
...

Sheet Прил 7
C1: Приложение 7 к решению Совета депутатов Паевского сельского поселения "О бюджете Паевского сельского поселения Кадошкинского муниципального района Республики Мордовия на 2022 год и на плановый период 2023 и 2024 годов"
A2: ИСТОЧНИКИ ВНУТРЕННЕГО ФИНАНСИРОВАНИЯ ДЕФИЦИТА БЮДЖЕТА ПАЕВСКОГО СЕЛЬСКОГО ПОСЕЛЕНИЯ КАДОШКИНСКОГО МУНИЦИПАЛЬНОГО РАЙОНА РЕСПУБЛИКИ МОРДОВИЯ НА 2022 ГОД И НА ПЛАНОВЫЙ ПЕРИОД 2023 И 2024 ГОДОВ
E3: (тыс.руб.)
A4: Код | B4: Наименование кода группы, подгруппы, статьи, вида источника финансирования дефицитов бюджетов, кода классификации операций сектора государственного управления, относящихся к источникам финансирования дефицитов бюджетов Российской Федерации | C4: Сумма (тыс. руб.)
C5: 2022 год | D5: 2023 год | E5: 2024 год
A6: 000 01 00 00 00 00 0000 000 | B6: ИСТОЧНИКИ ВНУТРЕННЕГО ФИНАНСИРОВАНИЯ ДЕФИЦИТОВ БЮДЖЕТОВ | C6: =C7+C10+C14 -> 0.04 | D6: =D7+D10+D14 -> 0 | E6: =E7+E10+E14 -> 0
A7: 000 01 02 00 00 00 0000 000 | B7: Кредиты кредитных организаций в валюте Российской Федерации | C7: =SUM(C8) -> 0 | D7: =SUM(D8) -> 0 | E7: =SUM(E8) -> 0
A8: 000 01 02 00 00 00 0000 700 | B8: Получение кредитов от кредитных организаций в валюте Российской Федерации | C8: =SUM(C9) -> 0 | D8: =SUM(D9) -> 0 | E8: =SUM(E9) -> 0
A9: 000 01 02 00 00 10 0000 710 | B9: Получение кредитов от кредитных организаций бюджетами сельских поселений в валюте Российской Федерации | C9: 0 | D9: 0 | E9: 0
A10: 000 01 03 00 00 00 0000 000 | B10: Бюджетные кредиты из других бюджетов бюджетной системы Российской Федерации | C10: =C11 -> -47 | D10: =D11 -> -70.4 | E10: =E11 -> -93.8
A11: 000 01 03 01 00 00 0000 800 | B11: Погашение бюджетных кредитов, полученных из других бюджетов бюджетной системы Российской Федерации в валюте Российской Федерации | C11: =C12 -> -47 | D11: =D12 -> -70.4 | E11: =E12 -> -93.8
A12: 000 01 03 01 00 10 0000 800 | B12: Погашение бюджетных кредитов, полученных из других бюджетов бюджетной системы Российской Федерации в валюте Российской Федерации | C12: =SUM(C13) -> -47 | D12: =SUM(D13) -> -70.4 | E12: =SUM(E13) -> -93.8
A13: 000 01 03 01 00 10 0000 810 | B13: Погашение бюджетами сельских поселений кредитов из других бюджетов бюджетной системы Российской Федерации в валюте Российской Федерации | C13: =-47 -> -47 | D13: -70.4 | E13: -93.8
A14: 000 01 05 00 00 00 0000 000 | B14: Изменение остатков средств на счетах по учету средств бюджетов | C14: =C17+C18 -> 47.04 | D14: =D17+D18 -> 70.4 | E14: =E17+E18 -> 93.8
A15: 000 01 05 02 00 00 0000 500 | B15: Увеличение прочих остатков средств бюджетов | C15: =SUM(C16) -> -1272.6 | D15: =SUM(D16) -> -964.7 | E15: =SUM(E16) -> -1022.4
A16: 000 01 05 02 01 00 0000 510 | B16: Увеличение прочих остатков денежных средств бюджетов | C16: =SUM(C17) -> -1272.6 | D16: =SUM(D17) -> -964.7 | E16: =SUM(E17) -> -1022.4
A17: 000 01 05 02 01 10 0000 510 | B17: Увеличение прочих остатков денежных средств бюджетов сельских поселений | C17: =-('Прил 3'!C7+C9) -> -1272.6 | D17: =-('Прил 3'!D7+D9) -> -964.7 | E17: =-('Прил 3'!E7+E9) -> -1022.4
A18: 000 01 05 02 00 00 0000 600 | B18: Уменьшение прочих остатков средств бюджетов | C18: =SUM(C19) -> 1319.64 | D18: =SUM(D19) -> 1035.1 | E18: =SUM(E19) -> 1116.2
A19: 000 01 05 02 01 00 0000 610 | B19: Уменьшение прочих остатков денежных средств бюджетов | C19: =SUM(C20) -> 1319.64 | D19: =SUM(D20) -> 1035.1 | E19: =SUM(E20) -> 1116.2
A20: 000 01 05 02 01 10 0000 610 | B20: Уменьшение прочих остатков денежных средств бюджетов сельских поселений | C20: ='Прил 5 '!I7-C13 -> 1319.64 | D20: ='Прил 5 '!J7-D13 -> 1035.1 | E20: ='Прил 5 '!K7-E13 -> 1116.2

Sheet Прил 8
C1: Приложение 8 к решению Совета депутатов Паевского сельского поселения "О бюджете Паевского сельского поселения Кадошкинского муниципального района Республики Мордовия на 2022 год и на плановый период 2023 и 2024 годов"
A2: ПРОГРАММА МУНИЦИПАЛЬНЫХ ВНУТРЕННИХ ЗАИМСТВОВАНИЙ ПАЕВСКОГО СЕЛЬСКОГО ПОСЕЛЕНИЯ КАДОШКИНСКОГО МУНИЦИПАЛЬНОГО РАЙОНА РЕСПУБЛИКИ МОРДОВИЯ НА 2022 ГОД И НА ПЛАНОВЫЙ ПЕРИОД 2023 И 2024 ГОДОВ
A5: № п/п | B5: Виды заимствований | C5: Сумма (тыс.руб.)
C6: 2022 год | D6: 2023 год | E6: 2024 год
A7: 1 | B7: 2 | C7: 3 | D7: 4 | E7: 5
A8: I | B8: Кредиты кредитных организаций в валюте Российской Федерации | C8: =C10 -> 0 | D8: =D10 -> 0 | E8: =E10 -> 0
B9: в том числе:
A10: 1 | B10: Объем привлечения
A11: 2 | B11: Объем средств, напрвляемых на погашение основной суммы долга
A12: II | B12: Бюджетные кредиты от других бюджетов бюджетной системы Российской Федерации | C12: =C15 -> -47 | D12: =D15 -> -70.4 | E12: =E15 -> -93.8
B13: в том числе
A14: 1 | B14: Объем привлечения
A15: 2 | B15: Объем средств, напрвляемых на погашение основной суммы долга | C15: -47 | D15: -70.4 | E15: -93.8
B16: ВСЕГО | C16: =C10+C15 -> -47 | D16: =D10+D15 -> -70.4 | E16: =E10+E15 -> -93.8
