Workbook
Name _1Excel_BuiltIn_Print_Area_1_1_1: 'Прил 3'!$A$1:$C$29
Name _2Excel_BuiltIn_Print_Area_7_1_1: #REF!
Name _2Excel_BuiltIn_Print_Area_7_1_1: #REF!
Name _Toc105952698: 'Прил 5 '!$A$2
Name _Toc105952698: #REF!
Name Excel_BuiltIn_Print_Area_1: 'Прил 3'!$A$1:$C$29
Name Excel_BuiltIn_Print_Area_1_1: 'Прил 3'!$A$1:$C$29
Name Excel_BuiltIn_Print_Area_2: #REF!
Name Excel_BuiltIn_Print_Area_2: #REF!
Name Excel_BuiltIn_Print_Area_3: 'Прил 1'!$A$1:$C$32
Name Excel_BuiltIn_Print_Area_3_1: #REF!
Name Excel_BuiltIn_Print_Area_3_1: #REF!
Name Excel_BuiltIn_Print_Area_4: #REF!
Name Excel_BuiltIn_Print_Area_4: #REF!
Name Excel_BuiltIn_Print_Area_5: 'Прил 5 '!$A$1:$I$42
Name Excel_BuiltIn_Print_Area_5: #REF!
Name Excel_BuiltIn_Print_Area_5_1: 'Прил 5 '!$A$1:$I$42
Name Excel_BuiltIn_Print_Area_5_1: #REF!
Name Excel_BuiltIn_Print_Area_6: 'Прил 4'!$A$1:$G$43
Name Excel_BuiltIn_Print_Area_6_1: 'Прил 4'!$A$1:$G$43
Name Excel_BuiltIn_Print_Area_7: #REF!
Name Excel_BuiltIn_Print_Area_7: #REF!
Name Excel_BuiltIn_Print_Area_7_1: #REF!
Name Excel_BuiltIn_Print_Area_7_1: #REF!

Sheet Прил 1
C1: Приложение 1 к решению Совета депутатов Латышовского сельского поселения "О бюджете Латышовского сельского поселения Кадошкинского муниципального района Республики Мордовия на 2022 год и на плановый период 2023 и 2024 годов"
A2: ПЕРЕЧЕНЬ АДМИНИСТРАТОРОВ ДОХОДОВ БЮДЖЕТА ЛАТЫШОВСКОГО СЕЛЬСКОГО ПОСЕЛЕНИЯ КАДОШКИНСКОГО МУНИЦИПАЛЬНОГО РАЙОНА РЕСПУБЛИКИ МОРДОВИЯ
A4: Код бюджетной классификации Российской Федерации | C4: Наименование доходов бюджета
A5: администратора доходов | B5: доходов бюджета
A6: 1 | B6: 2 | C6: 3
A8: 916 | B8: Администрация Латышовского сельского поселения Кадошкинского муниципального района Республики Мордовия
A10: 916 | B10: 1 08 04020 01 1000 110 | C10: Государственная пошлина за совершение нотариальных действий должностными лицами органов местного самоуправления, уполномоченными в соответствии с законодательными актами Российской Федерации на совершение нотариальных действий
A11: 916 | B11: 1 08 04020 01 4000 110 | C11: Государственная пошлина за совершение нотариальных действий должностными лицами органов местного самоуправления, уполномоченными в соответствии с законодательными актами Российской Федерации на совершение нотариальных действий (прочие поступления)
A12: 916 | B12: 1 11 02033 10 0000 120 | C12: Доходы от размещения временно свободных средств бюджетов сельских поселений
A13: 916 | B13: 1 11 05035 10 0000 120 | C13: Доходы от сдачи в аренду имущества, находящегося в оперативном управлении органов управления сельских поселений и созданных ими учреждений (за исключением имущества муниципальных бюджетных и автономных учреждений)
A14: 916 | B14: 1 11 09045 10 0000 120 | C14: Прочие поступления от использования имущества, находящегося в собственности сельских поселений (за исключением имущества муниципальных бюджетных и автономных учреждений, а также имущества муниципальных унитарных предприятий, в том числе казенных)
A15: 916 | B15: 1 13 01995 10 0000 130 | C15: Прочие доходы от оказания платных услуг (работ) получателями средств бюджетов сельских поселений
A16: 916 | B16: 1 13 02995 10 0000 130 | C16: Прочие доходы от компенсации затрат бюджетов сельских поселений
A17: 916 | B17: 1 14 02052 10 0000 410 | C17: Доходы от реализации имущества, находящегося в оперативном управлении учреждений, находящихся в ведении органов управления сельских поселений (за исключением имущества муниципальных бюджетных и автономных учреждений), в части реализации основных средств по указанному имуществу
A18: 916 | B18: 1 14 02052 10 0000 440 | C18: Доходы от реализации имущества, находящегося в оперативном управлении учреждений, находящихся в ведении органов управления сельских поселений (за исключением имущества муниципальных бюджетных и автономных учреждений), в части реализации материальных запасов по указанному имуществу
A19: 916 | B19: 1 14 02053 10 0000 410 | C19: Доходы от реализации иного имущества, находящегося в собственности сельских поселений (за исключением имущества муниципальных бюджетных и автономных учреждений, а также имущества муниципальных унитарных предприятий, в том числе казенных), в части реализации основных средств по указанному имуществу
A20: 916 | B20: 1 14 02053 10 0000 440 | C20: Доходы от реализации иного имущества, находящегося в собственности сельских поселений (за исключением имущества муниципальных бюджетных и автономных учреждений, а также имущества муниципальных унитарных предприятий, в том числе казенных), в части реализации материальных запасов по указанному имуществу
A21: 916 | B21: 1 14 06025 10 0000 430 | C21: Доходы от продажи земельных участков, находящихся в собственности сельских поселений (за исключением земельных участков муниципальных бюджетных и автономных учреждений)
... A37: 916 | B37: 2 08 05000 10 0000 150 | C37: Перечисления из бюджетов сельских поселений (в бюджеты поселений) для осуществления возврата (зачета) излишне уплаченных или излишне взысканных сумм налогов, сборов и иных платежей, а также сумм процентов за несвоевременное осуществление такого возврата и процентов, начисленных на излишне взысканные суммы

Sheet Прил 2
C1: Приложение 2 к решению Совета депутатов Латышовского сельского поселения "О бюджете Латышовского сельского поселения Кадошкинского муниципального района Республики Мордовия на 2022 год и на плановый период 2023 и 2024 годов"
A2: ПЕРЕЧЕНЬ ГЛАВНЫХ АДМИНИСТРАТОРОВ ИСТОЧНИКОВ ФИНАНСИРОВАНИЯ ДЕФИЦИТА БЮДЖЕТА ЛАТЫШОВСКОГО СЕЛЬСКОГО ПОСЕЛЕНИЯ КАДОШКИНСКОГО МУНИЦИПАЛЬНОГО РАЙОНА РЕСПУБЛИКИ МОРДОВИЯ
A5: Код бюджетной классификации Российской Федерации | C5: Наименование главного администратора источника финансирования бюджета
A6: админи- стратора | B6: источников внутреннего финансирования дефицита бюджета
A7: 1 | B7: 2 | C7: 3
A8: 916 | C8: Администрация Латышовского сельского поселения Кадошкинского муниципального района
A9: 916 | B9: 01 02 00 00 10 0000 710 | C9: Получение кредитов от других бюджетов бюджетной системы Российской Федерации бюджетами сельских поселений в валюте Российской Федерации
A10: 916 | B10: 01 03 01 00 10 0000 810 | C10: Погашение бюджетами сельских поселений кредитов от других бюджетов бюджетной системы Российской Федерации в валюте Российской Федерации

Sheet Прил 3
C1: Приложение 3 к решению Совета депутатов Латышовского сельского поселения "О бюджете Латышовского сельского поселения Кадошкинского муниципального района Республики Мордовия на 2022 год и на плановый период 2023 и 2024 годов"
A2: ДОХОДЫ БЮДЖЕТА ЛАТЫШОВСКОГО СЕЛЬСКОГО ПОСЕЛЕНИЯ КАДОШКИНСКОГО МУНИЦИПАЛЬНОГО РАЙОНА РЕСПУБЛИКИ МОРДОВИЯ
C4: (тыс.рублей)
A5: Код бюджетной классификации доходов бюджета | B5: Наименование доходов | C5: Сумма
C6: 2022 год | D6: 2023 год | E6: 2024 год
A7: 1 | B7: 2 | C7: 3 | D7: 4 | E7: 5
B8: ВСЕГО ДОХОДОВ | C8: =SUM(C9+C20) -> 1603.8 | D8: =SUM(D9+D20) -> 1377.7 | E8: =SUM(E9+E20) -> 1413.2
A9: 00010000000000000000 | B9: НАЛОГОВЫЕ И НЕНАЛОГОВЫЕ ДОХОДЫ | C9: =C10+C13+C15+C17 -> 895 | D9: =D10+D13+D15+D17 -> 905 | E9: =E10+E13+E15+E17 -> 919
A10: 00010100000000000000 | B10: НАЛОГИ НА ПРИБЫЛЬ, ДОХОДЫ | C10: =SUM(C11) -> 33 | D10: =SUM(D11) -> 35 | E10: =SUM(E11) -> 36
A11: 00010102000010000110 | B11: Налог на доходы физических лиц | C11: =SUM(C12) -> 33 | D11: =SUM(D12) -> 35 | E11: =SUM(E12) -> 36
A12: 18210102010010000110 | B12: Налог на доходы физических лиц с доходов, источником которых является налоговый агент, за исключением доходов, в отношении которых исчисление и уплата налога осуществляются в соответствии со статьями 227, 2271 и 228 Налогового кодекса Российской Федерации | C12: 33 | D12: 35 | E12: 36
A13: 00010500000000000000 | B13: НАЛОГИ НА СОВОКУПНЫЙ ДОХОД | C13: =SUM(C14) -> 56 | D13: =SUM(D14) -> 56 | E13: =SUM(E14) -> 56
A14: 18210503010010000110 | B14: Единый сельскохозяйственный налог | C14: 56 | D14: 56 | E14: 56
A15: 00010600000000000000 | B15: НАЛОГИ НА ИМУЩЕСТВО | C15: =SUM(C16) -> 98 | D15: =SUM(D16) -> 99 | E15: =SUM(E16) -> 101
A16: 18210601030100000110 | B16: Налог на имущество физических лиц, взимаемый по ставкам, применяемым к объектам налогообложения, расположенным в границах сельских поселений | C16: 98 | D16: 99 | E16: 101
A17: 00010606000000000110 | B17: Земельный налог | C17: =SUM(C18+C19) -> 708 | D17: =SUM(D18+D19) -> 715 | E17: =SUM(E18+E19) -> 726
A18: 18210606033100000110 | B18: Земельный налог с организаций, обладающих земельным участком, расположенным в границах сельских поселений | C18: 533 | D18: 540 | E18: 551
A19: 18210606043100000110 | B19: Земельный налог с физических лиц, обладающих земельным участком, расположенным в границах сельских поселений | C19: 175 | D19: 175 | E19: 175
A20: 00020200000000000000 | B20: БЕЗВОЗМЕЗДНЫЕ ПОСТУПЛЕНИЯ ОТ ДРУГИХ БЮДЖЕТОВ БЮДЖЕТНОЙ СИСТЕМЫ РОССИЙСКОЙ ФЕДЕРАЦИИ | C20: =SUM(C25+C28+C21+C23) -> 708.8 | D20: =SUM(D25+D28+D21+D23) -> 472.7 | E20: =SUM(E25+E28+E21+E23) -> 494.2
A21: 00020210000000000150 | B21: Дотации бюджетам бюджетной системы Российской Федерации | C21: =C22 -> 244 | D21: =D22 -> 0 | E21: =E22 -> 0
A22: 91620215002100000150 | B22: Дотации бюджетам сельских поселений на поддержку мер по обеспечению сбалансированности бюджетов | C22: 244 | D22: 0 | E22: 0
A23: 00020220000000000150 | B23: Субсидии бюджетам бюджетной системы Российской Федерации (межбюджетные субсидии) | C23: =C24 -> 0 | D23: =D24 -> 0 | E23: =E24 -> 0
A24: 91620229999100000150 | B24: Прочие субсидии бюджетам сельских поселений | C24: 0 | D24: 0 | E24: 0
A25: 00020230000000000150 | B25: Субвенции бюджетам бюджетной системы Российской Федерации | C25: =SUM(C26+C27) -> 87.6 | D25: =SUM(D26+D27) -> 90.3 | E25: =SUM(E26+E27) -> 90.3
A26: 91620230024100000150 | B26: Субвенции на осуществление государственных полномочий Республики Мордовия по определению перечня должностных лиц, уполномоченных составлять протоколы об административных правонарушениях, предусмотренных Законом Республики Мордовия от 15 июня 2015 года № 38-З "Об административной ответственности на территории Республики Мордовия" | C26: 0.2 | D26: 0.2 | E26: 0.2
A27: 91620235118100000150 | B27: Субвенции бюджетам сельских поселений на осуществление первичного воинского учета на территориях, где отсутствуют военные комиссариаты | C27: 87.4 | D27: 90.1 | E27: 90.1
A28: 00020240000000000150 | B28: Иные межбюджетные трансферты | C28: =SUM(C29) -> 377.2 | D28: =SUM(D29) -> 382.4 | E28: =SUM(E29) -> 403.9
A29: 91620240014100000150 | B29: Межбюджетные трансферты, передаваемые бюджетам сельских поселений из бюджетов муниципальных районов на осуществление части полномочий по решению вопросов местного значения в соответствии с заключенными соглашениями | C29: =351.8+25.4 -> 377.2 | D29: =357+25.4 -> 382.4 | E29: =378.5+25.4 -> 403.9

Sheet Прил 4
J1: Приложение 4 к решению Совета депутатов Латышовского сельского поселения "О бюджете Латышовского сельского поселения Кадошкинского муниципального района Республики Мордовия на 2022 год и на плановый период 2023 и 2024 годов"
A2: ВЕДОМСТВЕННАЯ СТРУКТУРА РАСХОДОВ БЮДЖЕТА ЛАТЫШОВСКОГО СЕЛЬСКОГО ПОСЕЛЕНИЯ КАДОШКИНСКОГО МУНИЦИПАЛЬНОГО РАЙОНА РЕСПУБЛИКИ МОРДОВИЯ НА 2022 ГОД И НА ПЛАНОВЫЙ ПЕРИОД 2023 И 2024 ГОДОВ
L3: (тыс. рублей)
A4: Наименование | B4: Адм | C4: Рз | D4: Прз | E4: Цср | I4: Вр | J4: Сумма
J5: 2022 год | K5: 2023 год | L5: 2024 год
A6: 1 | B6: 2 | C6: 3 | D6: 4 | E6: 5 | F6: 6 | G6: 7 | H6: 8 | I6: 9 | J6: 10 | K6: 11 | L6: 12
A7: ВСЕГО | J7: =J8 -> 1603.8 | K7: =K8 -> 1377.7 | L7: =L8 -> 1413.2
A8: Администрация Латышовского сельского поселения Кадошкинского муниципального района Республики Мордовия | B8: 916 | J8: =J9+J49+J64+J71+J87+J94+J58 -> 1603.8 | K8: =K9+K49+K64+K71+K87+K94+K58+K101 -> 1377.7 | L8: =L9+L49+L64+L71+L87+L94+L58+L101 -> 1413.2
A9: Общегосударственные вопросы | B9: 916 | C9: 01 | J9: =J10+J19+J38+J44 -> 820.6 | K9: =K10+K19+K38+K44 -> 678.6 | L9: =L10+L19+L38+L44 -> 641.4
A10: Функционирование высшего должностного лица субъекта Российской Федерации и муниципального образования | B10: 916 | C10: 01 | D10: 02 | J10: =J11 -> 347.5 | K10: =K11 -> 231.8 | L10: =L11 -> 206.7
A11: Обеспечение деятельности администрации | B11: 916 | C11: 01 | D11: 02 | E11: 65 | J11: =J12 -> 347.5 | K11: =K12 -> 231.8 | L11: =L12 -> 206.7
A12: Высшее должностное лицо | B12: 916 | C12: 01 | D12: 02 | E12: 65 | F12: 1 | J12: =J13+J16 -> 347.5 | K12: =K13+K16 -> 231.8 | L12: =L13+L16 -> 206.7
A13: Расходы на выплаты по оплате труда высшего должностного лица | B13: 916 | C13: 01 | D13: 02 | E13: 65 | F13: 1 | G13: 00 | H13: 41150 | J13: =J14 -> 347.5 | K13: =K14 -> 231.8 | L13: =L14 -> 206.7
A14: Расходы на выплаты персоналу в целях обеспечения выполнения функций государственными (муниципальными) органами, казенными учреждениями, органами управления государственными внебюджетными фондами | B14: 916 | C14: 01 | D14: 02 | E14: 65 | F14: 1 | G14: 00 | H14: 41150 | I14: 100 | J14: =J15 -> 347.5 | K14: =K15 -> 231.8 | L14: =L15 -> 206.7
A15: Расходы на выплаты персоналу государственных (муниципальных) органов | B15: 916 | C15: 01 | D15: 02 | E15: 65 | F15: 1 | G15: 00 | H15: 41150 | I15: 120 | J15: 347.5 | K15: 231.8 | L15: 206.7
A16: Субсидии на софинансирование расходных обязательств по финансовому обеспечению деятельности органов местного самоуправления и муниципальных учреждений | B16: 916 | C16: 01 | D16: 02 | E16: 65 | F16: 1 | G16: 00 | H16: 44205 | J16: =J17 -> 0 | K16: =K17 -> 0 | L16: =L17 -> 0
A17: Расходы на выплаты персоналу в целях обеспечения выполнения функций государственными (муниципальными) органами, казенными учреждениями, органами управления государственными внебюджетными фондами | B17: 916 | C17: 01 | D17: 02 | E17: 65 | F17: 1 | G17: 00 | H17: 44205 | I17: 100 | J17: =J18 -> 0 | K17: =K18 -> 0 | L17: =L18 -> 0
A18: Расходы на выплаты персоналу государственных (муниципальных) органов | B18: 916 | C18: 01 | D18: 02 | E18: 65 | F18: 1 | G18: 00 | H18: 44205 | I18: 120 | J18: 0 | K18: 0 | L18: 0
A19: Функционирование Правительства Российской Федерации, высших органов исполнительной власти субъектов Российской Федерации, местных администраций | B19: 916 | C19: 01 | D19: 04 | J19: =J20+J33 -> 471.1 | K19: =K20+K33 -> 445.8 | L19: =L20+L33 -> 433.7
A20: Обеспечение деятельности администрации | B20: 916 | C20: 01 | D20: 04 | E20: 65 | J20: =J21 -> 470.9 | K20: =K21 -> 445.6 | L20: =L21 -> 433.5
A21: Непрограммные расходы в рамках обеспечения деятельности администрации | B21: 916 | C21: 01 | D21: 04 | E21: 65 | F21: 2 | J21: =J22+J25+J30 -> 470.9 | K21: =K22+K25+K30 -> 445.6 | L21: =L22+L25+L30 -> 433.5
A22: Расходы на выплаты по оплате труда работников органов местного самоуправления | B22: 916 | C22: 01 | D22: 04 | E22: 65 | F22: 2 | G22: 00 | H22: 41110 | J22: =J23 -> 344.4 | K22: =K23 -> 320.5 | L22: =L23 -> 295.7
A23: Расходы на выплаты персоналу в целях обеспечения выполнения функций государственными (муниципальными) органами, казенными учреждениями, органами управления государственными внебюджетными фондами | B23: 916 | C23: 01 | D23: 04 | E23: 65 | F23: 2 | G23: 00 | H23: 41110 | I23: 100 | J23: =J24 -> 344.4 | K23: =K24 -> 320.5 | L23: =L24 -> 295.7
A24: Расходы на выплаты персоналу государственных (муниципальных) органов | B24: 916 | C24: 01 | D24: 04 | E24: 65 | F24: 2 | G24: 00 | H24: 41110 | I24: 120 | J24: 344.4 | K24: 320.5 | L24: 295.7
A25: Расходы на обеспечение функций органов местного самоуправления | B25: 916 | C25: 01 | D25: 04 | E25: 65 | F25: 2 | G25: 00 | H25: 41120 | J25: =J26+J28 -> 126.5 | K25: =K26+K28 -> 125.1 | L25: =L26+L28 -> 137.8
A26: Закупка товаров, работ и услуг для обеспечения государственных (муниципальных) нужд | B26: 916 | C26: 01 | D26: 04 | E26: 65 | F26: 2 | G26: 00 | H26: 41120 | I26: 200 | J26: =J27 -> 60.7 | K26: =K27 -> 60 | L26: =L27 -> 72
A27: Иные закупки товаров, работ и услуг для обеспечения государственных (муниципальных) нужд | B27: 916 | C27: 01 | D27: 04 | E27: 65 | F27: 2 | G27: 00 | H27: 41120 | I27: 240 | J27: 60.7 | K27: 60 | L27: 72
A28: Иные бюджетные ассигнования | B28: 916 | C28: 01 | D28: 04 | E28: 65 | F28: 2 | G28: 00 | H28: 41120 | I28: 800 | J28: =J29 -> 65.8 | K28: =K29 -> 65.1 | L28: =L29 -> 65.8
A29: Уплата налогов, сборов и иных платежей | B29: 916 | C29: 01 | D29: 04 | E29: 65 | F29: 2 | G29: 00 | H29: 41120 | I29: 850 | J29: 65.8 | K29: 65.1 | L29: 65.8
A30: Субсидии на софинансирование расходных обязательств по финансовому обеспечению деятельности органов местного самоуправления и муниципальных учреждений | B30: 916 | C30: 01 | D30: 04 | E30: 65 | F30: 2 | G30: 00 | H30: 44205 | J30: =J31 -> 0 | K30: =K31 -> 0 | L30: =L31 -> 0
A31: Расходы на выплаты персоналу в целях обеспечения выполнения функций государственными (муниципальными) органами, казенными учреждениями, органами управления государственными внебюджетными фондами | B31: 916 | C31: 01 | D31: 04 | E31: 65 | F31: 2 | G31: 00 | H31: 44205 | I31: 100 | J31: =J32 -> 0 | K31: =K32 -> 0 | L31: =L32 -> 0
A32: Расходы на выплаты персоналу государственных (муниципальных) органов | B32: 916 | C32: 01 | D32: 04 | E32: 65 | F32: 2 | G32: 00 | H32: 44205 | I32: 120 | J32: 0 | K32: 0 | L32: 0
A33: Непрограммные расходы главных распорядителей средств бюджета Латышовского сельского поселения Кадошкинского муниципального района Республики Мордовия | B33: 916 | C33: 01 | D33: 04 | E33: 89 | J33: =J34 -> 0.2 | K33: =K34 -> 0.2 | L33: =L34 -> 0.2
A34: Непрограммные расходы в рамках обеспечения деятельности главных распорядителей средств бюджета Латышовского сельского поселения Кадошкинского муниципального района Республики Мордовия | B34: 916 | C34: 01 | D34: 04 | E34: 89 | F34: 1 | J34: =J35 -> 0.2 | K34: =K35 -> 0.2 | L34: =L35 -> 0.2
A35: Осуществление государственных полномочий Республики Мордовия по определению перечня должностных лиц, уполномоченных составлять протоколы об административных правонарушениях, предусмотренных Законом Республики Мордовия от 15 июня 2015 года № 38-З "Об административной ответственности на территории Республики Мордовия" | B35: 916 | C35: 01 | D35: 04 | E35: 89 | F35: 1 | G35: 00 | H35: 77150 | J35: =J36 -> 0.2 | K35: =K36 -> 0.2 | L35: =L36 -> 0.2
A36: Закупка товаров, работ и услуг для обеспечения государственных (муниципальных) нужд | B36: 916 | C36: 01 | D36: 04 | E36: 89 | F36: 1 | G36: 00 | H36: 77150 | I36: 200 | J36: =J37 -> 0.2 | K36: =K37 -> 0.2 | L36: =L37 -> 0.2
A37: Иные закупки товаров, работ и услуг для обеспечения государственных (муниципальных) нужд | B37: 916 | C37: 01 | D37: 04 | E37: 89 | F37: 1 | G37: 00 | H37: 77150 | I37: 240 | J37: 0.2 | K37: 0.2 | L37: 0.2
A38: Резервные фонды | B38: 916 | C38: 01 | D38: 11 | J38: =J39 -> 1 | K38: =K39 -> 1 | L38: =L39 -> 1
A39: Непрограммные расходы главных распорядителей средств бюджета Латышовского сельского поселения Кадошкинского муниципального района Республики Мордовия | B39: 916 | C39: 01 | D39: 11 | E39: 89 | J39: =J40 -> 1 | K39: =K40 -> 1 | L39: =L40 -> 1
A40: Непрограммные расходы в рамках обеспечения деятельности главных распорядителей средств бюджета Латышовского сельского поселения Кадошкинского муниципального района Республики Мордовия | B40: 916 | C40: 01 | D40: 11 | E40: 89 | F40: 1 | J40: =J41 -> 1 | K40: =K41 -> 1 | L40: =L41 -> 1
...

Sheet Прил 5 
I1: Приложение 5 к решению Совета депутатов Латышовского сельского поселения "О бюджете Латышовского сельского поселения Кадошкинского муниципального района Республики Мордовия на 2022 год и на плановый период 2023 и 2024 годов"
A2: РАСПРЕДЕЛЕНИЕ БЮДЖЕТНЫХ АССИГНОВАНИЙ БЮДЖЕТА ЛАТЫШОВСКОГО СЕЛЬСКОГО ПОСЕЛЕНИЯ КАДОШКИНСКОГО МУНИЦИПАЛЬНОГО РАЙОНА РЕСПУБЛИКИ МОРДОВИЯ ПО РАЗДЕЛАМ, ПОДРАЗДЕЛАМ, ЦЕЛЕВЫМ СТАТЬЯМ (МУНИЦИПАЛЬНЫМ ПРОГРАММАМ И НЕПРОГРАММНЫМ НАПРАВЛЕНИЯМ ДЕЯТЕЛЬНОСТИ), ГРУППАМ И ПОДГРУППАМ ВИДОВ РАСХОДОВ КЛАССИФИКАЦИИ РАСХОДОВ БЮДЖЕТОВ НА 2022 ГОД И НА ПЛАНОВЫЙ ПЕРИОД 2023 И 2024 ГОДОВ
K3: (тыс. рублей)
A4: Наименование | B4: Рз | C4: Прз | D4: Цср | H4: Вр | I4: Сумма
I5: 2022 год | J5: 2023 год | K5: 2024 год
A6: 1 | B6: 2 | C6: 3 | D6: 4 | E6: 5 | F6: 6 | G6: 7 | H6: 8 | I6: 9 | J6: 10 | K6: 11
A7: ВСЕГО | I7: =I8+I48+I63+I70+I86+I93+I57 -> 1603.8 | J7: =J8+J48+J63+J70+J86+J93+J57+J100 -> 1377.7 | K7: =K8+K48+K63+K70+K86+K93+K57+K100 -> 1413.2
A8: Общегосударственные вопросы | B8: 01 | I8: =I9+I18+I37+I43 -> 820.6 | J8: =J9+J18+J37+J43 -> 678.6 | K8: =K9+K18+K37+K43 -> 641.4
A9: Функционирование высшего должностного лица субъекта Российской Федерации и муниципального образования | B9: 01 | C9: 02 | I9: =I10 -> 347.5 | J9: =J10 -> 231.8 | K9: =K10 -> 206.7
A10: Обеспечение деятельности администрации | B10: 01 | C10: 02 | D10: 65 | I10: =I11 -> 347.5 | J10: =J11 -> 231.8 | K10: =K11 -> 206.7
A11: Высшее должностное лицо | B11: 01 | C11: 02 | D11: 65 | E11: 1 | I11: =I12+I15 -> 347.5 | J11: =J12+J15 -> 231.8 | K11: =K12+K15 -> 206.7
A12: Расходы на выплаты по оплате труда высшего должностного лица | B12: 01 | C12: 02 | D12: 65 | E12: 1 | F12: 00 | G12: 41150 | I12: =I13 -> 347.5 | J12: =J13 -> 231.8 | K12: =K13 -> 206.7
A13: Расходы на выплаты персоналу в целях обеспечения выполнения функций государственными (муниципальными) органами, казенными учреждениями, органами управления государственными внебюджетными фондами | B13: 01 | C13: 02 | D13: 65 | E13: 1 | F13: 00 | G13: 41150 | H13: 100 | I13: =I14 -> 347.5 | J13: =J14 -> 231.8 | K13: =K14 -> 206.7
A14: Расходы на выплаты персоналу государственных (муниципальных) органов | B14: 01 | C14: 02 | D14: 65 | E14: 1 | F14: 00 | G14: 41150 | H14: 120 | I14: ='Прил 4'!J15 -> 347.5 | J14: ='Прил 4'!K15 -> 231.8 | K14: ='Прил 4'!L15 -> 206.7
A15: Субсидии на софинансирование расходных обязательств по финансовому обеспечению деятельности органов местного самоуправления и муниципальных учреждений | B15: 01 | C15: 02 | D15: 65 | E15: 1 | F15: 00 | G15: 44205 | I15: =I16 -> 0 | J15: =J16 -> 0 | K15: =K16 -> 0
A16: Расходы на выплаты персоналу в целях обеспечения выполнения функций государственными (муниципальными) органами, казенными учреждениями, органами управления государственными внебюджетными фондами | B16: 01 | C16: 02 | D16: 65 | E16: 1 | F16: 00 | G16: 44205 | H16: 100 | I16: =I17 -> 0 | J16: =J17 -> 0 | K16: =K17 -> 0
A17: Расходы на выплаты персоналу государственных (муниципальных) органов | B17: 01 | C17: 02 | D17: 65 | E17: 1 | F17: 00 | G17: 44205 | H17: 120 | I17: ='Прил 4'!J18 -> 0 | J17: ='Прил 4'!K18 -> 0 | K17: ='Прил 4'!L18 -> 0
A18: Функционирование Правительства Российской Федерации, высших органов исполнительной власти субъектов Российской Федерации, местных администраций | B18: 01 | C18: 04 | I18: =I19+I32 -> 471.1 | J18: =J19+J32 -> 445.8 | K18: =K19+K32 -> 433.7
A19: Обеспечение деятельности администрации | B19: 01 | C19: 04 | D19: 65 | I19: =I20 -> 470.9 | J19: =J20 -> 445.6 | K19: =K20 -> 433.5
A20: Непрограммные расходы в рамках обеспечения деятельности администрации | B20: 01 | C20: 04 | D20: 65 | E20: 2 | I20: =I21+I24+I29 -> 470.9 | J20: =J21+J24+J29 -> 445.6 | K20: =K21+K24+K29 -> 433.5
A21: Расходы на выплаты по оплате труда работников органов местного самоуправления | B21: 01 | C21: 04 | D21: 65 | E21: 2 | F21: 00 | G21: 41110 | I21: =I22 -> 344.4 | J21: =J22 -> 320.5 | K21: =K22 -> 295.7
A22: Расходы на выплаты персоналу в целях обеспечения выполнения функций государственными (муниципальными) органами, казенными учреждениями, органами управления государственными внебюджетными фондами | B22: 01 | C22: 04 | D22: 65 | E22: 2 | F22: 00 | G22: 41110 | H22: 100 | I22: =I23 -> 344.4 | J22: =J23 -> 320.5 | K22: =K23 -> 295.7
A23: Расходы на выплаты персоналу государственных (муниципальных) органов | B23: 01 | C23: 04 | D23: 65 | E23: 2 | F23: 00 | G23: 41110 | H23: 120 | I23: ='Прил 4'!J24 -> 344.4 | J23: ='Прил 4'!K24 -> 320.5 | K23: ='Прил 4'!L24 -> 295.7
A24: Расходы на обеспечение функций органов местного самоуправленя | B24: 01 | C24: 04 | D24: 65 | E24: 2 | F24: 00 | G24: 41120 | I24: =I25+I27 -> 126.5 | J24: =J25+J27 -> 125.1 | K24: =K25+K27 -> 137.8
A25: Закупка товаров, работ и услуг для обеспечения государственных (муниципальных) нужд | B25: 01 | C25: 04 | D25: 65 | E25: 2 | F25: 00 | G25: 41120 | H25: 200 | I25: =I26 -> 60.7 | J25: =J26 -> 60 | K25: =K26 -> 72
A26: Иные закупки товаров, работ и услуг для обеспечения государственных (муниципальных) нужд | B26: 01 | C26: 04 | D26: 65 | E26: 2 | F26: 00 | G26: 41120 | H26: 240 | I26: ='Прил 4'!J27 -> 60.7 | J26: ='Прил 4'!K27 -> 60 | K26: ='Прил 4'!L27 -> 72
A27: Иные бюджетные ассигнования | B27: 01 | C27: 04 | D27: 65 | E27: 2 | F27: 00 | G27: 41120 | H27: 800 | I27: =I28 -> 65.8 | J27: =J28 -> 65.1 | K27: =K28 -> 65.8
A28: Уплата налогов, сборов и иных платежей | B28: 01 | C28: 04 | D28: 65 | E28: 2 | F28: 00 | G28: 41120 | H28: 850 | I28: ='Прил 4'!J29 -> 65.8 | J28: ='Прил 4'!K29 -> 65.1 | K28: ='Прил 4'!L29 -> 65.8
A29: Субсидии на софинансирование расходных обязательств по финансовому обеспечению деятельности органов местного самоуправления и муниципальных учреждений | B29: 01 | C29: 04 | D29: 65 | E29: 2 | F29: 00 | G29: 44205 | I29: =I30 -> 0 | J29: =J30 -> 0 | K29: =K30 -> 0
A30: Расходы на выплаты персоналу в целях обеспечения выполнения функций государственными (муниципальными) органами, казенными учреждениями, органами управления государственными внебюджетными фондами | B30: 01 | C30: 04 | D30: 65 | E30: 2 | F30: 00 | G30: 44205 | H30: 100 | I30: =I31 -> 0 | J30: =J31 -> 0 | K30: =K31 -> 0
A31: Расходы на выплаты персоналу государственных (муниципальных) органов | B31: 01 | C31: 04 | D31: 65 | E31: 2 | F31: 00 | G31: 44205 | H31: 120 | I31: ='Прил 4'!J32 -> 0 | J31: ='Прил 4'!K32 -> 0 | K31: ='Прил 4'!L32 -> 0
A32: Непрограммные расходы главных распорядителей средств бюджета Латышовского сельского поселения Кадошкинского муниципального района Республики Мордовия | B32: 01 | C32: 04 | D32: 89 | I32: =I33 -> 0.2 | J32: =J33 -> 0.2 | K32: =K33 -> 0.2
A33: Непрограммные расходы в рамках обеспечения деятельности главных распорядителей средств бюджета Латышовского сельского поселения Кадошкинского муниципального района Республики Мордовия | B33: 01 | C33: 04 | D33: 89 | E33: 1 | I33: =I34 -> 0.2 | J33: =J34 -> 0.2 | K33: =K34 -> 0.2
A34: Осуществление государственных полномочий Республики Мордовия по определению перечня должностных лиц, уполномоченных составлять протоколы об административных правонарушениях, предусмотренных Законом Республики Мордовия от 15 июня 2015 года № 38-З "Об административной ответственности на территории Республики Мордовия" | B34: 01 | C34: 04 | D34: 89 | E34: 1 | F34: 00 | G34: 77150 | I34: =I35 -> 0.2 | J34: =J35 -> 0.2 | K34: =K35 -> 0.2
A35: Закупка товаров, работ и услуг для обеспечения государственных (муниципальных) нужд | B35: 01 | C35: 04 | D35: 89 | E35: 1 | F35: 00 | G35: 77150 | H35: 200 | I35: =I36 -> 0.2 | J35: =J36 -> 0.2 | K35: =K36 -> 0.2
A36: Иные закупки товаров, работ и услуг для обеспечения государственных (муниципальных) нужд | B36: 01 | C36: 04 | D36: 89 | E36: 1 | F36: 00 | G36: 77150 | H36: 240 | I36: ='Прил 4'!J37 -> 0.2 | J36: ='Прил 4'!K37 -> 0.2 | K36: ='Прил 4'!L37 -> 0.2
A37: Резервные фонды | B37: 01 | C37: 11 | I37: =I38 -> 1 | J37: =J38 -> 1 | K37: =K38 -> 1
A38: Непрограммные расходы главных распорядителей средств бюджета Латышовского сельского поселения Кадошкинского муниципального района Республики Мордовия | B38: 01 | C38: 11 | D38: 89 | I38: =I39 -> 1 | J38: =J39 -> 1 | K38: =K39 -> 1
A39: Непрограммные расходы в рамках обеспечения деятельности главных распорядителей средств бюджета Латышовского сельского поселения Кадошкинского муниципального района Республики Мордовия | B39: 01 | C39: 11 | D39: 89 | E39: 1 | I39: =I40 -> 1 | J39: =J40 -> 1 | K39: =K40 -> 1
A40: Резервный фонд администрации Латышовского сельского поселения Кадошкинского муниципального района Республики Мордовия | B40: 01 | C40: 11 | D40: 89 | E40: 1 | F40: 00 | G40: 41180 | I40: =I41 -> 1 | J40: =J41 -> 1 | K40: =K41 -> 1
...

Sheet Прил 6
J1: Приложение 6 к решению Совета депутатов Латышовского сельского поселения "О бюджете Латышовского сельского поселения Кадошкинского муниципального района Республики Мордовия на 2022 год и на плановый период 2023 и 2024 годов"
A2: РАСПРЕДЕЛЕНИЕ БЮДЖЕТНЫХ АССИГНОВАНИЙ БЮДЖЕТА ЛАТЫШОВСКОГО СЕЛЬСКОГО ПОСЕЛЕНИЯ КАДОШКИНСКОГО МУНИЦИПАЛЬНОГО РАЙОНА РЕСПУБЛИКИ МОРДОВИЯ ПО ЦЕЛЕВЫМ СТАТЬЯМ (МУНИЦИПАЛЬНЫМ ПРОГРАММАМ И НЕПРОГРАММНЫМ НАПРАВЛЕНИЯМ ДЕЯТЕЛЬНОСТИ), ГРУППАМ И ПОДГРУППАМ ВИДОВ РАСХОДОВ, РАЗДЕЛАМ И ПОДРАЗДЕЛАМ КЛАССИФИКАЦИИ РАСХОДОВ БЮДЖЕТОВ НА 2022 ГОД НА ПЛАНОВЫЙ ПЕРИОД 2023 И 2024 ГОДОВ
L3: (тыс. рублей)
A4: Наименование | B4: Цср | F4: ВР | G4: Рз | H4: Прз | I4: Адм | J4: Сумма
J5: 2022 год | K5: 2023 год | L5: 2024 год
A6: 1 | B6: 2 | C6: 3 | D6: 4 | E6: 5 | F6: 6 | G6: 7 | H6: 8 | I6: 9 | J6: 10 | K6: 11 | L6: 12
A7: ВСЕГО | J7: =J22+J60+J8+J15 -> 1603.8 | K7: =K22+K60+K8+K15 -> 1377.7 | L7: =L22+L60+L8+L15 -> 1413.2
A8: Программа "Развитие муниципальной службы в Латышовском сельском поселении на 2019-2022 годы" | B8: 01 | J8: =J9 -> 1 | K8: =K9 -> 0 | L8: =L9 -> 0
A9: Подготовка, переподготовка и повышение квалификации кадров | B9: 01 | C9: 0 | D9: 00 | E9: 41250 | J9: =J10 -> 1 | K9: =K10 -> 0 | L9: =L10 -> 0
A10: Закупка товаров, работ и услуг для обеспечения государственных (муниципальных) нужд | B10: 01 | C10: 0 | D10: 00 | E10: 41250 | F10: 200 | J10: =J11 -> 1 | K10: =K11 -> 0 | L10: =L11 -> 0
A11: Иные закупки товаров, работ и услуг для обеспечения государственных (муниципальных) нужд | B11: 01 | C11: 0 | D11: 00 | E11: 41250 | F11: 240 | J11: =J12 -> 1 | K11: =K12 -> 0 | L11: =L12 -> 0
A12: Общегосударственные вопросы | B12: 01 | C12: 0 | D12: 00 | E12: 41250 | F12: 240 | G12: 01 | J12: =J13 -> 1 | K12: =K13 -> 0 | L12: =L13 -> 0
A13: Другие общегосударственные вопросы | B13: 01 | C13: 0 | D13: 00 | E13: 41250 | F13: 240 | G13: 01 | H13: 13 | J13: =J14 -> 1 | K13: =K14 -> 0 | L13: =L14 -> 0
A14: Администрация Латышовского сельского поселения Кадошкинского муниципального района Республики Мордовия | B14: 01 | C14: 0 | D14: 00 | E14: 41250 | F14: 240 | G14: 01 | H14: 13 | I14: 916 | J14: ='Прил 4'!J48 -> 1 | K14: ='Прил 4'!K48 -> 0 | L14: ='Прил 4'!L48 -> 0
A15: Целевая программа "Профилактика наркомании и токсикомании на территории Латышовского сельского поселения на 2019-2021 годы" | B15: 20 | J15: =J16 -> 1 | K15: =K16 -> 1 | L15: =L16 -> 1
A16: Мероприятия в области противодействия злоупотреблению наркотиками и их незаконному обороту | B16: 20 | C16: 0 | D16: 00 | E16: 42100 | J16: =J17 -> 1 | K16: =K17 -> 1 | L16: =L17 -> 1
A17: Закупка товаров, работ и услуг для обеспечения государственных (муниципальных) нужд | B17: 20 | C17: 0 | D17: 00 | E17: 42100 | F17: 200 | J17: =J18 -> 1 | K17: =K18 -> 1 | L17: =L18 -> 1
A18: Иные закупки товаров, работ и услуг для обеспечения государственных (муниципальных) нужд | B18: 20 | C18: 0 | D18: 00 | E18: 42100 | F18: 240 | J18: =J19 -> 1 | K18: =K19 -> 1 | L18: =L19 -> 1
A19: Национальная безопасность и правоохранительная деятельность | B19: 20 | C19: 0 | D19: 00 | E19: 42100 | F19: 240 | G19: 03 | J19: =J20 -> 1 | K19: =K20 -> 1 | L19: =L20 -> 1
A20: Другие вопросы в области национальной безопасности и правоохранительной деятельности | B20: 20 | C20: 0 | D20: 00 | E20: 42100 | F20: 240 | G20: 03 | H20: 14 | J20: =J21 -> 1 | K20: =K21 -> 1 | L20: =L21 -> 1
A21: Администрация Латышовского сельского поселения Кадошкинского муниципального района Республики Мордовия | B21: 20 | C21: 0 | D21: 00 | E21: 42100 | F21: 240 | G21: 03 | H21: 14 | I21: 916 | J21: ='Прил 4'!J63 -> 1 | K21: ='Прил 4'!K63 -> 1 | L21: ='Прил 4'!L63 -> 1
A22: Обеспечение деятельности администрации | B22: 65 | J22: =J23+J36 -> 818.4 | K22: =K23+K36 -> 677.4 | L22: =L23+L36 -> 640.2
A23: Высшее должностное лицо | B23: 65 | C23: 1 | J23: =J24+J30 -> 347.5 | K23: =K24+K30 -> 231.8 | L23: =L24+L30 -> 206.7
A24: Расходы на выплаты по оплате труда высшего должностного лица муниципального образования | B24: 65 | C24: 1 | D24: 00 | E24: 41150 | J24: =J27 -> 347.5 | K24: =K27 -> 231.8 | L24: =L27 -> 206.7
A25: Расходы на выплаты персоналу в целях обеспечения выполнения функций государственными (муниципальными) органами, казенными учреждениями, органами управления государственными внебюджетными фондами | B25: 65 | C25: 1 | D25: 00 | E25: 41150 | F25: 100 | J25: =J26 -> 347.5 | K25: =K26 -> 231.8 | L25: =L26 -> 206.7
A26: Расходы на выплаты персоналу государственных (муниципальных) органов | B26: 65 | C26: 1 | D26: 00 | E26: 41150 | F26: 120 | J26: =J27 -> 347.5 | K26: =K27 -> 231.8 | L26: =L27 -> 206.7
A27: Общегосударственные вопросы | B27: 65 | C27: 1 | D27: 00 | E27: 41150 | F27: 120 | G27: 01 | J27: =J28 -> 347.5 | K27: =K28 -> 231.8 | L27: =L28 -> 206.7
A28: Функционирование высшего должностного лица субъекта Российской Федерации и муниципального образования | B28: 65 | C28: 1 | D28: 00 | E28: 41150 | F28: 120 | G28: 01 | H28: 02 | J28: =J29 -> 347.5 | K28: =K29 -> 231.8 | L28: =L29 -> 206.7
A29: Администрация Латышовского сельского поселения Кадошкинского муниципального района Республики Мордовия | B29: 65 | C29: 1 | D29: 00 | E29: 41150 | F29: 120 | G29: 01 | H29: 02 | I29: 916 | J29: ='Прил 4'!J15 -> 347.5 | K29: ='Прил 4'!K15 -> 231.8 | L29: ='Прил 4'!L15 -> 206.7
A30: Субсидии на софинансирование расходных обязательств по финансовому обеспечению деятельности органов местного самоуправления и муниципальных учреждений | B30: 65 | C30: 1 | D30: 00 | E30: 44205 | J30: =J31 -> 0 | K30: =K31 -> 0 | L30: =L31 -> 0
A31: Расходы на выплаты персоналу в целях обеспечения выполнения функций государственными (муниципальными) органами, казенными учреждениями, органами управления государственными внебюджетными фондами | B31: 65 | C31: 1 | D31: 00 | E31: 44205 | F31: 100 | J31: =J32 -> 0 | K31: =K32 -> 0 | L31: =L32 -> 0
A32: Расходы на выплаты персоналу государственных (муниципальных) органов | B32: 65 | C32: 1 | D32: 00 | E32: 44205 | F32: 120 | J32: =J33 -> 0 | K32: =K33 -> 0 | L32: =L33 -> 0
A33: Общегосударственные вопросы | B33: 65 | C33: 1 | D33: 00 | E33: 44205 | F33: 120 | G33: 01 | J33: =J34 -> 0 | K33: =K34 -> 0 | L33: =L34 -> 0
A34: Функционирование высшего должностного лица субъекта Российской Федерации и муниципального образования | B34: 65 | C34: 1 | D34: 00 | E34: 44205 | F34: 120 | G34: 01 | H34: 02 | J34: =J35 -> 0 | K34: =K35 -> 0 | L34: =L35 -> 0
A35: Администрация Латышовского сельского поселения Кадошкинского муниципального района Республики Мордовия | B35: 65 | C35: 1 | D35: 00 | E35: 44205 | F35: 120 | G35: 01 | H35: 02 | I35: 916 | J35: ='Прил 4'!J18 -> 0 | K35: ='Прил 4'!K18 -> 0 | L35: ='Прил 4'!L18 -> 0
A36: Непрограммные расходы в рамках обеспечения деятельности администрации | B36: 65 | C36: 2 | J36: =J37+J43+J54 -> 470.9 | K36: =K37+K43+K54 -> 445.6 | L36: =L37+L43+L54 -> 433.5
A37: Расходы на выплаты по оплате труда работников органов местного самоуправления | B37: 65 | C37: 2 | D37: 00 | E37: 41110 | J37: =J38 -> 344.4 | K37: =K40 -> 320.5 | L37: =L40 -> 295.7
A38: Расходы на выплаты персоналу в целях обеспечения выполнения функций государственными (муниципальными) органами, казенными учреждениями, органами управления государственными внебюджетными фондами | B38: 65 | C38: 2 | D38: 00 | E38: 41110 | F38: 100 | J38: =J39 -> 344.4 | K38: =K39 -> 320.5 | L38: =L39 -> 295.7
A39: Расходы на выплаты персоналу государственных (муниципальных) органов | B39: 65 | C39: 2 | D39: 00 | E39: 41110 | F39: 120 | J39: =J40 -> 344.4 | K39: =K40 -> 320.5 | L39: =L40 -> 295.7
A40: Общегосударственные вопросы | B40: 65 | C40: 2 | D40: 00 | E40: 41110 | F40: 120 | G40: 01 | J40: =J41 -> 344.4 | K40: =K41 -> 320.5 | L40: =L41 -> 295.7
...

Sheet Прил 7
C1: Приложение 7 к решению Совета депутатов Латышовского сельского поселения "О бюджете Латышовского сельского поселения Кадошкинского муниципального района Республики Мордовия на 2022 год и на плановый период 2023 и 2024 годов"
A2: ИСТОЧНИКИ ВНУТРЕННЕГО ФИНАНСИРОВАНИЯ ДЕФИЦИТА БЮДЖЕТА ЛАТЫШОВСКОГО СЕЛЬСКОГО ПОСЕЛЕНИЯ КАДОШКИНСКОГО МУНИЦИПАЛЬНОГО РАЙОНА РЕСПУБЛИКИ МОРДОВИЯ НА 2022 ГОД И НА ПЛАНОВЫЙ ПЕРИОД 2023 И 2024 ГОДОВ
E3: (тыс.руб.)
A4: Код | B4: Наименование кода группы, подгруппы, статьи, вида источника финансирования дефицитов бюджетов, кода классификации операций сектора государственного управления, относящихся к источникам финансирования дефицитов бюджетов Российской Федерации | C4: Сумма (тыс. руб.)
C5: 2022 год | D5: 2023 год | E5: 2024 год
A6: 000 01 00 00 00 00 0000 000 | B6: ИСТОЧНИКИ ВНУТРЕННЕГО ФИНАНСИРОВАНИЯ ДЕФИЦИТОВ БЮДЖЕТОВ | C6: =C7+C10+C14 -> 4.6185278e-14 | D6: =D7+D10+D14 -> -4.6185278e-14 | E6: =E7+E10+E14 -> 9.2370556e-14
A7: 000 01 02 00 00 00 0000 000 | B7: Кредиты кредитных организаций в валюте Российской Федерации | C7: =SUM(C8) -> 0 | D7: =SUM(D8) -> 0 | E7: =SUM(E8) -> 0
A8: 000 01 02 00 00 00 0000 700 | B8: Получение кредитов от кредитных организаций в валюте Российской Федерации | C8: =SUM(C9) -> 0 | D8: =SUM(D9) -> 0 | E8: =SUM(E9) -> 0
A9: 000 01 02 00 00 10 0000 710 | B9: Получение кредитов от кредитных организаций бюджетами поселений в валюте Российской Федерации | C9: 0 | D9: 0 | E9: 0
A10: 000 01 03 00 00 00 0000 000 | B10: Бюджетные кредиты от других бюджетов бюджетной системы Российской Федерации | C10: =C11 -> -14.2 | D10: =D11 -> -21.3 | E10: =E11 -> -28.4
A11: 000 01 03 01 00 00 0000 000 | B11: Бюджетные кредиты от других бюджетов бюджетной системы Российской Федерации в валюте Российской Федерации | C11: =C12 -> -14.2 | D11: =D12 -> -21.3 | E11: =E12 -> -28.4
A12: 000 01 03 01 00 10 0000 800 | B12: Погашение бюджетных кредитов, полученных от других бюджетов бюджетной системы Российской Федерации в валюте Российской Федерации | C12: =SUM(C13) -> -14.2 | D12: =SUM(D13) -> -21.3 | E12: =SUM(E13) -> -28.4
A13: 000 01 03 01 00 10 0000 810 | B13: Погашение бюджетами сельских поселений кредитов от других бюджетов бюджетной системы Российской Федерации в валюте Российской Федерации | C13: -14.2 | D13: -21.3 | E13: -28.4
A14: 000 01 05 00 00 00 0000 000 | B14: Изменения остатков средств на счетах по учету средств бюджетов | C14: =C17+C18 -> 14.2 | D14: =D17+D18 -> 21.3 | E14: =E17+E18 -> 28.4
A15: 000 01 05 02 00 00 0000 500 | B15: Увеличение прочих остатков средств бюджетов | C15: =SUM(C16) -> -1603.8 | D15: =SUM(D16) -> -1377.7 | E15: =SUM(E16) -> -1413.2
A16: 000 01 05 02 01 00 0000 510 | B16: Увеличение прочих остатков денежных средств бюджетов | C16: =SUM(C17) -> -1603.8 | D16: =SUM(D17) -> -1377.7 | E16: =SUM(E17) -> -1413.2
A17: 000 01 05 02 01 10 0000 510 | B17: Увеличение прочих остатков денежных средств бюджетов сельских поселений | C17: =-'Прил 3'!C8-C9 -> -1603.8 | D17: =-'Прил 3'!D8-D9 -> -1377.7 | E17: =-'Прил 3'!E8-E9 -> -1413.2
A18: 000 01 05 02 00 00 0000 600 | B18: Уменьшение прочих остатков средств бюджетов | C18: =SUM(C19) -> 1618 | D18: =SUM(D19) -> 1399 | E18: =SUM(E19) -> 1441.6
A19: 000 01 05 02 01 00 0000 610 | B19: Уменьшение прочих остатков денежных средств бюджетов | C19: =SUM(C20) -> 1618 | D19: =SUM(D20) -> 1399 | E19: =SUM(E20) -> 1441.6
A20: 000 01 05 02 01 10 0000 610 | B20: Уменьшение прочих остатков денежных средств местных бюджетов | C20: ='Прил 5 '!I7-C13 -> 1618 | D20: ='Прил 5 '!J7-D13 -> 1399 | E20: ='Прил 5 '!K7-E13 -> 1441.6

Sheet Прил 8
C1: Приложение 8 к решению Совета депутатов Латышовского сельского поселения "О бюджете Латышовского сельского поселения Кадошкинского муниципального района Республики Мордовия на 2022 год и на плановый период 2023 и 2024 годов"
A2: ПРОГРАММА МУНИЦИПАЛЬНЫХ ВНУТРЕННИХ ЗАИМСТВОВАНИЙ ЛАТЫШОВСКОГО СЕЛЬСКОГО ПОСЕЛЕНИЯ КАДОШКИНСКОГО МУНИЦИПАЛЬНОГО РАЙОНА РЕСПУБЛИКИ МОРДОВИЯ НА 2022 ГОД И НА ПЛАНОВЫЙ ПЕРИОД 2023 И 2024 ГОДОВ
A5: № п/п | B5: Виды заимствований | C5: Сумма (тыс.руб.)
C6: 2022 год | D6: 2023 год | E6: 2024 год
A7: 1 | B7: 2 | C7: 3 | D7: 4 | E7: 5
A8: I | B8: Кредиты кредитных организаций в валюте Российской Федерации | C8: =C10 -> 0 | D8: =D10 -> 0 | E8: =E10 -> 0
B9: в том числе:
A10: 1 | B10: Объем привлечения | C10: 0 | D10: 0 | E10: 0
A11: 2 | B11: Объем средств, напрвляемых на погашение основной суммы долга
A12: II | B12: Бюджетные кредиты от других бюджетов бюджетной системы Российской Федерации | C12: =C15 -> -14.2 | D12: =D15 -> -21.3 | E12: =E15 -> -28.4
B13: в том числе
A14: 1 | B14: Объем привлечения
A15: 2 | B15: Объем средств, напрвляемых на погашение основной суммы долга | C15: -14.2 | D15: -21.3 | E15: -28.4
B16: ВСЕГО | C16: =C10+C15 -> -14.2 | D16: =D10+D15 -> -21.3 | E16: =E10+E15 -> -28.4
