Workbook
Name _1Excel_BuiltIn_Print_Area_1_1_1: 'Прил 1'!$A$1:$C$33
Name _2Excel_BuiltIn_Print_Area_7_1_1: #REF!
Name _2Excel_BuiltIn_Print_Area_7_1_1: #REF!
Name _Toc105952698: 'Прил 2 '!$A$3
Name _Toc105952698: #REF!
Name Excel_BuiltIn_Print_Area_1: 'Прил 1'!$A$1:$C$33
Name Excel_BuiltIn_Print_Area_1_1: 'Прил 1'!$A$1:$C$33
Name Excel_BuiltIn_Print_Area_2: #REF!
Name Excel_BuiltIn_Print_Area_2: #REF!
Name Excel_BuiltIn_Print_Area_3: #REF!
Name Excel_BuiltIn_Print_Area_3_1: #REF!
Name Excel_BuiltIn_Print_Area_3_1: #REF!
Name Excel_BuiltIn_Print_Area_4: #REF!
Name Excel_BuiltIn_Print_Area_4: #REF!
Name Excel_BuiltIn_Print_Area_5: 'Прил 2 '!$A$1:$I$42
Name Excel_BuiltIn_Print_Area_5: #REF!
Name Excel_BuiltIn_Print_Area_5_1: 'Прил 2 '!$A$1:$I$42
Name Excel_BuiltIn_Print_Area_5_1: #REF!
Name Excel_BuiltIn_Print_Area_6: 'Прил 3'!$A$1:$G$43
Name Excel_BuiltIn_Print_Area_6_1: 'Прил 3'!$A$1:$G$43
Name Excel_BuiltIn_Print_Area_7: #REF!
Name Excel_BuiltIn_Print_Area_7: #REF!
Name Excel_BuiltIn_Print_Area_7_1: #REF!
Name Excel_BuiltIn_Print_Area_7_1: #REF!

Sheet Прил 1
D1: Приложение 3
C2: к решению сессии Совета депутатов Адашевского сельского поселения "Об исполнении бюджета Адашевского сельского поселения Кадошкинского муниципального района Республики Мордовия за 2021 год"
A3: ДОХОДЫ БЮДЖЕТА АДАШЕВСКОГО СЕЛЬСКОГО ПОСЕЛЕНИЯ КАДОШКИНСКОГО МУНИЦИПАЛЬНОГО РАЙОНА РЕСПУБЛИКИ МОРДОВИЯ
C4: (тыс.рублей)
A5: Код бюджетной классификации доходов бюджета | B5: Наименование доходов | C5: Сумма
C6: План 2021 год | D6: Исполнение 2021 год | E6: % исполнения
A7: 1 | B7: 2 | C7: 3 | D7: 4 | E7: 5
B8: ВСЕГО ДОХОДОВ | C8: =C9+C23+C34 -> 1298.4 | D8: =SUM(D9+D23+D34) -> 1353.9 | E8: =D8/C8*100 -> 104.27449
A9: 00010000000000000000 | B9: НАЛОГОВЫЕ И НЕНАЛОГОВЫЕ ДОХОДЫ | C9: =SUM(C10+C13+C15+C17+C20) -> 477.7 | D9: =SUM(D10+D13+D15+D17+D20) -> 533.2 | E9: =D9/C9*100 -> 111.61817
A10: 00010100000000000000 | B10: НАЛОГИ НА ПРИБЫЛЬ, ДОХОДЫ | C10: =SUM(C11) -> 23.5 | D10: =SUM(D11) -> 16.3 | E10: =D10/C10*100 -> 69.361702
A11: 00010102000010000110 | B11: Налог на доходы физических лиц | C11: =SUM(C12) -> 23.5 | D11: =SUM(D12) -> 16.3 | E11: =D11/C11*100 -> 69.361702
A12: 18210102010010000110 | B12: Налог на доходы физических лиц с доходов, источником которых является налоговый агент, за исключением доходов, в отношении которых исчисление и уплата налога осуществляются в соответствии со статьями 227, 2271 и 228 Налогового кодекса Российской Федерации | C12: 23.5 | D12: 16.3 | E12: =D12/C12*100 -> 69.361702
A13: 00010500000000000000 | B13: НАЛОГИ НА СОВОКУПНЫЙ ДОХОД | C13: =SUM(C14) -> 67.1 | D13: =SUM(D14) -> 53.6 | E13: =D13/C13*100 -> 79.880775
A14: 18210503010010000110 | B14: Единый сельскохозяйственный налог | C14: 67.1 | D14: 53.6 | E14: =D14/C14*100 -> 79.880775
A15: 00010600000000000000 | B15: НАЛОГИ НА ИМУЩЕСТВО | C15: =SUM(C16) -> 42 | D15: =SUM(D16) -> 22.1 | E15: =D15/C15*100 -> 52.619048
A16: 18210601030100000110 | B16: Налог на имущество физических лиц, взимаемый по ставкам, применяемым к объектам налогообложения, расположенным в границах сельских поселений | C16: 42 | D16: 22.1 | E16: =D16/C16*100 -> 52.619048
A17: 00010606000000000110 | B17: Земельный налог | C17: =SUM(C18+C19) -> 298 | D17: =SUM(D18+D19) -> 426.3 | E17: =D17/C17*100 -> 143.05369
A18: 18210606033100000110 | B18: Земельный налог с организаций, обладающих земельным участком, расположенным в границах сельских поселений | C18: 88 | D18: 181.4 | E18: =D18/C18*100 -> 206.13636
A19: 18210606043100000110 | B19: Земельный налог с физических лиц, обладающих земельным участком, расположенным в границах сельских поселений | C19: 210 | D19: 244.9 | E19: =D19/C19*100 -> 116.61905
A20: 00011100000000000000 | B20: ДОХОДЫ ОТ ИСПОЛЬЗОВАНИЯ ИМУЩЕСТВА, НАХОДЯЩЕГОСЯ В ГОСУДАРСТВЕННОЙ И МУНИЦИПАЛЬНОЙ СОБСТВЕННОСТИ | C20: =C21+C22 -> 47.1 | D20: =D21+D22 -> 14.9 | E20: =D20/C20*100 -> 31.63482
A21: 91011105025100000120 | B21: Доходы, получаемые в виде арендной платы, а также средства от продажи права на заключение договоров аренды за земли, находящиеся в собственности сельских поселений (за исключением земельных участков муниципальных бюджетных и автономных учреждений) | C21: 17.2 | D21: 0 | E21: =D21/C21*100 -> 0
A22: 91011105035100000120 | B22: Доходы от сдачи в аренду имущества, находящегося в оперативном управлении органов управления поселений и созданных ими учреждений (за исключением имущества муниципальных бюджетных и автономных учреждений) | C22: 29.9 | D22: 14.9 | E22: =D22/C22*100 -> 49.832776
A23: 00020200000000000000 | B23: БЕЗВОЗМЕЗДНЫЕ ПОСТУПЛЕНИЯ ОТ ДРУГИХ БЮДЖЕТОВ БЮДЖЕТНОЙ СИСТЕМЫ РОССИЙСКОЙ ФЕДЕРАЦИИ | C23: =SUM(C29+C32+C24+C27) -> 805.7 | D23: =SUM(D29+D32+D24+D27) -> 805.7 | E23: =D23/C23*100 -> 100
A24: 00020210000000000150 | B24: Дотации бюджетам бюджетной системы Российской Федерации | C24: =C25+C26 -> 274.6 | D24: =D25+D26 -> 274.6 | E24: =D24/C24*100 -> 100
A25: 91020215001100000150 | B25: Дотации бюджетам сельских поселений на выравнивание бюджетной обеспеченности | C25: 55.1 | D25: 55.1 | E25: =D25/C25*100 -> 100
A26: 91020215002100000150 | B26: Дотации бюджетам сельских поселений на поддержку мер по обеспечению сбалансированности бюджетов | C26: 219.5 | D26: 219.5 | E26: =D26/C26*100 -> 100
A27: 00020220000000000150 | B27: Субсидии бюджетам бюджетной системы Российской Федерации (межбюджетные субсидии) | C27: =C28 -> 164.6 | D27: =D28 -> 164.6 | E27: =D27/C27*100 -> 100
A28: 91020229999100000150 | B28: Прочие субсидии бюджетам сельских поселений | C28: 164.6 | D28: 164.6 | E28: =D28/C28*100 -> 100
A29: 00020230000000000150 | B29: Субвенции бюджетам бюджетной системы Российской Федерации | C29: =SUM(C30+C31) -> 86.9 | D29: =SUM(D30+D31) -> 86.9 | E29: =D29/C29*100 -> 100
A30: 91020230024100000150 | B30: Субвенции на осуществление государственных полномочий Республики Мордовия по определению перечня должностных лиц, уполномоченных составлять протоколы об административных правонарушениях, предусмотренных Законом Республики Мордовия от 15 июня 2015 года № 38-З "Об административной ответственности на территории Республики Мордовия" | C30: 0.1 | D30: 0.1 | E30: =D30/C30*100 -> 100
A31: 91020235118100000150 | B31: Субвенции бюджетам сельских поселений на осуществление первичного воинского учета на территориях, где отсутствуют военные комиссариаты | C31: 86.8 | D31: 86.8 | E31: =D31/C31*100 -> 100
A32: 00020240000000000150 | B32: Иные межбюджетные трансферты | C32: =SUM(C33) -> 279.6 | D32: =SUM(D33) -> 279.6 | E32: =D32/C32*100 -> 100
A33: 91020240014100000150 | B33: Межбюджетные трансферты, передаваемые бюджетам сельских поселений из бюджетов муниципальных районов на осуществление части полномочий по решению вопросов местного значения в соответствии с заключенными соглашениями | C33: =255.6+0.4+33.077-9.477 -> 279.6 | D33: 279.6 | E33: =D33/C33*100 -> 100
A34: 00020700000000000000 | B34: ПРОЧИЕ БЕЗВОЗМЕЗДНЫЕ ПОСТУПЛЕНИЯ | C34: =C35 -> 15 | D34: =D35 -> 15 | E34: =D34/C34*100 -> 100
A35: 91020705030100000150 | B35: Прочие межбюджетные трансферты, передаваемые бюджетам сельских поселений | C35: 15 | D35: 15 | E35: =D35/C35*100 -> 100

Sheet Прил 2 
I1: Приложение 2
I2: к решению сессии Совета депутатов Адашевского сельского поселения "Об исполнении бюджета Адашевского сельского поселения Кадошкинского муниципального района Республики Мордовия за 2021 год"
A3: РАСПРЕДЕЛЕНИЕ БЮДЖЕТНЫХ АССИГНОВАНИЙ БЮДЖЕТА АДАШЕВСКОГО СЕЛЬСКОГО ПОСЕЛЕНИЯ КАДОШКИНСКОГО МУНИЦИПАЛЬНОГО РАЙОНА РЕСПУБЛИКИ МОРДОВИЯ ПО РАЗДЕЛАМ, ПОДРАЗДЕЛАМ, ЦЕЛЕВЫМ СТАТЬЯМ, ГРУППАМ (ГРУППАМ И ПОДГРУППАМ) ВИДОВ РАСХОДОВ КЛАССИФИКАЦИИ РАСХОДОВ БЮДЖЕТОВ НА 2021 ГОД
A4: Наименование | B4: Рз | C4: ПР | D4: ЦСР | H4: ВР | I4: Сумма (тыс. рублей)
I5: План 2021 год | J5: Исполнение 2021 год | K5: % исполнения
A6: 1 | B6: 2 | C6: 3 | D6: 4 | E6: 5 | F6: 6 | G6: 7 | H6: 8 | I6: 9 | J6: 10 | K6: 11
A7: ВСЕГО | I7: =I8+I43+I59+I66+I80+I87+I52 -> 1432.15 | J7: =J8+J43+J59+J66+J80+J87+J52 -> 1388 | K7: =J7/I7*100 -> 96.917222
A8: Общегосударственные вопросы | B8: 01 | I8: =I9+I18+I37 -> 959.15 | J8: =J9+J18+J37 -> 917.1 | K8: =J8/I8*100 -> 95.61591
A9: Функционирование высшего должностного лица субъекта Российской Федерации и муниципального образования | B9: 01 | C9: 02 | I9: =I10 -> 469.6 | J9: =J10 -> 451.3 | K9: =J9/I9*100 -> 96.103066
A10: Обеспечение деятельности администрации | B10: 01 | C10: 02 | D10: 65 | I10: =I11 -> 469.6 | J10: =J11 -> 451.3 | K10: =J10/I10*100 -> 96.103066
A11: Высшее должностное лицо | B11: 01 | C11: 02 | D11: 65 | E11: 1 | I11: =I12+I15 -> 469.6 | J11: =J12+J15 -> 451.3 | K11: =J11/I11*100 -> 96.103066
A12: Расходы на выплаты по оплате труда высшего должностного лица | B12: 01 | C12: 02 | D12: 65 | E12: 1 | F12: 00 | G12: 41150 | I12: =I13 -> 397.9 | J12: =J13 -> 379.6 | K12: =J12/I12*100 -> 95.400854
A13: Расходы на выплаты персоналу в целях обеспечения выполнения функций государственными (муниципальными) органами, казенными учреждениями, органами управления государственными внебюджетными фондами | B13: 01 | C13: 02 | D13: 65 | E13: 1 | F13: 00 | G13: 41150 | H13: 100 | I13: =I14 -> 397.9 | J13: =J14 -> 379.6 | K13: =J13/I13*100 -> 95.400854
A14: Расходы на выплаты персоналу государственных (муниципальных) органов | B14: 01 | C14: 02 | D14: 65 | E14: 1 | F14: 00 | G14: 41150 | H14: 120 | I14: ='Прил 3'!J15 -> 397.9 | J14: 379.6 | K14: =J14/I14*100 -> 95.400854
A15: Субсидии на софинансирование расходных обязательств по финансовому обеспечению деятельности органов местного самоуправления и муниципальных учреждений | B15: 01 | C15: 02 | D15: 65 | E15: 1 | F15: 00 | G15: 44205 | I15: =I16 -> 71.7 | J15: =J16 -> 71.7 | K15: =J15/I15*100 -> 100
A16: Расходы на выплаты персоналу в целях обеспечения выполнения функций государственными (муниципальными) органами, казенными учреждениями, органами управления государственными внебюджетными фондами | B16: 01 | C16: 02 | D16: 65 | E16: 1 | F16: 00 | G16: 44205 | H16: 100 | I16: =I17 -> 71.7 | J16: =J17 -> 71.7 | K16: =J16/I16*100 -> 100
A17: Расходы на выплаты персоналу государственных (муниципальных) органов | B17: 01 | C17: 02 | D17: 65 | E17: 1 | F17: 00 | G17: 44205 | H17: 120 | I17: ='Прил 3'!J18 -> 71.7 | J17: 71.7 | K17: =J17/I17*100 -> 100
A18: Функционирование Правительства Российской Федерации, высших органов исполнительной власти субъектов Российской Федерации, местных администраций | B18: 01 | C18: 04 | I18: =I19+I32 -> 488.55 | J18: =J19+J32 -> 465.8 | K18: =J18/I18*100 -> 95.343363
A19: Обеспечение деятельности администрации | B19: 01 | C19: 04 | D19: 65 | I19: =I20 -> 488.45 | J19: =J20 -> 465.7 | K19: =J19/I19*100 -> 95.34241
A20: Непрограммные расходы в рамках обеспечения деятельности администрации | B20: 01 | C20: 04 | D20: 65 | E20: 2 | I20: =I21+I29+I24 -> 488.45 | J20: =J21+J29+J24 -> 465.7 | K20: =J20/I20*100 -> 95.34241
A21: Расходы на выплаты по оплате труда работников органов местного самоуправления | B21: 01 | C21: 04 | D21: 65 | E21: 2 | F21: 00 | G21: 41110 | I21: =I22 -> 243.5 | J21: =J22 -> 223.2 | K21: =J21/I21*100 -> 91.663244
A22: Расходы на выплаты персоналу в целях обеспечения выполнения функций государственными (муниципальными) органами, казенными учреждениями, органами управления государственными внебюджетными фондами | B22: 01 | C22: 04 | D22: 65 | E22: 2 | F22: 00 | G22: 41110 | H22: 100 | I22: =I23 -> 243.5 | J22: =J23 -> 223.2 | K22: =J22/I22*100 -> 91.663244
A23: Расходы на выплаты персоналу государственных (муниципальных) органов | B23: 01 | C23: 04 | D23: 65 | E23: 2 | F23: 00 | G23: 41110 | H23: 120 | I23: ='Прил 3'!J24 -> 243.5 | J23: 223.2 | K23: =J23/I23*100 -> 91.663244
A24: Расходы на обеспечение функций органов местного самоуправления | B24: 01 | C24: 04 | D24: 65 | E24: 2 | F24: 00 | G24: 41120 | I24: =I27+I25 -> 152.05 | J24: =J27+J25 -> 149.6 | K24: =J24/I24*100 -> 98.388688
A25: Закупка товаров, работ и услуг для обеспечения государственных (муниципальных) нужд | B25: 01 | C25: 04 | D25: 65 | E25: 2 | F25: 00 | G25: 41120 | H25: 200 | I25: =I26 -> 137.55 | J25: =J26 -> 136 | K25: =J25/I25*100 -> 98.873137
A26: Иные закупки товаров, работ и услуг для обеспечения государственных (муниципальных) нужд | B26: 01 | C26: 04 | D26: 65 | E26: 2 | F26: 00 | G26: 41120 | H26: 240 | I26: ='Прил 3'!J27 -> 137.55 | J26: 136 | K26: =J26/I26*100 -> 98.873137
A27: Иные бюджетные ассигнования | B27: 01 | C27: 04 | D27: 65 | E27: 2 | F27: 00 | G27: 41120 | H27: 800 | I27: =I28 -> 14.5 | J27: =J28 -> 13.6 | K27: =J27/I27*100 -> 93.793103
A28: Уплата налогов, сборов и иных платежей | B28: 01 | C28: 04 | D28: 65 | E28: 2 | F28: 00 | G28: 41120 | H28: 850 | I28: ='Прил 3'!J29 -> 14.5 | J28: 13.6 | K28: =J28/I28*100 -> 93.793103
A29: Субсидии на софинансирование расходных обязательств по финансовому обеспечению деятельности органов местного самоуправления и муниципальных учреждений | B29: 01 | C29: 04 | D29: 65 | E29: 2 | F29: 00 | G29: 44205 | I29: =I30 -> 92.9 | J29: =J30 -> 92.9 | K29: =J29/I29*100 -> 100
A30: Расходы на выплаты персоналу в целях обеспечения выполнения функций государственными (муниципальными) органами, казенными учреждениями, органами управления государственными внебюджетными фондами | B30: 01 | C30: 04 | D30: 65 | E30: 2 | F30: 00 | G30: 44205 | H30: 100 | I30: =I31 -> 92.9 | J30: =J31 -> 92.9 | K30: =J30/I30*100 -> 100
A31: Расходы на выплаты персоналу государственных (муниципальных) органов | B31: 01 | C31: 04 | D31: 65 | E31: 2 | F31: 00 | G31: 44205 | H31: 120 | I31: ='Прил 3'!J32 -> 92.9 | J31: 92.9 | K31: =J31/I31*100 -> 100
A32: Непрограммные расходы главных распорядителей средств бюджета Адашевского сельского поселения Кадошкинского муниципального района Республики Мордовия | B32: 01 | C32: 04 | D32: 89 | I32: =I33 -> 0.1 | J32: =J33 -> 0.1 | K32: =J32/I32*100 -> 100
A33: Непрограммные расходы в рамках обеспечения деятельности главных распорядителей средств бюджета Адашевского сельского поселения Кадошкинского муниципального района Республики Мордовия | B33: 01 | C33: 04 | D33: 89 | E33: 1 | I33: =I34 -> 0.1 | J33: =J34 -> 0.1 | K33: =J33/I33*100 -> 100
A34: Осуществление государственных полномочий Республики Мордовия по определению перечня должностных лиц, уполномоченных составлять протоколы об административных правонарушениях, предусмотренных Законом Республики Мордовия от 15 июня 2015 года № 38-З "Об административной ответственности на территории Республики Мордовия" | B34: 01 | C34: 04 | D34: 89 | E34: 1 | F34: 00 | G34: 77150 | I34: =I35 -> 0.1 | J34: =J35 -> 0.1 | K34: =J34/I34*100 -> 100
A35: Закупка товаров, работ и услуг для обеспечения государственных (муниципальных) нужд | B35: 01 | C35: 04 | D35: 89 | E35: 1 | F35: 00 | G35: 77150 | H35: 200 | I35: =I36 -> 0.1 | J35: =J36 -> 0.1 | K35: =J35/I35*100 -> 100
A36: Иные закупки товаров, работ и услуг для обеспечения государственных (муниципальных) нужд | B36: 01 | C36: 04 | D36: 89 | E36: 1 | F36: 00 | G36: 77150 | H36: 240 | I36: ='Прил 3'!J37 -> 0.1 | J36: ='Прил 3'!K37 -> 0.1 | K36: =J36/I36*100 -> 100
A37: Резервные фонды | B37: 01 | C37: 11 | I37: =I38 -> 1 | J37: =J38 -> 0 | K37: =J37/I37*100 -> 0
A38: Непрограммные расходы главных распорядителей средств бюджета Адашевского сельского поселения Кадошкинского муниципального района Республики Мордовия | B38: 01 | C38: 11 | D38: 89 | I38: =I39 -> 1 | J38: =J39 -> 0 | K38: =J38/I38*100 -> 0
A39: Непрограммные расходы в рамках обеспечения деятельности главных распорядителей средств бюджета Адашевского сельского поселения Кадошкинского муниципального района Республики Мордовия | B39: 01 | C39: 11 | D39: 89 | E39: 1 | I39: =I40 -> 1 | J39: =J40 -> 0 | K39: =J39/I39*100 -> 0
A40: Резервный фонд администрации Адашевского сельского поселения Кадошкинского муниципального района Республики Мордовия | B40: 01 | C40: 11 | D40: 89 | E40: 1 | F40: 00 | G40: 41180 | I40: =I41 -> 1 | J40: =J41 -> 0 | K40: =J40/I40*100 -> 0
...

Sheet Прил 3
H1: Приложение 3
J2: к решению сессии Совета депутатов Адашевского сельского поселения "Об исполнении бюджета Адашевского сельского поселения Кадошкинского муниципального района Республики Мордовия за 2021 год"
A3: ВЕДОМСТВЕННАЯ СТРУКТУРА РАСХОДОВ БЮДЖЕТА АДАШЕВСКОГО СЕЛЬСКОГО ПОСЕЛЕНИЯ КАДОШКИНСКОГО МУНИЦИПАЛЬНОГО РАЙОНА РЕСПУБЛИКИ МОРДОВИЯ НА 2021 ГОД
A4: Наименование | B4: Адм | C4: Рз | D4: ПРз | E4: ЦСР | I4: ВР | J4: Сумма (тыс. рублей)
J5: План 2021 год | K5: Исполнение 2021 год | L5: % исполнения
A6: 1 | B6: 2 | C6: 3 | D6: 4 | E6: 5 | F6: 6 | G6: 7 | H6: 8 | I6: 9 | J6: 10 | K6: 11 | L6: 12
A7: ВСЕГО | J7: =J8 -> 1432.15 | K7: =K8 -> 1388 | L7: =K7/J7*100 -> 96.917222
A8: Администрация Адашевского сельского поселения Кадошкинского муниципального района Республики Мордовия | B8: 910 | J8: =J9+J44+J60+J67+J83+J90+J53 -> 1432.15 | K8: =K9+K44+K60+K67+K83+K90+K53 -> 1388 | L8: =K8/J8*100 -> 96.917222
A9: Общегосударственные вопросы | B9: 910 | C9: 01 | J9: =J10+J19+J38 -> 959.15 | K9: =K10+K19+K38 -> 917.1 | L9: =K9/J9*100 -> 95.61591
A10: Функционирование высшего должностного лица субъекта Российской Федерации и муниципального образования | B10: 910 | C10: 01 | D10: 02 | J10: =J11 -> 469.6 | K10: =K11 -> 451.3 | L10: =K10/J10*100 -> 96.103066
A11: Обеспечение деятельности администрации | B11: 910 | C11: 01 | D11: 02 | E11: 65 | J11: =J12 -> 469.6 | K11: =K12 -> 451.3 | L11: =K11/J11*100 -> 96.103066
A12: Высшее должностное лицо | B12: 910 | C12: 01 | D12: 02 | E12: 65 | F12: 1 | J12: =J13+J16 -> 469.6 | K12: =K13+K16 -> 451.3 | L12: =K12/J12*100 -> 96.103066
A13: Расходы на выплаты по оплате труда высшего должностного лица | B13: 910 | C13: 01 | D13: 02 | E13: 65 | F13: 1 | G13: 00 | H13: 41150 | J13: =J14 -> 397.9 | K13: =K14 -> 379.6 | L13: =K13/J13*100 -> 95.400854
A14: Расходы на выплаты персоналу в целях обеспечения выполнения функций государственными (муниципальными) органами, казенными учреждениями, органами управления государственными внебюджетными фондами | B14: 910 | C14: 01 | D14: 02 | E14: 65 | F14: 1 | G14: 00 | H14: 41150 | I14: 100 | J14: =J15 -> 397.9 | K14: =K15 -> 379.6 | L14: =K14/J14*100 -> 95.400854
A15: Расходы на выплаты персоналу государственных (муниципальных) органов | B15: 910 | C15: 01 | D15: 02 | E15: 65 | F15: 1 | G15: 00 | H15: 41150 | I15: 120 | J15: 397.9 | K15: ='Прил 2 '!J14 -> 379.6 | L15: =K15/J15*100 -> 95.400854
A16: Субсидии на софинансирование расходных обязательств по финансовому обеспечению деятельности органов местного самоуправления и муниципальных учреждений | B16: 910 | C16: 01 | D16: 02 | E16: 65 | F16: 1 | G16: 00 | H16: 44205 | J16: =J17 -> 71.7 | K16: =K17 -> 71.7 | L16: =K16/J16*100 -> 100
A17: Расходы на выплаты персоналу в целях обеспечения выполнения функций государственными (муниципальными) органами, казенными учреждениями, органами управления государственными внебюджетными фондами | B17: 910 | C17: 01 | D17: 02 | E17: 65 | F17: 1 | G17: 00 | H17: 44205 | I17: 100 | J17: =J18 -> 71.7 | K17: =K18 -> 71.7 | L17: =K17/J17*100 -> 100
A18: Расходы на выплаты персоналу государственных (муниципальных) органов | B18: 910 | C18: 01 | D18: 02 | E18: 65 | F18: 1 | G18: 00 | H18: 44205 | I18: 120 | J18: =71.7+8.5-8.5 -> 71.7 | K18: ='Прил 2 '!J17 -> 71.7 | L18: =K18/J18*100 -> 100
A19: Функционирование Правительства Российской Федерации, высших органов исполнительной власти субъектов Российской Федерации, местных администраций | B19: 910 | C19: 01 | D19: 04 | J19: =J20+J33 -> 488.55 | K19: =K20+K33 -> 465.8 | L19: =K19/J19*100 -> 95.343363
A20: Обеспечение деятельности администрации | B20: 910 | C20: 01 | D20: 04 | E20: 65 | J20: =J21 -> 488.45 | K20: =K21 -> 465.7 | L20: =K20/J20*100 -> 95.34241
A21: Непрограммные расходы в рамках обеспечения деятельности администрации | B21: 910 | C21: 01 | D21: 04 | E21: 65 | F21: 2 | J21: =J23+J25+J30 -> 488.45 | K21: =K23+K25+K30 -> 465.7 | L21: =K21/J21*100 -> 95.34241
A22: Расходы на выплаты по оплате труда работников органов местного самоуправления | B22: 910 | C22: 01 | D22: 04 | E22: 65 | F22: 2 | G22: 00 | H22: 41110 | J22: =J23 -> 243.5 | K22: =K23 -> 223.2 | L22: =K22/J22*100 -> 91.663244
A23: Расходы на выплаты персоналу в целях обеспечения выполнения функций государственными (муниципальными) органами, казенными учреждениями, органами управления государственными внебюджетными фондами | B23: 910 | C23: 01 | D23: 04 | E23: 65 | F23: 2 | G23: 00 | H23: 41110 | I23: 100 | J23: =J24 -> 243.5 | K23: =K24 -> 223.2 | L23: =K23/J23*100 -> 91.663244
A24: Расходы на выплаты персоналу государственных (муниципальных) органов | B24: 910 | C24: 01 | D24: 04 | E24: 65 | F24: 2 | G24: 00 | H24: 41110 | I24: 120 | J24: =233.5+10 -> 243.5 | K24: ='Прил 2 '!J23 -> 223.2 | L24: =K24/J24*100 -> 91.663244
A25: Расходы на обеспечение функций органов местного самоуправления | B25: 910 | C25: 01 | D25: 04 | E25: 65 | F25: 2 | G25: 00 | H25: 41120 | J25: =J28+J26 -> 152.05 | K25: =K28+K26 -> 149.6 | L25: =K25/J25*100 -> 98.388688
A26: Закупка товаров, работ и услуг для обеспечения государственных (муниципальных) нужд | B26: 910 | C26: 01 | D26: 04 | E26: 65 | F26: 2 | G26: 00 | H26: 41120 | I26: 200 | J26: =J27 -> 137.55 | K26: =K27 -> 136 | L26: =K26/J26*100 -> 98.873137
A27: Иные закупки товаров, работ и услуг для обеспечения государственных (муниципальных) нужд | B27: 910 | C27: 01 | D27: 04 | E27: 65 | F27: 2 | G27: 00 | H27: 41120 | I27: 240 | J27: =51+50+15+21.55 -> 137.55 | K27: ='Прил 2 '!J26 -> 136 | L27: =K27/J27*100 -> 98.873137
A28: Иные бюджетные ассигнования | B28: 910 | C28: 01 | D28: 04 | E28: 65 | F28: 2 | G28: 00 | H28: 41120 | I28: 800 | J28: =J29 -> 14.5 | K28: =K29 -> 13.6 | L28: =K28/J28*100 -> 93.793103
A29: Уплата налогов, сборов и иных платежей | B29: 910 | C29: 01 | D29: 04 | E29: 65 | F29: 2 | G29: 00 | H29: 41120 | I29: 850 | J29: 14.5 | K29: ='Прил 2 '!J28 -> 13.6 | L29: =K29/J29*100 -> 93.793103
A30: Субсидии на софинансирование расходных обязательств по финансовому обеспечению деятельности органов местного самоуправления и муниципальных учреждений | B30: 910 | C30: 01 | D30: 04 | E30: 65 | F30: 2 | G30: 00 | H30: 44205 | J30: =J31 -> 92.9 | K30: =K31 -> 92.9 | L30: =K30/J30*100 -> 100
A31: Расходы на выплаты персоналу в целях обеспечения выполнения функций государственными (муниципальными) органами, казенными учреждениями, органами управления государственными внебюджетными фондами | B31: 910 | C31: 01 | D31: 04 | E31: 65 | F31: 2 | G31: 00 | H31: 44205 | I31: 100 | J31: =J32 -> 92.9 | K31: =K32 -> 92.9 | L31: =K31/J31*100 -> 100
A32: Расходы на выплаты персоналу государственных (муниципальных) органов | B32: 910 | C32: 01 | D32: 04 | E32: 65 | F32: 2 | G32: 00 | H32: 44205 | I32: 120 | J32: =92.9-8.5+8.5 -> 92.9 | K32: ='Прил 2 '!J31 -> 92.9 | L32: =K32/J32*100 -> 100
A33: Непрограммные расходы главных распорядителей средств бюджета Адашевского сельского поселения Кадошкинского муниципального района Республики Мордовия | B33: 910 | C33: 01 | D33: 04 | E33: 89 | J33: =J34 -> 0.1 | K33: =K34 -> 0.1 | L33: =K33/J33*100 -> 100
A34: Непрограммные расходы в рамках обеспечения деятельности главных распорядителей средств бюджета Адашевского сельского поселения Кадошкинского муниципального района Республики Мордовия | B34: 910 | C34: 01 | D34: 04 | E34: 89 | F34: 1 | J34: =J35 -> 0.1 | K34: =K35 -> 0.1 | L34: =K34/J34*100 -> 100
A35: Осуществление государственных полномочий Республики Мордовия по определению перечня должностных лиц, уполномоченных составлять протоколы об административных правонарушениях, предусмотренных Законом Республики Мордовия от 15 июня 2015 года № 38-З "Об административной ответственности на территории Республики Мордовия" | B35: 910 | C35: 01 | D35: 04 | E35: 89 | F35: 1 | G35: 00 | H35: 77150 | J35: =J36 -> 0.1 | K35: =K36 -> 0.1 | L35: =K35/J35*100 -> 100
A36: Закупка товаров, работ и услуг для обеспечения государственных (муниципальных) нужд | B36: 910 | C36: 01 | D36: 04 | E36: 89 | F36: 1 | G36: 00 | H36: 77150 | I36: 200 | J36: =J37 -> 0.1 | K36: =K37 -> 0.1 | L36: =K36/J36*100 -> 100
A37: Иные закупки товаров, работ и услуг для обеспечения государственных (муниципальных) нужд | B37: 910 | C37: 01 | D37: 04 | E37: 89 | F37: 1 | G37: 00 | H37: 77150 | I37: 240 | J37: 0.1 | K37: 0.1 | L37: =K37/J37*100 -> 100
A38: Резервные фонды | B38: 910 | C38: 01 | D38: 11 | J38: =J39 -> 1 | K38: =K39 -> 0 | L38: =K38/J38*100 -> 0
A39: Непрограммные расходы главных распорядителей средств бюджета Адашевского сельского поселения Кадошкинского муниципального района Республики Мордовия | B39: 910 | C39: 01 | D39: 11 | E39: 89 | J39: =J40 -> 1 | K39: =K40 -> 0 | L39: =K39/J39*100 -> 0
A40: Непрограммные расходы в рамках обеспечения деятельности главных распорядителей средств бюджета Адашевского сельского поселения Кадошкинского муниципального района Республики Мордовия | B40: 910 | C40: 01 | D40: 11 | E40: 89 | F40: 1 | J40: =J41 -> 1 | K40: =K41 -> 0 | L40: =K40/J40*100 -> 0
...

Sheet Прил 4
D1: Приложение 4
C2: к решению сессии Совета депутатов Адашевского сельского поселения "Об исполнении бюджета Адашевского сельского поселения Кадошкинского муниципального района Республики Мордовия за 2021 год"
A3: ИСТОЧНИКИ ВНУТРЕННЕГО ФИНАНСИРОВАНИЯ ДЕФИЦИТА БЮДЖЕТА АДАШЕВСКОГО СЕЛЬСКОГО ПОСЕЛЕНИЯ КАДОШКИНСКОГО МУНИЦИПАЛЬНОГО РАЙОНА РЕСПУБЛИКИ МОРДОВИЯ НА 2021 ГОД
D4: (тыс. рублей)
A5: Код | B5: НАИМЕНОВАНИЕ | C5: План 2021 год | D5: Исполнение 2021 год
A6: 1 | B6: 2 | C6: 3 | D6: 4
A7: 000 01 00 00 00 00 0000 000 | B7: ИСТОЧНИКИ ВНУТРЕННЕГО ФИНАНСИРОВАНИЯ ДЕФИЦИТОВ БЮДЖЕТОВ | C7: =C8+C11+C15 -> 133.75 | D7: =D8+D11+D15 -> 34.2
A8: 000 01 02 00 00 00 0000 000 | B8: Кредиты кредитных организаций в валюте Российской Федерации | C8: =SUM(C9) -> 0 | D8: =SUM(D9) -> 0
A9: 000 01 02 00 00 00 0000 700 | B9: Получение кредитов от кредитных организаций в валюте Российской Федерации | C9: =SUM(C10) -> 0 | D9: =SUM(D10) -> 0
A10: 000 01 02 00 00 10 0000 710 | B10: Получение кредитов от кредитных организаций бюджетами поселений в валюте Российской Федерации | C10: 0 | D10: 0
A11: 000 01 03 00 00 00 0000 000 | B11: Бюджетные кредиты от других бюджетов бюджетной системы Российской Федерации | C11: =C12 -> -10.4 | D11: =D12 -> -10.4
A12: 000 01 03 01 00 00 0000 000 | B12: Бюджетные кредиты от других бюджетов бюджетной системы Российской Федерации в валюте Российской Федерации | C12: =C13 -> -10.4 | D12: =D13 -> -10.4
A13: 000 01 03 01 00 10 0000 800 | B13: Погашение бюджетных кредитов, полученных от других бюджетов бюджетной системы Российской Федерации в валюте Российской Федерации | C13: =SUM(C14) -> -10.4 | D13: =SUM(D14) -> -10.4
A14: 000 01 03 01 00 10 0000 810 | B14: Погашение бюджетами сельских поселений кредитов от других бюджетов бюджетной системы Российской Федерации в валюте Российской Федерации | C14: -10.4 | D14: -10.4
A15: 000 01 05 00 00 00 0000 000 | B15: Изменения остатков средств на счетах по учету средств бюджетов | C15: =C16+C19 -> 144.15 | D15: =D16+D19 -> 44.6
A16: 000 01 05 02 00 00 0000 500 | B16: Увеличение прочих остатков средств бюджетов | C16: =SUM(C17) -> -1298.4 | D16: =SUM(D17) -> -1507.1
A17: 000 01 05 02 01 00 0000 510 | B17: Увеличение прочих остатков денежных средств бюджетов | C17: =SUM(C18) -> -1298.4 | D17: =SUM(D18) -> -1507.1
A18: 000 01 05 02 01 10 0000 510 | B18: Увеличение прочих остатков денежных средств бюджетов сельских поселений | C18: =-('Прил 1'!C8+C10) -> -1298.4 | D18: -1507.1
A19: 000 01 05 02 00 00 0000 600 | B19: Уменьшение прочих остатков средств бюджетов | C19: =SUM(C20) -> 1442.55 | D19: =SUM(D20) -> 1551.7
A20: 000 01 05 02 01 00 0000 610 | B20: Уменьшение прочих остатков денежных средств бюджетов | C20: =SUM(C21) -> 1442.55 | D20: =SUM(D21) -> 1551.7
A21: 000 01 05 02 01 10 0000 610 | B21: Уменьшение прочих остатков денежных средств бюджетов сельских поселений | C21: ='Прил 2 '!I7-C14 -> 1442.55 | D21: 1551.7
