Workbook
Name _1Excel_BuiltIn_Print_Area_1_1_1: 'Прил 1'!$A$1:$C$31
Name _2Excel_BuiltIn_Print_Area_7_1_1: #REF!
Name _2Excel_BuiltIn_Print_Area_7_1_1: #REF!
Name _Toc105952698: 'Прил 2 '!$A$3
Name _Toc105952698: #REF!
Name Excel_BuiltIn_Print_Area_1: 'Прил 1'!$A$1:$C$31
Name Excel_BuiltIn_Print_Area_1_1: 'Прил 1'!$A$1:$C$31
Name Excel_BuiltIn_Print_Area_2: #REF!
Name Excel_BuiltIn_Print_Area_2: #REF!
Name Excel_BuiltIn_Print_Area_3: #REF!
Name Excel_BuiltIn_Print_Area_3_1: #REF!
Name Excel_BuiltIn_Print_Area_3_1: #REF!
Name Excel_BuiltIn_Print_Area_4: #REF!
Name Excel_BuiltIn_Print_Area_4: #REF!
Name Excel_BuiltIn_Print_Area_5: 'Прил 2 '!$A$1:$I$54
Name Excel_BuiltIn_Print_Area_5: #REF!
Name Excel_BuiltIn_Print_Area_5_1: 'Прил 2 '!$A$1:$I$54
Name Excel_BuiltIn_Print_Area_5_1: #REF!
Name Excel_BuiltIn_Print_Area_6: 'Прил 3'!$A$1:$G$49
Name Excel_BuiltIn_Print_Area_6_1: 'Прил 3'!$A$1:$G$49
Name Excel_BuiltIn_Print_Area_7: #REF!
Name Excel_BuiltIn_Print_Area_7: #REF!
Name Excel_BuiltIn_Print_Area_7_1: #REF!
Name Excel_BuiltIn_Print_Area_7_1: #REF!

Sheet Прил 1
D1: Приложение 1
C2: к решению сессии Совета депутатов Паевского сельского поселения "Об исполнении бюджета Паевского сельского поселения Кадошкинского муниципального района Республики Мордовия за 2021 год"
A3: ДОХОДЫ БЮДЖЕТА ПАЕВСКОГО СЕЛЬСКОГО ПОСЕЛЕНИЯ КАДОШКИНСКОГО МУНИЦИПАЛЬНОГО РАЙОНА РЕСПУБЛИКИ МОРДОВИЯ
C4: (тыс.рублей)
A5: Код бюджетной классификации доходов бюджета | B5: Наименование доходов | C5: Сумма
C6: План 2021 год | D6: Исполнение 2021 год | E6: % исполнения
A7: 1 | B7: 2 | C7: 3 | D7: 4 | E7: 5
B8: ВСЕГО ДОХОДОВ | C8: =SUM(C9+C22+C32) -> 1889.11 | D8: =SUM(D9+D22+D32) -> 1867.4 | E8: =D8/C8*100 -> 98.850782
A9: 00010000000000000000 | B9: НАЛОГОВЫЕ И НЕНАЛОГОВЫЕ ДОХОДЫ | C9: =SUM(C10+C13+C15+C17+C20) -> 556.7 | D9: =SUM(D10+D13+D15+D17+D20) -> 535 | E9: =D9/C9*100 -> 96.10203
A10: 00010100000000000000 | B10: НАЛОГИ НА ПРИБЫЛЬ, ДОХОДЫ | C10: =SUM(C11) -> 36.5 | D10: =SUM(D11) -> 48 | E10: =D10/C10*100 -> 131.50685
A11: 00010102000010000110 | B11: Налог на доходы физических лиц | C11: =SUM(C12) -> 36.5 | D11: =SUM(D12) -> 48 | E11: =D11/C11*100 -> 131.50685
A12: 18210102010010000110 | B12: Налог на доходы физических лиц с доходов, источником которых является налоговый агент, за исключением доходов, в отношении которых исчисление и уплата налога осуществляются в соответствии со статьями 227, 2271 и 228 Налогового кодекса Российской Федерации | C12: 36.5 | D12: 48 | E12: =D12/C12*100 -> 131.50685
A13: 00010500000000000000 | B13: НАЛОГИ НА СОВОКУПНЫЙ ДОХОД | C13: =SUM(C14) -> 9.3 | D13: =SUM(D14) -> 6.5 | E13: =D13/C13*100 -> 69.892473
A14: 18210503010010000110 | B14: Единый сельскохозяйственный налог | C14: 9.3 | D14: 6.5 | E14: =D14/C14*100 -> 69.892473
A15: 00010600000000000000 | B15: НАЛОГИ НА ИМУЩЕСТВО | C15: =SUM(C16) -> 76 | D15: =SUM(D16) -> 58.7 | E15: =D15/C15*100 -> 77.236842
A16: 18210601030100000110 | B16: Налог на имущество физических лиц, взимаемый по ставкам, применяемым к объектам налогообложения, расположенным в границах сельских поселений | C16: 76 | D16: 58.7 | E16: =D16/C16*100 -> 77.236842
A17: 00010606000000000110 | B17: Земельный налог | C17: =SUM(C18+C19) -> 390 | D17: =SUM(D18+D19) -> 376.2 | E17: =D17/C17*100 -> 96.461538
A18: 18210606033100000110 | B18: Земельный налог с организаций, обладающих земельным участком, расположенным в границах сельских поселений | C18: 110 | D18: 108.7 | E18: =D18/C18*100 -> 98.818182
A19: 18210606043100000110 | B19: Земельный налог с физических лиц, обладающих земельным участком, расположенным в границах сельских поселений | C19: 280 | D19: 267.5 | E19: =D19/C19*100 -> 95.535714
A20: 00011100000000000000 | B20: ДОХОДЫ ОТ ИСПОЛЬЗОВАНИЯ ИМУЩЕСТВА, НАХОДЯЩЕГОСЯ В ГОСУДАРСТВЕННОЙ И МУНИЦИПАЛЬНОЙ СОБСТВЕННОСТИ | C20: =SUM(C21) -> 44.9 | D20: =SUM(D21) -> 45.6 | E20: =D20/C20*100 -> 101.55902
A21: 91811105035100000120 | B21: Доходы от сдачи в аренду имущества, находящегося в оперативном управлении органов управления поселений и созданных ими учреждений (за исключением имущества муниципальных бюджетных и автономных учреждений) | C21: 44.9 | D21: 45.6 | E21: =D21/C21*100 -> 101.55902
A22: 00020200000000000000 | B22: БЕЗВОЗМЕЗДНЫЕ ПОСТУПЛЕНИЯ ОТ ДРУГИХ БЮДЖЕТОВ БЮДЖЕТНОЙ СИСТЕМЫ РОССИЙСКОЙ ФЕДЕРАЦИИ | C22: =SUM(C27+C30+C25+C23) -> 1287.41 | D22: =SUM(D27+D30+D25+D23) -> 1287.4 | E22: =D22/C22*100 -> 99.999223
A23: 00020210000000000150 | B23: Дотации бюджетам бюджетной системы Российской Федерации | C23: =C24 -> 306.7 | D23: =D24 -> 306.7 | E23: =D23/C23*100 -> 100
A24: 91820215002100000150 | B24: Дотации бюджетам сельских поселений на поддержку мер по обеспечению сбалансированности бюджетов | C24: 306.7 | D24: 306.7 | E24: =D24/C24*100 -> 100
A25: 00020220000000000150 | B25: Субсидии бюджетам бюджетной системы Российской Федерации (межбюджетные субсидии) | C25: =C26 -> 490 | D25: =D26 -> 490 | E25: =D25/C25*100 -> 100
A26: 91820229999100000150 | B26: Прочие субсидии бюджетам сельских поселений | C26: =230+260 -> 490 | D26: 490 | E26: =D26/C26*100 -> 100
A27: 00020230000000000150 | B27: Субвенции бюджетам бюджетной системы Российской Федерации | C27: =SUM(C28+C29) -> 86.9 | D27: =SUM(D28+D29) -> 86.9 | E27: =D27/C27*100 -> 100
A28: 91820230024100000150 | B28: Субвенции на осуществление государственных полномочий Республики Мордовия по определению перечня должностных лиц, уполномоченных составлять протоколы об административных правонарушениях, предусмотренных Законом Республики Мордовия от 15 июня 2015 года № 38-З "Об административной ответственности на территории Республики Мордовия" | C28: 0.1 | D28: 0.1 | E28: =D28/C28*100 -> 100
A29: 91820235118100000150 | B29: Субвенции бюджетам сельских поселений на осуществление первичного воинского учета на территориях, где отсутствуют военные комиссариаты | C29: 86.8 | D29: 86.8 | E29: =D29/C29*100 -> 100
A30: 00020240000000000150 | B30: Иные межбюджетные трансферты | C30: =SUM(C31) -> 403.81 | D30: =SUM(D31) -> 403.8 | E30: =D30/C30*100 -> 99.997524
A31: 91820240014100000150 | B31: Межбюджетные трансферты, передаваемые бюджетам сельских поселений из бюджетов муниципальных районов на осуществление части полномочий по решению вопросов местного значения в соответствии с заключенными соглашениями | C31: =371.1+0.4+25+7.31 -> 403.81 | D31: 403.8 | E31: =D31/C31*100 -> 99.997524
A32: 00020700000000000000 | B32: ПРОЧИЕ БЕЗВОЗМЕЗДНЫЕ ПОСТУПЛЕНИЯ | C32: =C33 -> 45 | D32: =D33 -> 45 | E32: =D32/C32*100 -> 100
A33: 91820705030100000150 | B33: Прочие безвозмездные поступления в бюджеты сельских поселений | C33: =30+15 -> 45 | D33: 45 | E33: =D33/C33*100 -> 100

Sheet Прил 2 
I1: Приложение 2
G2: к решению сессии Совета депутатов Паевского сельского поселения "Об исполнении бюджета Паевского сельского поселения Кадошкинского муниципального района Республики Мордовия за 2021 год"
A3: Распределение бюджетных ассигнований бюджета Паевского сельского поселения Кадошкинского муниципального района Республики Мордовия по разделам, подразделам, целевым статьям, группам (группам и подгруппам) видов расходов классификации расходов бюджетов на 2021 год
A4: Наименование | B4: Рз | C4: ПР | D4: ЦСР | H4: ВР | I4: Сумма (тыс. рублей)
I5: План 2021 год | J5: Исполнение 2021 год | K5: % исполнения
A6: 1 | B6: 2 | C6: 3 | D6: 4 | E6: 5 | F6: 6 | G6: 7 | H6: 8 | I6: 9 | J6: 10 | K6: 11
A7: ВСЕГО | I7: =I8+I61+I70+I77+I93+I100 -> 1944.71 | J7: =J8+J61+J70+J77+J93+J100 -> 1868.2 | K7: =J7/I7*100 -> 96.065737
A8: Общегосударственные вопросы | B8: 01 | I8: =I9+I18+I42 -> 1306.2 | J8: =J9+J18+J42 -> 1377 | K8: =J8/I8*100 -> 105.4203
A9: Функционирование высшего должностного лица субъекта Российской Федерации и муниципального образования | B9: 01 | C9: 02 | I9: =I10 -> 367.6 | J9: =J10 -> 367.6 | K9: =J9/I9*100 -> 100
A10: Обеспечение деятельности администрации | B10: 01 | C10: 02 | D10: 65 | I10: =I11 -> 367.6 | J10: =J11 -> 367.6 | K10: =J10/I10*100 -> 100
A11: Высшее должностное лицо | B11: 01 | C11: 02 | D11: 65 | E11: 1 | I11: =I12+I15 -> 367.6 | J11: =J12+J15 -> 367.6 | K11: =J11/I11*100 -> 100
A12: Расходы на выплаты по оплате труда высшего должностного лица | B12: 01 | C12: 02 | D12: 65 | E12: 1 | F12: 00 | G12: 41150 | I12: =I13 -> 214.2 | J12: =J13 -> 214.2 | K12: =J12/I12*100 -> 100
A13: Расходы на выплаты персоналу в целях обеспечения выполнения функций государственными (муниципальными) органами, казенными учреждениями, органами управления государственными внебюджетными фондами | B13: 01 | C13: 02 | D13: 65 | E13: 1 | F13: 00 | G13: 41150 | H13: 100 | I13: =I14 -> 214.2 | J13: =J14 -> 214.2 | K13: =J13/I13*100 -> 100
A14: Расходы на выплаты персоналу государственных (муниципальных) органов | B14: 01 | C14: 02 | D14: 65 | E14: 1 | F14: 00 | G14: 41150 | H14: 120 | I14: ='Прил 3'!J16 -> 214.2 | J14: ='Прил 3'!K16 -> 214.2 | K14: =J14/I14*100 -> 100
A15: Субсидии на софинансирование расходных обязательств по финансовому обеспечению деятельности органов местного самоуправления и муниципальных учреждений | B15: 01 | C15: 02 | D15: 65 | E15: 1 | F15: 00 | G15: 44205 | I15: =I16 -> 153.4 | J15: =J16 -> 153.4 | K15: =J15/I15*100 -> 100
A16: Расходы на выплаты персоналу в целях обеспечения выполнения функций государственными (муниципальными) органами, казенными учреждениями, органами управления государственными внебюджетными фондами | B16: 01 | C16: 02 | D16: 65 | E16: 1 | F16: 00 | G16: 44205 | H16: 100 | I16: =I17 -> 153.4 | J16: =J17 -> 153.4 | K16: =J16/I16*100 -> 100
A17: Расходы на выплаты персоналу государственных (муниципальных) органов | B17: 01 | C17: 02 | D17: 65 | E17: 1 | F17: 00 | G17: 44205 | H17: 120 | I17: ='Прил 3'!J19 -> 153.4 | J17: ='Прил 3'!K19 -> 153.4 | K17: =J17/I17*100 -> 100
A18: Функционирование Правительства Российской Федерации, высших органов исполнительной власти субъектов Российской Федерации, местных администраций | B18: 01 | C18: 04 | I18: =I19+I37 -> 937.6 | J18: =J19+J37 -> 1009.4 | K18: =J18/I18*100 -> 107.65785
A19: Обеспечение деятельности администрации | B19: 01 | C19: 04 | D19: 65 | I19: =I20 -> 937.5 | J19: =J20 -> 1009.3 | K19: =J19/I19*100 -> 107.65867
A20: Непрограммные расходы в рамках обеспечения деятельности администрации | B20: 01 | C20: 04 | D20: 65 | E20: 2 | I20: =I21+I24+I30 -> 937.5 | J20: =J21+J24+J30 -> 1009.3 | K20: =J20/I20*100 -> 107.65867
A21: Расходы на выплаты по оплате труда работников органов местного самоуправления | B21: 01 | C21: 04 | D21: 65 | E21: 2 | F21: 00 | G21: 41110 | I21: =I22 -> 434.6 | J21: =J22 -> 434.6 | K21: =J21/I21*100 -> 100
A22: Расходы на выплаты персоналу в целях обеспечения выполнения функций государственными (муниципальными) органами, казенными учреждениями, органами управления государственными внебюджетными фондами | B22: 01 | C22: 04 | D22: 65 | E22: 2 | F22: 00 | G22: 41110 | H22: 100 | I22: =I23 -> 434.6 | J22: =J23 -> 434.6 | K22: =J22/I22*100 -> 100
A23: Расходы на выплаты персоналу государственных (муниципальных) органов | B23: 01 | C23: 04 | D23: 65 | E23: 2 | F23: 00 | G23: 41110 | H23: 120 | I23: ='Прил 3'!J25 -> 434.6 | J23: ='Прил 3'!K25 -> 434.6 | K23: =J23/I23*100 -> 100
A24: Расходы на обеспечение функций органов местного самоуправления | B24: 01 | C24: 04 | D24: 65 | E24: 2 | F24: 00 | G24: 41120 | I24: =I25+I27 -> 166.3 | J24: =J25+J27 -> 238.1 | K24: =J24/I24*100 -> 143.17498
A25: Закупка товаров, работ и услуг для обеспечения государственных (муниципальных) нужд | B25: 01 | C25: 04 | D25: 65 | E25: 2 | F25: 00 | G25: 41120 | H25: 200 | I25: =I26 -> 125 | J25: =J26 -> 182.9 | K25: =J25/I25*100 -> 146.32
A26: Иные закупки товаров, работ и услуг для обеспечения государственных (муниципальных) нужд | B26: 01 | C26: 04 | D26: 65 | E26: 2 | F26: 00 | G26: 41120 | H26: 240 | I26: ='Прил 3'!J28 -> 125 | J26: ='Прил 3'!K28 -> 182.9 | K26: =J26/I26*100 -> 146.32
A27: Иные бюджетные ассигнования | B27: 01 | C27: 04 | D27: 65 | E27: 2 | F27: 00 | G27: 41120 | H27: 800 | I27: =I29+I28 -> 41.3 | J27: =J29+J28 -> 55.2 | K27: =J27/I27*100 -> 133.65617
A28: Исполнение судебных актов | B28: 01 | C28: 04 | D28: 65 | E28: 2 | F28: 00 | G28: 41120 | H28: 830 | I28: ='Прил 3'!J30 -> 0 | J28: ='Прил 3'!K30 -> 13.9 | K28: =J28/I28*100 -> #DIV/0!
A29: Уплата налогов, сборов и иных платежей | B29: 01 | C29: 04 | D29: 65 | E29: 2 | F29: 00 | G29: 41120 | H29: 850 | I29: ='Прил 3'!J31 -> 41.3 | J29: ='Прил 3'!K31 -> 41.3 | K29: =J29/I29*100 -> 100
A30: Субсидии на софинансирование расходных обязательств по финансовому обеспечению деятельности органов местного самоуправления и муниципальных учреждений | B30: 01 | C30: 04 | D30: 65 | E30: 2 | F30: 00 | G30: 44205 | I30: =I31+I33+I35 -> 336.6 | J30: =J31+J33+J35 -> 336.6 | K30: =J30/I30*100 -> 100
A31: Расходы на выплаты персоналу в целях обеспечения выполнения функций государственными (муниципальными) органами, казенными учреждениями, органами управления государственными внебюджетными фондами | B31: 01 | C31: 04 | D31: 65 | E31: 2 | F31: 00 | G31: 44205 | H31: 100 | I31: =I32 -> 275.4 | J31: =J32 -> 275.4 | K31: =J31/I31*100 -> 100
A32: Расходы на выплаты персоналу государственных (муниципальных) органов | B32: 01 | C32: 04 | D32: 65 | E32: 2 | F32: 00 | G32: 44205 | H32: 120 | I32: ='Прил 3'!J34 -> 275.4 | J32: ='Прил 3'!K34 -> 275.4 | K32: =J32/I32*100 -> 100
A33: Закупка товаров, работ и услуг для обеспечения государственных (муниципальных) нужд | B33: 01 | C33: 04 | D33: 65 | E33: 2 | F33: 00 | G33: 44205 | H33: 200 | I33: =I34 -> 47.6 | J33: =J34 -> 47.6 | K33: =J33/I33*100 -> 100
A34: Иные закупки товаров, работ и услуг для обеспечения государственных (муниципальных) нужд | B34: 01 | C34: 04 | D34: 65 | E34: 2 | F34: 00 | G34: 44205 | H34: 240 | I34: ='Прил 3'!J36 -> 47.6 | J34: ='Прил 3'!K36 -> 47.6 | K34: =J34/I34*100 -> 100
A35: Иные бюджетные ассигнования | B35: 01 | C35: 04 | D35: 65 | E35: 2 | F35: 00 | G35: 44205 | H35: 800 | I35: =I36 -> 13.6 | J35: =J36 -> 13.6 | K35: =J35/I35*100 -> 100
A36: Уплата налогов, сборов и иных платежей | B36: 01 | C36: 04 | D36: 65 | E36: 2 | F36: 00 | G36: 44205 | H36: 850 | I36: ='Прил 3'!J38 -> 13.6 | J36: ='Прил 3'!K38 -> 13.6 | K36: =J36/I36*100 -> 100
A37: Непрограммные расходы главных распорядителей средств бюджета Паевского сельского поселения Кадошкинского муниципального района Республики Мордовия | B37: 01 | C37: 04 | D37: 89 | I37: =I38 -> 0.1 | J37: =J38 -> 0.1 | K37: =J37/I37*100 -> 100
A38: Непрограммные расходы в рамках обеспечения деятельности главных распорядителей средств бюджета Паевского сельского поселения Кадошкинского муниципального района Республики Мордовия | B38: 01 | C38: 04 | D38: 89 | E38: 1 | I38: =I39 -> 0.1 | J38: =J39 -> 0.1 | K38: =J38/I38*100 -> 100
A39: Осуществление государственных полномочий Республики Мордовия по определению перечня должностных лиц, уполномоченных составлять протоколы об административных правонарушениях, предусмотренных Законом Республики Мордовия от 15 июня 2015 года № 38-З "Об административной ответственности на территории Республики Мордовия" | B39: 01 | C39: 04 | D39: 89 | E39: 1 | F39: 00 | G39: 77150 | I39: =I40 -> 0.1 | J39: =J40 -> 0.1 | K39: =J39/I39*100 -> 100
A40: Закупка товаров, работ и услуг для обеспечения государственных (муниципальных) нужд | B40: 01 | C40: 04 | D40: 89 | E40: 1 | F40: 00 | G40: 77150 | H40: 200 | I40: =I41 -> 0.1 | J40: =J41 -> 0.1 | K40: =J40/I40*100 -> 100
...

Sheet Прил 3
H1: Приложение 3
G2: к решению сессии Совета депутатов Паевского сельского поселения "Об исполнении бюджета Паевского сельского поселения Кадошкинского муниципального района Республики Мордовия за 2021 год"
A4: ВЕДОМСТВЕННАЯ СТРУКТУРА РАСХОДОВ БЮДЖЕТА ПАЕВСКОГО СЕЛЬСКОГО ПОСЕЛЕНИЯ КАДОШКИНСКОГО МУНИЦИПАЛЬНОГО РАЙОНА РЕСПУБЛИКИ МОРДОВИЯ НА 2021 ГОД
A5: Наименование | B5: Адм | C5: Рз | D5: ПРз | E5: ЦСР | I5: ВР | J5: Сумма (тыс. рублей)
J6: План 2021 год | K6: Исполнение 2021 год | L6: % исполнения
A7: 1 | B7: 2 | C7: 3 | D7: 4 | E7: 5 | F7: 6 | G7: 7 | H7: 8 | I7: 9 | J7: 10 | K7: 11 | L7: 12
A8: ВСЕГО | J8: =J9 -> 1944.71 | K8: =K9 -> 1868.2 | L8: =K8/J8*100 -> 96.065737
A9: Администрация Паевского сельского поселения Кадошкинского муниципального района Республики Мордовия | B9: 918 | J9: =J10+J50+J59+J66+J82+J89 -> 1944.71 | K9: =K10+K50+K59+K66+K82+K89 -> 1868.2 | L9: =K9/J9*100 -> 96.065737
A10: Общегосударственные вопросы | B10: 918 | C10: 01 | J10: =J11+J20+J44 -> 1306.2 | K10: =K11+K20+K44 -> 1377 | L10: =K10/J10*100 -> 105.4203
A11: Функционирование высшего должностного лица субъекта Российской Федерации и муниципального образования | B11: 918 | C11: 01 | D11: 02 | J11: =J12 -> 367.6 | K11: =K12 -> 367.6 | L11: =K11/J11*100 -> 100
A12: Обеспечение деятельности администрации | B12: 918 | C12: 01 | D12: 02 | E12: 65 | J12: =J13 -> 367.6 | K12: =K13 -> 367.6 | L12: =K12/J12*100 -> 100
A13: Высшее должностное лицо | B13: 918 | C13: 01 | D13: 02 | E13: 65 | F13: 1 | J13: =J14+J17 -> 367.6 | K13: =K14+K17 -> 367.6 | L13: =K13/J13*100 -> 100
A14: Расходы на выплаты по оплате труда высшего должностного лица | B14: 918 | C14: 01 | D14: 02 | E14: 65 | F14: 1 | G14: 00 | H14: 41150 | J14: =J15 -> 214.2 | K14: =K15 -> 214.2 | L14: =K14/J14*100 -> 100
A15: Расходы на выплаты персоналу в целях обеспечения выполнения функций государственными (муниципальными) органами, казенными учреждениями, органами управления государственными внебюджетными фондами | B15: 918 | C15: 01 | D15: 02 | E15: 65 | F15: 1 | G15: 00 | H15: 41150 | I15: 100 | J15: =J16 -> 214.2 | K15: =K16 -> 214.2 | L15: =K15/J15*100 -> 100
A16: Расходы на выплаты персоналу государственных (муниципальных) органов | B16: 918 | C16: 01 | D16: 02 | E16: 65 | F16: 1 | G16: 00 | H16: 41150 | I16: 120 | J16: 214.2 | K16: 214.2 | L16: =K16/J16*100 -> 100
A17: Субсидии на софинансирование расходных обязательств по финансовому обеспечению деятельности органов местного самоуправления и муниципальных учреждений | B17: 918 | C17: 01 | D17: 02 | E17: 65 | F17: 1 | G17: 00 | H17: 44205 | J17: =J18 -> 153.4 | K17: =K18 -> 153.4 | L17: =K17/J17*100 -> 100
A18: Расходы на выплаты персоналу в целях обеспечения выполнения функций государственными (муниципальными) органами, казенными учреждениями, органами управления государственными внебюджетными фондами | B18: 918 | C18: 01 | D18: 02 | E18: 65 | F18: 1 | G18: 00 | H18: 44205 | I18: 100 | J18: =J19 -> 153.4 | K18: =K19 -> 153.4 | L18: =K18/J18*100 -> 100
A19: Расходы на выплаты персоналу государственных (муниципальных) органов | B19: 918 | C19: 01 | D19: 02 | E19: 65 | F19: 1 | G19: 00 | H19: 44205 | I19: 120 | J19: =76.2+60+17.2 -> 153.4 | K19: 153.4 | L19: =K19/J19*100 -> 100
A20: Функционирование Правительства Российской Федерации, высших органов исполнительной власти субъектов Российской Федерации, местных администраций | B20: 918 | C20: 01 | D20: 04 | J20: =J21+J39 -> 937.6 | K20: =K21+K39 -> 1009.4 | L20: =K20/J20*100 -> 107.65785
A21: Обеспечение деятельности администрации | B21: 918 | C21: 01 | D21: 04 | E21: 65 | J21: =J22 -> 937.5 | K21: =K22 -> 1009.3 | L21: =K21/J21*100 -> 107.65867
A22: Непрограммные расходы в рамках обеспечения деятельности администрации | B22: 918 | C22: 01 | D22: 04 | E22: 65 | F22: 2 | J22: =J24+J26+J32 -> 937.5 | K22: =K24+K26+K32 -> 1009.3 | L22: =K22/J22*100 -> 107.65867
A23: Расходы на выплаты по оплате труда работников органов местного самоуправления | B23: 918 | C23: 01 | D23: 04 | E23: 65 | F23: 2 | G23: 00 | H23: 41110 | J23: =J24 -> 434.6 | K23: =K24 -> 434.6 | L23: =K23/J23*100 -> 100
A24: Расходы на выплаты персоналу в целях обеспечения выполнения функций государственными (муниципальными) органами, казенными учреждениями, органами управления государственными внебюджетными фондами | B24: 918 | C24: 01 | D24: 04 | E24: 65 | F24: 2 | G24: 00 | H24: 41110 | I24: 100 | J24: =J25 -> 434.6 | K24: =K25 -> 434.6 | L24: =K24/J24*100 -> 100
A25: Расходы на выплаты персоналу государственных (муниципальных) органов | B25: 918 | C25: 01 | D25: 04 | E25: 65 | F25: 2 | G25: 00 | H25: 41110 | I25: 120 | J25: 434.6 | K25: 434.6 | L25: =K25/J25*100 -> 100
A26: Расходы на обеспечение функций органов местного самоуправленя | B26: 918 | C26: 01 | D26: 04 | E26: 65 | F26: 2 | G26: 00 | H26: 41120 | J26: =J27+J29 -> 166.3 | K26: =K27+K29 -> 238.1 | L26: =K26/J26*100 -> 143.17498
A27: Закупка товаров, работ и услуг для обеспечения государственных (муниципальных) нужд | B27: 918 | C27: 01 | D27: 04 | E27: 65 | F27: 2 | G27: 00 | H27: 41120 | I27: 200 | J27: =J28 -> 125 | K27: =K28 -> 182.9 | L27: =K27/J27*100 -> 146.32
A28: Иные закупки товаров, работ и услуг для обеспечения государственных (муниципальных) нужд | B28: 918 | C28: 01 | D28: 04 | E28: 65 | F28: 2 | G28: 00 | H28: 41120 | I28: 240 | J28: 125 | K28: 182.9 | L28: =K28/J28*100 -> 146.32
A29: Иные бюджетные ассигнования | B29: 918 | C29: 01 | D29: 04 | E29: 65 | F29: 2 | G29: 00 | H29: 41120 | I29: 800 | J29: =J31+J30 -> 41.3 | K29: =K31+K30 -> 55.2 | L29: =K29/J29*100 -> 133.65617
A30: Исполнение судебных актов | B30: 918 | C30: 01 | D30: 04 | E30: 65 | F30: 2 | G30: 00 | H30: 41120 | I30: 830 | J30: 0 | K30: 13.9 | L30: =K30/J30*100 -> #DIV/0!
A31: Уплата налогов, сборов и иных платежей | B31: 918 | C31: 01 | D31: 04 | E31: 65 | F31: 2 | G31: 00 | H31: 41120 | I31: 850 | J31: 41.3 | K31: 41.3 | L31: =K31/J31*100 -> 100
A32: Субсидии на софинансирование расходных обязательств по финансовому обеспечению деятельности органов местного самоуправления и муниципальных учреждений | B32: 918 | C32: 01 | D32: 04 | E32: 65 | F32: 2 | G32: 00 | H32: 44205 | J32: =J33+J35+J37 -> 336.6 | K32: =K33+K35+K37 -> 336.6 | L32: =K32/J32*100 -> 100
A33: Расходы на выплаты персоналу в целях обеспечения выполнения функций государственными (муниципальными) органами, казенными учреждениями, органами управления государственными внебюджетными фондами | B33: 918 | C33: 01 | D33: 04 | E33: 65 | F33: 2 | G33: 00 | H33: 44205 | I33: 100 | J33: =J34 -> 275.4 | K33: =K34 -> 275.4 | L33: =K33/J33*100 -> 100
A34: Расходы на выплаты персоналу государственных (муниципальных) органов | B34: 918 | C34: 01 | D34: 04 | E34: 65 | F34: 2 | G34: 00 | H34: 44205 | I34: 120 | J34: =250.6+24.8 -> 275.4 | K34: 275.4 | L34: =K34/J34*100 -> 100
A35: Закупка товаров, работ и услуг для обеспечения государственных (муниципальных) нужд | B35: 918 | C35: 01 | D35: 04 | E35: 65 | F35: 2 | G35: 00 | H35: 44205 | I35: 200 | J35: =J36 -> 47.6 | K35: =K36 -> 47.6 | L35: =K35/J35*100 -> 100
A36: Иные закупки товаров, работ и услуг для обеспечения государственных (муниципальных) нужд | B36: 918 | C36: 01 | D36: 04 | E36: 65 | F36: 2 | G36: 00 | H36: 44205 | I36: 240 | J36: =89.5-41.9 -> 47.6 | K36: 47.6 | L36: =K36/J36*100 -> 100
A37: Иные бюджетные ассигнования | B37: 918 | C37: 01 | D37: 04 | E37: 65 | F37: 2 | G37: 00 | H37: 44205 | I37: 800 | J37: =J38 -> 13.6 | K37: =K38 -> 13.6 | L37: =K37/J37*100 -> 100
A38: Уплата налогов, сборов и иных платежей | B38: 918 | C38: 01 | D38: 04 | E38: 65 | F38: 2 | G38: 00 | H38: 44205 | I38: 850 | J38: 13.6 | K38: 13.6 | L38: =K38/J38*100 -> 100
A39: Непрограммные расходы главных распорядителей средств бюджета Паевского сельского поселения Кадошкинского муниципального района Республики Мордовия | B39: 918 | C39: 01 | D39: 04 | E39: 89 | J39: =J40 -> 0.1 | K39: =K40 -> 0.1 | L39: =K39/J39*100 -> 100
A40: Непрограммные расходы в рамках обеспечения деятельности главных распорядителей средств бюджета Паевского сельского поселения Кадошкинского муниципального района Республики Мордовия | B40: 918 | C40: 01 | D40: 04 | E40: 89 | F40: 1 | J40: =J41 -> 0.1 | K40: =K41 -> 0.1 | L40: =K40/J40*100 -> 100
A41: Осуществление государственных полномочий Республики Мордовия по определению перечня должностных лиц, уполномоченных составлять протоколы об административных правонарушениях, предусмотренных Законом Республики Мордовия от 15 июня 2015 года № 38-З "Об административной ответственности на территории Республики Мордовия" | B41: 918 | C41: 01 | D41: 04 | E41: 89 | F41: 1 | G41: 00 | H41: 77150 | J41: =J42 -> 0.1 | K41: =K42 -> 0.1 | L41: =K41/J41*100 -> 100
...

Sheet Прил 4
D1: Приложение 4
C2: к решению сессии Совета депутатов Паевского сельского поселения "Об исполнении бюджета Паевского сельского поселения Кадошкинского муниципального района Республики Мордовия за 2021 год"
A3: ИСТОЧНИКИ ВНУТРЕННЕГО ФИНАНСИРОВАНИЯ ДЕФИЦИТА БЮДЖЕТА ПАЕВСКОГО СЕЛЬСКОГО ПОСЕЛЕНИЯ КАДОШКИНСКОГО МУНИЦИПАЛЬНОГО РАЙОНА РЕСПУБЛИКИ МОРДОВИЯ НА 2021 ГОД
D4: (тыс. рублей)
A5: Код | B5: НАИМЕНОВАНИЕ | C5: План 2021 год | D5: Исполнение 2021 год
A6: 1 | B6: 2 | C6: 3 | D6: 4
A7: 000 01 00 00 00 00 0000 000 | B7: ИСТОЧНИКИ ВНУТРЕННЕГО ФИНАНСИРОВАНИЯ ДЕФИЦИТОВ БЮДЖЕТОВ | C7: =C8+C11+C15 -> 55.6 | D7: =D8+D11+D15 -> 0.7
A8: 000 01 02 00 00 00 0000 000 | B8: Кредиты кредитных организаций в валюте Российской Федерации | C8: =SUM(C9) -> 0 | D8: =SUM(D9) -> 0
A9: 000 01 02 00 00 00 0000 700 | B9: Получение кредитов от кредитных организаций в валюте Российской Федерации | C9: =SUM(C10) -> 0 | D9: =SUM(D10) -> 0
A10: 000 01 02 00 00 10 0000 710 | B10: Получение кредитов от кредитных организаций бюджетами сельских поселений в валюте Российской Федерации | C10: 0 | D10: 0
A11: 000 01 03 00 00 00 0000 000 | B11: Бюджетные кредиты из других бюджетов бюджетной системы Российской Федерации | C11: =C12 -> -23.4 | D11: =D12 -> 0
A12: 000 01 03 01 00 00 0000 800 | B12: Погашение бюджетных кредитов, полученных из других бюджетов бюджетной системы Российской Федерации в валюте Российской Федерации | C12: =C13 -> -23.4 | D12: =D13 -> 0
A13: 000 01 03 01 00 10 0000 800 | B13: Погашение бюджетных кредитов, полученных из других бюджетов бюджетной системы Российской Федерации в валюте Российской Федерации | C13: =SUM(C14) -> -23.4 | D13: =SUM(D14) -> 0
A14: 000 01 03 01 00 10 0000 810 | B14: Погашение бюджетами сельских поселений кредитов из других бюджетов бюджетной системы Российской Федерации в валюте Российской Федерации | C14: -23.4 | D14: 0
A15: 000 01 05 00 00 00 0000 000 | B15: Изменение остатков средств на счетах по учету средств бюджетов | C15: =C18+C19 -> 79 | D15: =D18+D19 -> 0.7
A16: 000 01 05 02 00 00 0000 500 | B16: Увеличение прочих остатков средств бюджетов | C16: =SUM(C17) -> -1889.11 | D16: =SUM(D17) -> -1887.5
A17: 000 01 05 02 01 00 0000 510 | B17: Увеличение прочих остатков денежных средств бюджетов | C17: =SUM(C18) -> -1889.11 | D17: =SUM(D18) -> -1887.5
A18: 000 01 05 02 01 10 0000 510 | B18: Увеличение прочих остатков денежных средств бюджетов сельских поселений | C18: =-('Прил 1'!C8+C10) -> -1889.11 | D18: -1887.5
A19: 000 01 05 02 00 00 0000 600 | B19: Уменьшение прочих остатков средств бюджетов | C19: =SUM(C20) -> 1968.11 | D19: =SUM(D20) -> 1888.2
A20: 000 01 05 02 01 00 0000 610 | B20: Уменьшение прочих остатков денежных средств бюджетов | C20: =SUM(C21) -> 1968.11 | D20: =SUM(D21) -> 1888.2
A21: 000 01 05 02 01 10 0000 610 | B21: Уменьшение прочих остатков денежных средств бюджетов сельских поселений | C21: ='Прил 2 '!I7-C14 -> 1968.11 | D21: 1888.2
