Workbook
Name _1Excel_BuiltIn_Print_Area_1_1_1: 'Прил 1'!$A$1:$C$29
Name _2Excel_BuiltIn_Print_Area_7_1_1: #REF!
Name _2Excel_BuiltIn_Print_Area_7_1_1: #REF!
Name _Toc105952698: 'Прил 3 '!$A$2
Name _Toc105952698: #REF!
Name Excel_BuiltIn_Print_Area_1: 'Прил 1'!$A$1:$C$29
Name Excel_BuiltIn_Print_Area_1_1: 'Прил 1'!$A$1:$C$29
Name Excel_BuiltIn_Print_Area_2: #REF!
Name Excel_BuiltIn_Print_Area_2: #REF!
Name Excel_BuiltIn_Print_Area_3: #REF!
Name Excel_BuiltIn_Print_Area_3_1: #REF!
Name Excel_BuiltIn_Print_Area_3_1: #REF!
Name Excel_BuiltIn_Print_Area_4: #REF!
Name Excel_BuiltIn_Print_Area_4: #REF!
Name Excel_BuiltIn_Print_Area_5: 'Прил 3 '!$A$1:$I$44
Name Excel_BuiltIn_Print_Area_5: #REF!
Name Excel_BuiltIn_Print_Area_5_1: 'Прил 3 '!$A$1:$I$44
Name Excel_BuiltIn_Print_Area_5_1: #REF!
Name Excel_BuiltIn_Print_Area_6: 'Прил 2'!$A$1:$G$47
Name Excel_BuiltIn_Print_Area_6_1: 'Прил 2'!$A$1:$G$47
Name Excel_BuiltIn_Print_Area_7: #REF!
Name Excel_BuiltIn_Print_Area_7: #REF!
Name Excel_BuiltIn_Print_Area_7_1: #REF!
Name Excel_BuiltIn_Print_Area_7_1: #REF!

Sheet Прил 1
C1: Приложение 1 к решению Совета депутатов Пушкинского сельского поселения "О бюджете Пушкинского сельского поселения Кадошкинского муниципального района Республики Мордовия на 2022 год и на плановый период 2023 и 2024 годов"
A2: ДОХОДЫ БЮДЖЕТА ПУШКИНСКОГО СЕЛЬСКОГО ПОСЕЛЕНИЯ КАДОШКИНСКОГО МУНИЦИПАЛЬНОГО РАЙОНА РЕСПУБЛИКИ МОРДОВИЯ
C3: (тыс.рублей)
A4: Код бюджетной классификации доходов бюджета | B4: Наименование доходов | C4: Сумма
C5: 2022 год | D5: 2023 год | E5: 2024 год
A6: 1 | B6: 2 | C6: 3 | D6: 4 | E6: 5
B7: ВСЕГО ДОХОДОВ | C7: =SUM(C8+C22) -> 4842.47 | D7: =SUM(D8+D22) -> 1406.7 | E7: =SUM(E8+E22) -> 1432.3
A8: 00010000000000000000 | B8: НАЛОГОВЫЕ И НЕНАЛОГОВЫЕ ДОХОДЫ | C8: =C9+C12+C14+C17+C19 -> 3709.6 | D8: =D9+D12+D14+D17 -> 739.4 | E8: =E9+E12+E14+E17 -> 729.6
A9: 00010100000000000000 | B9: НАЛОГИ НА ПРИБЫЛЬ, ДОХОДЫ | C9: =SUM(C10) -> 23 | D9: =SUM(D10) -> 50 | E9: =SUM(E10) -> 24
A10: 00010102000010000110 | B10: Налог на доходы физических лиц | C10: =SUM(C11) -> 23 | D10: =SUM(D11) -> 50 | E10: =SUM(E11) -> 24
A11: 18210102010010000110 | B11: Налог на доходы физических лиц с доходов, источником которых является налоговый агент, за исключением доходов, в отношении которых исчисление и уплата налога осуществляются в соответствии со статьями 227, 2271 и 228 Налогового кодекса Российской Федерации | C11: 23 | D11: 50 | E11: 24
A12: 00010600000000000000 | B12: НАЛОГИ НА ИМУЩЕСТВО | C12: =SUM(C13) -> 62 | D12: =SUM(D13) -> 63 | E12: =SUM(E13) -> 64
A13: 18210601030100000110 | B13: Налог на имущество физических лиц, взимаемый по ставкам, применяемым к объектам налогообложения, расположенным в границах сельских поселений | C13: 62 | D13: 63 | E13: 64
A14: 00010606000000000110 | B14: Земельный налог | C14: =SUM(C15+C16) -> 493 | D14: =SUM(D15+D16) -> 495 | E14: =SUM(E15+E16) -> 505
A15: 18210606033100000110 | B15: Земельный налог с организаций, обладающих земельным участком, расположенным в границах сельских поселений | C15: 325 | D15: 335 | E15: 345
A16: 18210606043100000110 | B16: Земельный налог с физических лиц, обладающих земельным участком, расположенным в границах сельских поселений | C16: 168 | D16: 160 | E16: 160
A17: 00011100000000000000 | B17: ДОХОДЫ ОТ ИСПОЛЬЗОВАНИЯ ИМУЩЕСТВА, НАХОДЯЩЕГОСЯ В ГОСУДАРСТВЕННОЙ И МУНИЦИПАЛЬНОЙ СОБСТВЕННОСТИ | C17: =SUM(C18) -> 126.3 | D17: =SUM(D18) -> 131.4 | E17: =SUM(E18) -> 136.6
A18: 91911105025100000120 | B18: Доходы, получаемые в виде арендной платы, а также средства от продажи права на заключение договоров аренды за земли, находящиеся в собственности сельских поселений (за исключением земельных участков муниципальных бюджетных и автономных учреждений) | C18: 126.3 | D18: 131.4 | E18: 136.6
A19: 00011400000000000000 | B19: ДОХОДЫ ОТ ПРОДАЖИ МАТЕРИАЛЬНЫХ И НЕМАТЕРИАЛЬНЫХ АКТИВОВ | C19: =C20+C21 -> 3005.3 | D19: =D20 -> 0 | E19: =E20 -> 0
A20: 91911406025100000430 | B20: Доходы от продажи земельных участков, находящихся в собственности сельских поселений (за исключением земельных участков муниципальных бюджетных и автономных учреждений) | C20: 2447 | D20: 0 | E20: 0
A21: 91911402052100000440 | B21: Доходы от реализации имущества, находящегося в оперативном управлении учреждений, находящихся в ведении органов управления поселений (за исключением имущества муниципальных бюджетных и автономных учреждений), в части реализации материальных запасов по указанному имуществу | C21: =420+138.3 -> 558.3 | D21: 0 | E21: 0
A22: 00020200000000000000 | B22: БЕЗВОЗМЕЗДНЫЕ ПОСТУПЛЕНИЯ ОТ ДРУГИХ БЮДЖЕТОВ БЮДЖЕТНОЙ СИСТЕМЫ РОССИЙСКОЙ ФЕДЕРАЦИИ | C22: =SUM(C25+C28+C23) -> 1132.87 | D22: =SUM(D25+D28+D23) -> 667.3 | E22: =SUM(E25+E28+E23) -> 702.7
A23: 00020210000000000150 | B23: Дотации бюджетам бюджетной системы Российской Федерации | C23: =C24 -> 326.3 | D23: =D24 -> 0 | E23: =E24 -> 0
A24: 91920215002100000150 | B24: Дотации бюджетам сельских поселений на поддержку мер по обеспечению сбалансированности бюджетов | C24: 326.3 | D24: 0 | E24: 0
A25: 00020230000000000150 | B25: Субвенции бюджетам бюджетной системы Российской Федерации | C25: =SUM(C26+C27) -> 89.9 | D25: =SUM(D26+D27) -> 92.9 | E25: =SUM(E26+E27) -> 96.1
A26: 91920230024100000150 | B26: Субвенции на осуществление государственных полномочий Республики Мордовия по определению перечня должностных лиц, уполномоченных составлять протоколы об административных правонарушениях, предусмотренных Законом Республики Мордовия от 15 июня 2015 года № 38-З "Об административной ответственности на территории Республики Мордовия" | C26: 0.1 | D26: 0.1 | E26: 0.1
A27: 91920235118100000150 | B27: Субвенции бюджетам сельских поселений на осуществление первичного воинского учета на территориях, где отсутствуют военные комиссариаты | C27: 89.8 | D27: 92.8 | E27: 96
A28: 00020240000000000150 | B28: Иные межбюджетные трансферты | C28: =SUM(C29+C30) -> 716.67 | D28: =SUM(D29+D30) -> 574.4 | E28: =SUM(E29+E30) -> 606.6
A29: 91920240014100000150 | B29: Межбюджетные трансферты, передаваемые бюджетам сельских поселений из бюджетов муниципальных районов на осуществление части полномочий по решению вопросов местного значения в соответствии с заключенными соглашениями | C29: =526.2+40.4+118.2 -> 684.8 | D29: =534+40.4 -> 574.4 | E29: =566.2+40.4 -> 606.6
A30: 91920249999100000150 | B30: Прочие межбюджетные трансферты, передаваемые бюджетам сельских поселений | C30: 31.87 | D30: 0 | E30: 0

Sheet Прил 2
J1: Приложение 2 к решению Совета депутатов Пушкинского сельского поселения "О бюджете Пушкинского сельского поселения Кадошкинского муниципального района Республики Мордовия на 2022 год и на плановый период 2023 и 2024 годов"
A2: ВЕДОМСТВЕННАЯ СТРУКТУРА РАСХОДОВ БЮДЖЕТА ПУШКИНСКОГО СЕЛЬСКОГО ПОСЕЛЕНИЯ КАДОШКИНСКОГО МУНИЦИПАЛЬНОГО РАЙОНА РЕСПУБЛИКИ МОРДОВИЯ НА 2022 ГОД И НА ПЛАНОВЫЙ ПЕРИОД 2023 И 2024 ГОДОВ
L3: (тыс. рублей)
A4: Наименование | B4: Адм | C4: Рз | D4: Прз | E4: Цср | I4: Вр | J4: Сумма
J5: 2022 год | K5: 2023 год | L5: 2024 год
A6: 1 | B6: 2 | C6: 3 | D6: 4 | E6: 5 | F6: 6 | G6: 7 | H6: 8 | I6: 9 | J6: 10 | K6: 11 | L6: 12
A7: ВСЕГО | J7: =J8 -> 4376.4724 | K7: =K8 -> 1306.8 | L7: =L8 -> 1299.2
A8: Администрация Пушкинского сельского поселения Кадошкинского муниципального района Республики Мордовия | B8: 919 | J8: =J9+J48+J70+J79+J95+J102+J57 -> 4376.4724 | K8: =K9+K48+K70+K79+K95+K102+K115 -> 1306.8 | L8: =L9+L48+L70+L79+L95+L102+L115 -> 1299.2
A9: Общегосударственные вопросы | B9: 919 | C9: 01 | J9: =J10+J16+J33+J39 -> 2124.88 | K9: =K10+K16+K33+K39 -> 378.8 | L9: =L10+L16+L33+L39 -> 305.2
A10: Функционирование высшего должностного лица субъекта Российской Федерации и муниципального образования | B10: 919 | C10: 01 | D10: 02 | J10: =J11 -> 232 | K10: =K11 -> 134.3 | L10: =L11 -> 66.9
A11: Обеспечение деятельности администрации | B11: 919 | C11: 01 | D11: 02 | E11: 65 | J11: =J12 -> 232 | K11: =K12 -> 134.3 | L11: =L12 -> 66.9
A12: Высшее должностное лицо | B12: 919 | C12: 01 | D12: 02 | E12: 65 | F12: 1 | J12: =J13 -> 232 | K12: =K13 -> 134.3 | L12: =L13 -> 66.9
A13: Расходы на выплаты по оплате труда высшего должностного лица | B13: 919 | C13: 01 | D13: 02 | E13: 65 | F13: 1 | G13: 00 | H13: 41150 | J13: =J14 -> 232 | K13: =K14 -> 134.3 | L13: =L14 -> 66.9
A14: Расходы на выплаты персоналу в целях обеспечения выполнения функций государственными (муниципальными) органами, казенными учреждениями, органами управления государственными внебюджетными фондами | B14: 919 | C14: 01 | D14: 02 | E14: 65 | F14: 1 | G14: 00 | H14: 41150 | I14: 100 | J14: =J15 -> 232 | K14: =K15 -> 134.3 | L14: =L15 -> 66.9
A15: Расходы на выплаты персоналу государственных (муниципальных) органов | B15: 919 | C15: 01 | D15: 02 | E15: 65 | F15: 1 | G15: 00 | H15: 41150 | I15: 120 | J15: 232 | K15: =234.2-99.9 -> 134.3 | L15: =200-133.1 -> 66.9
A16: Функционирование Правительства Российской Федерации, высших органов исполнительной власти субъектов Российской Федерации, местных администраций | B16: 919 | C16: 01 | D16: 04 | J16: =J17+J28 -> 1880.7 | K16: =K17+K28 -> 243.5 | L16: =L17+L28 -> 237.3
A17: Обеспечение деятельности администрации | B17: 919 | C17: 01 | D17: 04 | E17: 65 | J17: =J18 -> 1880.6 | K17: =K18 -> 243.4 | L17: =L18 -> 237.2
A18: Непрограммные расходы в рамках обеспечения деятельности администрации | B18: 919 | C18: 01 | D18: 04 | E18: 65 | F18: 2 | J18: =J20+J22 -> 1880.6 | K18: =K20+K22 -> 243.4 | L18: =L20+L22 -> 237.2
A19: Расходы на выплаты по оплате труда работников органов местного самоуправления | B19: 919 | C19: 01 | D19: 04 | E19: 65 | F19: 2 | G19: 00 | H19: 41110 | J19: =J20 -> 944.4 | K19: =K20 -> 204.9 | L19: =L20 -> 200
A20: Расходы на выплаты персоналу в целях обеспечения выполнения функций государственными (муниципальными) органами, казенными учреждениями, органами управления государственными внебюджетными фондами | B20: 919 | C20: 01 | D20: 04 | E20: 65 | F20: 2 | G20: 00 | H20: 41110 | I20: 100 | J20: =J21 -> 944.4 | K20: =K21 -> 204.9 | L20: =L21 -> 200
A21: Расходы на выплаты персоналу государственных (муниципальных) органов | B21: 919 | C21: 01 | D21: 04 | E21: 65 | F21: 2 | G21: 00 | H21: 41110 | I21: 120 | J21: =324.4+520+100 -> 944.4 | K21: 204.9 | L21: 200
A22: Расходы на обеспечение функций органов местного самоуправления | B22: 919 | C22: 01 | D22: 04 | E22: 65 | F22: 2 | G22: 00 | H22: 41120 | J22: =J23+J25 -> 936.2 | K22: =K23+K25 -> 38.5 | L22: =L23+L25 -> 37.2
A23: Закупка товаров, работ и услуг для обеспечения государственных (муниципальных) нужд | B23: 919 | C23: 01 | D23: 04 | E23: 65 | F23: 2 | G23: 00 | H23: 41120 | I23: 200 | J23: =J24 -> 879.7 | K23: =K24 -> 26.5 | L23: =L24 -> 25.2
A24: Иные закупки товаров, работ и услуг для обеспечения государственных (муниципальных) нужд | B24: 919 | C24: 01 | D24: 04 | E24: 65 | F24: 2 | G24: 00 | H24: 41120 | I24: 240 | J24: =110.7+500+100+100-20+100-10-1 -> 879.7 | K24: 26.5 | L24: 25.2 | M24: -1
A25: Иные бюджетные ассигнования | B25: 919 | C25: 01 | D25: 04 | E25: 65 | F25: 2 | G25: 00 | H25: 41120 | I25: 800 | J25: =J27+J26 -> 56.5 | K25: =K27 -> 12 | L25: =L27 -> 12
A26: Исполнение судебных актов | B26: 919 | C26: 01 | D26: 04 | E26: 65 | F26: 2 | G26: 00 | H26: 41120 | I26: 830 | J26: 1 | K26: 0 | L26: 0 | M26: +1
A27: Уплата налогов, сборов и иных платежей | B27: 919 | C27: 01 | D27: 04 | E27: 65 | F27: 2 | G27: 00 | H27: 41120 | I27: 850 | J27: =35.5+20 -> 55.5 | K27: 12 | L27: 12
A28: Непрограммные расходы главных распорядителей средств бюджета Пушкинского сельского поселения Кадошкинского муниципального района Республики Мордовия | B28: 919 | C28: 01 | D28: 04 | E28: 89 | J28: =J29 -> 0.1 | K28: =K29 -> 0.1 | L28: =L29 -> 0.1
A29: Непрограммные расходы в рамках обеспечения деятельности главных распорядителей средств бюджета Пушкинского сельского поселения Кадошкинского муниципального района Республики Мордовия | B29: 919 | C29: 01 | D29: 04 | E29: 89 | F29: 1 | J29: =J30 -> 0.1 | K29: =K30 -> 0.1 | L29: =L30 -> 0.1
A30: Осуществление государственных полномочий Республики Мордовия по определению перечня должностных лиц, уполномоченных составлять протоколы об административных правонарушениях, предусмотренных Законом Республики Мордовия от 15 июня 2015 года № 38-З "Об административной ответственности на территории Республики Мордовия" | B30: 919 | C30: 01 | D30: 04 | E30: 89 | F30: 1 | G30: 00 | H30: 77150 | J30: =J31 -> 0.1 | K30: =K31 -> 0.1 | L30: =L31 -> 0.1
A31: Закупка товаров, работ и услуг для обеспечения государственных (муниципальных) нужд | B31: 919 | C31: 01 | D31: 04 | E31: 89 | F31: 1 | G31: 00 | H31: 77150 | I31: 200 | J31: =J32 -> 0.1 | K31: =K32 -> 0.1 | L31: =L32 -> 0.1
A32: Иные закупки товаров, работ и услуг для обеспечения государственных (муниципальных) нужд | B32: 919 | C32: 01 | D32: 04 | E32: 89 | F32: 1 | G32: 00 | H32: 77150 | I32: 240 | J32: 0.1 | K32: 0.1 | L32: 0.1
A33: Резервные фонды | B33: 919 | C33: 01 | D33: 11 | J33: =J34 -> 10.68 | K33: =K34 -> 1 | L33: =L34 -> 1
A34: Непрограммные расходы главных распорядителей средств бюджета Пушкинского сельского поселения Кадошкинского муниципального района Республики Мордовия | B34: 919 | C34: 01 | D34: 11 | E34: 89 | J34: =J35 -> 10.68 | K34: =K35 -> 1 | L34: =L35 -> 1
A35: Непрограммные расходы в рамках обеспечения деятельности главных распорядителей средств бюджета Пушкинского сельского поселения Кадошкинского муниципального района Республики Мордовия | B35: 919 | C35: 01 | D35: 11 | E35: 89 | F35: 1 | J35: =J36 -> 10.68 | K35: =K36 -> 1 | L35: =L36 -> 1
A36: Резервный фонд администрации Пушкинского сельского поселения Кадошкинского муниципального района Республики Мордовия | B36: 919 | C36: 01 | D36: 11 | E36: 89 | F36: 1 | G36: 00 | H36: 41180 | J36: =J37 -> 10.68 | K36: =K37 -> 1 | L36: =L37 -> 1
A37: Иные бюджетные ассигнования | B37: 919 | C37: 01 | D37: 11 | E37: 89 | F37: 1 | G37: 00 | H37: 41180 | I37: 800 | J37: =J38 -> 10.68 | K37: =K38 -> 1 | L37: =L38 -> 1
A38: Резервные средства | B38: 919 | C38: 01 | D38: 11 | E38: 89 | F38: 1 | G38: 00 | H38: 41180 | I38: 870 | J38: =1-0.32+10 -> 10.68 | K38: 1 | L38: 1
A39: Другие общегосударственные вопросы | B39: 919 | C39: 01 | D39: 13 | J39: =J40+J44 -> 1.5 | K39: =K40+K44 -> 0 | L39: =L40+L44 -> 0
A40: Программа "Развитие муниципальной службы в Пушкинском сельском поселении на 2020-2022 годы" | B40: 919 | C40: 01 | D40: 13 | E40: 01 | J40: =J41 -> 1 | K40: =K41 -> 0 | L40: =L41 -> 0
...

Sheet Прил 3 
I1: Приложение 3 к решению Совета депутатов Пушкинского сельского поселения "О бюджете Пушкинского сельского поселения Кадошкинского муниципального района Республики Мордовия на 2022 год и на плановый период 2023 и 2024 годов"
A2: РАСПРЕДЕЛЕНИЕ БЮДЖЕТНЫХ АССИГНОВАНИЙ БЮДЖЕТА ПУШКИНСКОГО СЕЛЬСКОГО ПОСЕЛЕНИЯ КАДОШКИНСКОГО МУНИЦИПАЛЬНОГО РАЙОНА РЕСПУБЛИКИ МОРДОВИЯ ПО РАЗДЕЛАМ, ПОДРАЗДЕЛАМ, ЦЕЛЕВЫМ СТАТЬЯМ (МУНИЦИПАЛЬНЫМ ПРОГРАММАМ И НЕПРОГРАММНЫМ НАПРАВЛЕНИЯМ ДЕЯТЕЛЬНОСТИ), ГРУППАМ И ПОДГРУППАМ ВИДОВ РАСХОДОВ КЛАССИФИКАЦИИ РАСХОДОВ БЮДЖЕТОВ НА 2022 ГОД И НА ПЛАНОВЫЙ ПЕРИОД 2023 И 2024 ГОДОВ
K3: (тыс. рублей)
A4: Наименование | B4: Рз | C4: Прз | D4: Цср | H4: Вр | I4: Сумма
I5: 2022 год | J5: 2023 год | K5: 2024 год
A6: 1 | B6: 2 | C6: 3 | D6: 4 | E6: 5 | F6: 6 | G6: 7 | H6: 8 | I6: 9 | J6: 10 | K6: 11
A7: ВСЕГО | I7: =I8+I47+I69+I78+I94+I101+I56 -> 4376.4724 | J7: =J8+J47+J69+J78+J94+J101+J114 -> 1306.8 | K7: =K8+K47+K69+K78+K94+K101+K114 -> 1299.2
A8: Общегосударственные вопросы | B8: 01 | I8: =I9+I15+I32+I38 -> 2124.88 | J8: =J9+J15+J32+J38 -> 378.8 | K8: =K9+K15+K32+K38 -> 305.2
A9: Функционирование высшего должностного лица субъекта Российской Федерации и муниципального образования | B9: 01 | C9: 02 | I9: =I10 -> 232 | J9: =J10 -> 134.3 | K9: =K10 -> 66.9
A10: Обеспечение деятельности администрации | B10: 01 | C10: 02 | D10: 65 | I10: =I11 -> 232 | J10: =J11 -> 134.3 | K10: =K11 -> 66.9
A11: Высшее должностное лицо | B11: 01 | C11: 02 | D11: 65 | E11: 1 | I11: =I12 -> 232 | J11: =J12 -> 134.3 | K11: =K12 -> 66.9
A12: Расходы на выплаты по оплате труда высшего должностного лица | B12: 01 | C12: 02 | D12: 65 | E12: 1 | F12: 00 | G12: 41150 | I12: =I13 -> 232 | J12: =J13 -> 134.3 | K12: =K13 -> 66.9
A13: Расходы на выплаты персоналу в целях обеспечения выполнения функций государственными (муниципальными) органами, казенными учреждениями, органами управления государственными внебюджетными фондами | B13: 01 | C13: 02 | D13: 65 | E13: 1 | F13: 00 | G13: 41150 | H13: 100 | I13: =I14 -> 232 | J13: =J14 -> 134.3 | K13: =K14 -> 66.9
A14: Расходы на выплаты персоналу государственных (муниципальных) органов | B14: 01 | C14: 02 | D14: 65 | E14: 1 | F14: 00 | G14: 41150 | H14: 120 | I14: ='Прил 2'!J15 -> 232 | J14: ='Прил 2'!K15 -> 134.3 | K14: ='Прил 2'!L15 -> 66.9
A15: Функционирование Правительства Российской Федерации, высших органов исполнительной власти субъектов Российской Федерации, местных администраций | B15: 01 | C15: 04 | I15: =I16+I27 -> 1880.7 | J15: =J16+J27 -> 243.5 | K15: =K16+K27 -> 237.3
A16: Обеспечение деятельности администрации | B16: 01 | C16: 04 | D16: 65 | I16: =I17 -> 1880.6 | J16: =J17 -> 243.4 | K16: =K17 -> 237.2
A17: Непрограммные расходы в рамках обеспечения деятельности администрации | B17: 01 | C17: 04 | D17: 65 | E17: 2 | I17: =I18+I21 -> 1880.6 | J17: =J18+J21 -> 243.4 | K17: =K18+K21 -> 237.2
A18: Расходы на выплаты по оплате труда работников органов местного самоуправления | B18: 01 | C18: 04 | D18: 65 | E18: 2 | F18: 00 | G18: 41110 | I18: =I19 -> 944.4 | J18: =J19 -> 204.9 | K18: =K19 -> 200
A19: Расходы на выплаты персоналу в целях обеспечения выполнения функций государственными (муниципальными) органами, казенными учреждениями, органами управления государственными внебюджетными фондами | B19: 01 | C19: 04 | D19: 65 | E19: 2 | F19: 00 | G19: 41110 | H19: 100 | I19: =I20 -> 944.4 | J19: =J20 -> 204.9 | K19: =K20 -> 200
A20: Расходы на выплаты персоналу государственных (муниципальных) органов | B20: 01 | C20: 04 | D20: 65 | E20: 2 | F20: 00 | G20: 41110 | H20: 120 | I20: ='Прил 2'!J21 -> 944.4 | J20: ='Прил 2'!K21 -> 204.9 | K20: ='Прил 2'!L21 -> 200
A21: Расходы на обеспечение функций органов местного самоуправления | B21: 01 | C21: 04 | D21: 65 | E21: 2 | F21: 00 | G21: 41120 | I21: =I22+I24 -> 936.2 | J21: =J22+J24 -> 38.5 | K21: =K22+K24 -> 37.2
A22: Закупка товаров, работ и услуг для обеспечения государственных (муниципальных) нужд | B22: 01 | C22: 04 | D22: 65 | E22: 2 | F22: 00 | G22: 41120 | H22: 200 | I22: =I23 -> 879.7 | J22: =J23 -> 26.5 | K22: =K23 -> 25.2
A23: Иные закупки товаров, работ и услуг для обеспечения государственных (муниципальных) нужд | B23: 01 | C23: 04 | D23: 65 | E23: 2 | F23: 00 | G23: 41120 | H23: 240 | I23: ='Прил 2'!J24 -> 879.7 | J23: ='Прил 2'!K24 -> 26.5 | K23: ='Прил 2'!L24 -> 25.2
A24: Иные бюджетные ассигнования | B24: 01 | C24: 04 | D24: 65 | E24: 2 | F24: 00 | G24: 41120 | H24: 800 | I24: =I26+I25 -> 56.5 | J24: =J26 -> 12 | K24: =K26 -> 12
A25: Исполнение судебных актов | B25: 01 | C25: 04 | D25: 65 | E25: 2 | F25: 00 | G25: 41120 | H25: 830 | I25: ='Прил 2'!J26 -> 1 | J25: ='Прил 2'!K26 -> 0 | K25: ='Прил 2'!L26 -> 0
A26: Уплата налогов, сборов и иных платежей | B26: 01 | C26: 04 | D26: 65 | E26: 2 | F26: 00 | G26: 41120 | H26: 850 | I26: ='Прил 2'!J27 -> 55.5 | J26: ='Прил 2'!K27 -> 12 | K26: ='Прил 2'!L27 -> 12
A27: Непрограммные расходы главных распорядителей средств бюджета Пушкинского сельского поселения Кадошкинского муниципального района Республики Мордовия | B27: 01 | C27: 04 | D27: 89 | I27: =I28 -> 0.1 | J27: =J28 -> 0.1 | K27: =K28 -> 0.1
A28: Непрограммные расходы в рамках обеспечения деятельности главных распорядителей средств бюджета Пушкинского сельского поселения Кадошкинского муниципального района Республики Мордовия | B28: 01 | C28: 04 | D28: 89 | E28: 1 | I28: =I29 -> 0.1 | J28: =J29 -> 0.1 | K28: =K29 -> 0.1
A29: Осуществление государственных полномочий Республики Мордовия по определению перечня должностных лиц, уполномоченных составлять протоколы об административных правонарушениях, предусмотренных Законом Республики Мордовия от 15 июня 2015 года № 38-З "Об административной ответственности на территории Республики Мордовия" | B29: 01 | C29: 04 | D29: 89 | E29: 1 | F29: 00 | G29: 77150 | I29: =I30 -> 0.1 | J29: =J30 -> 0.1 | K29: =K30 -> 0.1
A30: Закупка товаров, работ и услуг для обеспечения государственных (муниципальных) нужд | B30: 01 | C30: 04 | D30: 89 | E30: 1 | F30: 00 | G30: 77150 | H30: 200 | I30: =I31 -> 0.1 | J30: =J31 -> 0.1 | K30: =K31 -> 0.1
A31: Иные закупки товаров, работ и услуг для обеспечения государственных (муниципальных) нужд | B31: 01 | C31: 04 | D31: 89 | E31: 1 | F31: 00 | G31: 77150 | H31: 240 | I31: ='Прил 2'!J32 -> 0.1 | J31: ='Прил 2'!K32 -> 0.1 | K31: ='Прил 2'!L32 -> 0.1
A32: Резервные фонды | B32: 01 | C32: 11 | I32: =I33 -> 10.68 | J32: =J33 -> 1 | K32: =K33 -> 1
A33: Непрограммные расходы главных распорядителей средств бюджета Пушкинского сельского поселения Кадошкинского муниципального района Республики Мордовия | B33: 01 | C33: 11 | D33: 89 | I33: =I34 -> 10.68 | J33: =J34 -> 1 | K33: =K34 -> 1
A34: Непрограммные расходы в рамках обеспечения деятельности главных распорядителей средств бюджета Пушкинского сельского поселения Кадошкинского муниципального района Республики Мордовия | B34: 01 | C34: 11 | D34: 89 | E34: 1 | I34: =I35 -> 10.68 | J34: =J35 -> 1 | K34: =K35 -> 1
A35: Резервный фонд администрации Пушкинского сельского поселения Кадошкинского муниципального района Республики Мордовия | B35: 01 | C35: 11 | D35: 89 | E35: 1 | F35: 00 | G35: 41180 | I35: =I36 -> 10.68 | J35: =J36 -> 1 | K35: =K36 -> 1
A36: Иные бюджетные ассигнования | B36: 01 | C36: 11 | D36: 89 | E36: 1 | F36: 00 | G36: 41180 | H36: 800 | I36: =I37 -> 10.68 | J36: =J37 -> 1 | K36: =K37 -> 1
A37: Резервные средства | B37: 01 | C37: 11 | D37: 89 | E37: 1 | F37: 00 | G37: 41180 | H37: 870 | I37: ='Прил 2'!J38 -> 10.68 | J37: ='Прил 2'!K38 -> 1 | K37: ='Прил 2'!L38 -> 1
A38: Другие общегосударственные вопросы | B38: 01 | C38: 13 | I38: =I39+I43 -> 1.5 | J38: =J39+J43 -> 0 | K38: =K39+K43 -> 0
A39: Программа "Развитие муниципальной службы в Паевском сельском поселении на 2020-2022 годы" | B39: 01 | C39: 13 | D39: 01 | I39: =I40 -> 1 | J39: =J40 -> 0 | K39: =K40 -> 0
A40: Подготовка, переподготовка и повышение квалификации кадров | B40: 01 | C40: 13 | D40: 01 | E40: 0 | F40: 00 | G40: 41250 | I40: =I41 -> 1 | J40: =J41 -> 0 | K40: =K41 -> 0
...

Sheet Прил 4
J1: Приложение 4 к решению Совета депутатов Пушкинского сельского поселения "О бюджете Пушкинского сельского поселения Кадошкинского муниципального района Республики Мордовия на 2022 год и на плановый период 2023 и 2024 годов"
A2: РАСПРЕДЕЛЕНИЕ БЮДЖЕТНЫХ АССИГНОВАНИЙ БЮДЖЕТА ПУШКИНСКОГО СЕЛЬСКОГО ПОСЕЛЕНИЯ КАДОШКИНСКОГО МУНИЦИПАЛЬНОГО РАЙОНА РЕСПУБЛИКИ МОРДОВИЯ ПО ЦЕЛЕВЫМ СТАТЬЯМ (МУНИЦИПАЛЬНЫМ ПРОГРАММАМ И НЕПРОГРАММНЫМ НАПРАВЛЕНИЯМ ДЕЯТЕЛЬНОСТИ), ГРУППАМ И ПОДГРУППАМ ВИДОВ РАСХОДОВ, РАЗДЕЛАМ И ПОДРАЗДЕЛАМ КЛАССИФИКАЦИИ РАСХОДОВ БЮДЖЕТОВ НА 2022 ГОД НА ПЛАНОВЫЙ ПЕРИОД 2023 И 2024 ГОДОВ
L3: (тыс. рублей)
A4: Наименование | B4: Цср | F4: ВР | G4: Рз | H4: Прз | I4: Адм | J4: Сумма
J5: 2022 год | K5: 2023 год | L5: 2024 год
A6: 1 | B6: 2 | C6: 3 | D6: 4 | E6: 5 | F6: 6 | G6: 7 | H6: 8 | I6: 9 | J6: 10 | K6: 11 | L6: 12
A7: ВСЕГО | J7: =J35+J65+J8+J15+J22 -> 4376.4724 | K7: =K35+K65+K8+K15+K22 -> 1306.8 | L7: =L35+L65+L8+L15+L22 -> 1299.2
A8: Программа "Развитие муниципальной службы в Паевском сельском поселении на 2020-2022 годы" | B8: 01 | J8: =J9 -> 1 | K8: =K9 -> 0 | L8: =L9 -> 0
A9: Подготовка, переподготовка и повышение квалификации кадров | B9: 01 | C9: 0 | D9: 00 | E9: 41250 | J9: =J10 -> 1 | K9: =K10 -> 0 | L9: =L10 -> 0
A10: Закупка товаров, работ и услуг для обеспечения государственных (муниципальных) нужд | B10: 01 | C10: 0 | D10: 00 | E10: 41250 | F10: 200 | J10: =J11 -> 1 | K10: =K11 -> 0 | L10: =L11 -> 0
A11: Иные закупки товаров, работ и услуг для обеспечения государственных (муниципальных) нужд | B11: 01 | C11: 0 | D11: 00 | E11: 41250 | F11: 240 | J11: =J12 -> 1 | K11: =K12 -> 0 | L11: =L12 -> 0
A12: Общегосударственные вопросы | B12: 01 | C12: 0 | D12: 00 | E12: 41250 | F12: 240 | G12: 01 | J12: =J13 -> 1 | K12: =K13 -> 0 | L12: =L13 -> 0
A13: Другие общегосударственные вопросы | B13: 01 | C13: 0 | D13: 00 | E13: 41250 | F13: 240 | G13: 01 | H13: 13 | J13: =J14 -> 1 | K13: =K14 -> 0 | L13: =L14 -> 0
A14: Администрация Пушкинского сельского поселения Кадошкинского муниципального района Республики Мордовия | B14: 01 | C14: 0 | D14: 00 | E14: 41250 | F14: 240 | G14: 01 | H14: 13 | I14: 919 | J14: ='Прил 2'!J43 -> 1 | K14: ='Прил 2'!K43 -> 0 | L14: ='Прил 2'!L43 -> 0
A15: Программа "Пожарная безопасность на территории Пушкинского сельского поселения Кадошкинского муниципального района Республики Мордовия на 2020-2022г.г." | B15: 08 | J15: =J16 -> 0.5 | K15: =K16 -> 0 | L15: =L16 -> 0
A16: Мероприятия по обеспечению пожарной безопасности | B16: 08 | C16: 0 | D16: 00 | E16: 42120 | J16: =J17 -> 0.5 | K16: =K17 -> 0 | L16: =L17 -> 0
A17: Закупка товаров, работ и услуг для обеспечения государственных (муниципальных) нужд | B17: 08 | C17: 0 | D17: 00 | E17: 42120 | F17: 200 | J17: =J18 -> 0.5 | K17: =K18 -> 0 | L17: =L18 -> 0
A18: Иные закупки товаров, работ и услуг для обеспечения государственных (муниципальных) нужд | B18: 08 | C18: 0 | D18: 00 | E18: 42120 | F18: 240 | J18: =J19 -> 0.5 | K18: =K19 -> 0 | L18: =L19 -> 0
A19: Общегосударственные вопросы | B19: 08 | C19: 0 | D19: 00 | E19: 42120 | F19: 240 | G19: 01 | J19: =J20 -> 0.5 | K19: =K20 -> 0 | L19: =L20 -> 0
A20: Другие общегосударственные вопросы | B20: 08 | C20: 0 | D20: 00 | E20: 42120 | F20: 240 | G20: 01 | H20: 13 | J20: =J21 -> 0.5 | K20: =K21 -> 0 | L20: =L21 -> 0
A21: Администрация Пушкинского сельского поселения Кадошкинского муниципального района Республики Мордовия | B21: 08 | C21: 0 | D21: 00 | E21: 42120 | F21: 240 | G21: 01 | H21: 13 | I21: 919 | J21: ='Прил 2'!J47 -> 0.5 | K21: ='Прил 2'!K47 -> 0 | L21: ='Прил 2'!L47 -> 0
A22: Программа комплексного развития транспортной инфраструктуры Пушкинского сельского поселения Кадошкинского муниципального района Республики Мордовия на 2017-2025 годы | B22: 13 | J22: =J23+J29 -> 894.4 | K22: =K29 -> 534 | L22: =L29 -> 566.2
A23: Ремонт автомобильных дорог общего пользования местного значения и искусственных сооружений на них за счет средств местного бюджета | B23: 13 | C23: 0 | D23: 00 | E23: 42520 | J23: =J24 -> 250 | K23: =K24 -> 0 | L23: =L24 -> 0
A24: Иные закупки товаров, работ и услуг для обеспечения государственных (муниципальных) нужд | B24: 13 | C24: 0 | D24: 00 | E24: 42520 | F24: 200 | J24: =J25 -> 250 | K24: =K25 -> 0 | L24: =L25 -> 0
A25: Прочая закупка товаров, работ и услуг | B25: 13 | C25: 0 | D25: 00 | E25: 42520 | F25: 240 | J25: =J26 -> 250 | K25: =K26 -> 0 | L25: =L26 -> 0
A26: Национальная экономика | B26: 13 | C26: 0 | D26: 00 | E26: 42520 | F26: 240 | G26: 04 | J26: =J27 -> 250 | K26: =K27 -> 0 | L26: =L27 -> 0
A27: Дорожное хозяйство (дорожные фонды) | B27: 13 | C27: 0 | D27: 00 | E27: 42520 | F27: 240 | G27: 04 | H27: 09 | J27: =J28 -> 250 | K27: =K28 -> 0 | L27: =L28 -> 0
A28: Администрация Пушкинского сельского поселения Кадошкинского муниципального района Республики Мордовия | B28: 13 | C28: 0 | D28: 00 | E28: 42520 | F28: 240 | G28: 04 | H28: 09 | I28: 919 | J28: ='Прил 2'!J75 -> 250 | K28: ='Прил 2'!K75 -> 0 | L28: ='Прил 2'!L75 -> 0
A29: Иные межбюджетные трансферты на осуществление полномочий по дорожной деятельности в отношении автомобильных дорог местного значения в границах населенных пунктов поселения и обеспечению безопасности дорожного движения на них, включая создание и обеспечение функционирования парковок (парковочных мест), осуществлению муниципального контроля за сохранностью автомобильных дорог местного значения в границах населенных пунктов поселения, организации дорожного движения, а также осуществлению иных полномочий в области использования автомобильных дорог и осуществления дорожной деятельности в соответствии с законодательством Российской Федерации | B29: 13 | C29: 0 | D29: 00 | E29: 44102 | J29: =J30 -> 644.4 | K29: =K30 -> 534 | L29: =L30 -> 566.2
A30: Иные закупки товаров, работ и услуг для обеспечения государственных (муниципальных) нужд | B30: 13 | C30: 0 | D30: 00 | E30: 44102 | F30: 200 | J30: =J31 -> 644.4 | K30: =K31 -> 534 | L30: =L31 -> 566.2
A31: Прочая закупка товаров, работ и услуг | B31: 13 | C31: 0 | D31: 00 | E31: 44102 | F31: 240 | J31: =J32 -> 644.4 | K31: =K32 -> 534 | L31: =L32 -> 566.2
A32: Национальная экономика | B32: 13 | C32: 0 | D32: 00 | E32: 44102 | F32: 240 | G32: 04 | J32: =J33 -> 644.4 | K32: =K33 -> 534 | L32: =L33 -> 566.2
A33: Дорожное хозяйство (дорожные фонды) | B33: 13 | C33: 0 | D33: 00 | E33: 44102 | F33: 240 | G33: 04 | H33: 09 | J33: =J34 -> 644.4 | K33: =K34 -> 534 | L33: =L34 -> 566.2
A34: Администрация Пушкинского сельского поселения Кадошкинского муниципального района Республики Мордовия | B34: 13 | C34: 0 | D34: 00 | E34: 44102 | F34: 240 | G34: 04 | H34: 09 | I34: 919 | J34: ='Прил 2'!J78 -> 644.4 | K34: ='Прил 2'!K78 -> 534 | L34: ='Прил 2'!L78 -> 566.2
A35: Обеспечение деятельности администрации | B35: 65 | J35: =J36+J43 -> 2112.6 | K35: =K36+K43 -> 377.7 | L35: =L36+L43 -> 304.1
A36: Высшее должностное лицо | B36: 65 | C36: 1 | J36: =J37 -> 232 | K36: =K37 -> 134.3 | L36: =L37 -> 66.9
A37: Расходы на выплаты по оплате труда высшего должностного лица муниципального образования | B37: 65 | C37: 1 | D37: 00 | E37: 41150 | J37: =J40 -> 232 | K37: =K40 -> 134.3 | L37: =L40 -> 66.9
A38: Расходы на выплаты персоналу в целях обеспечения выполнения функций государственными (муниципальными) органами, казенными учреждениями, органами управления государственными внебюджетными фондами | B38: 65 | C38: 1 | D38: 00 | E38: 41150 | F38: 100 | J38: =J39 -> 232 | K38: =K39 -> 134.3 | L38: =L39 -> 66.9
A39: Расходы на выплаты персоналу государственных (муниципальных) органов | B39: 65 | C39: 1 | D39: 00 | E39: 41150 | F39: 120 | J39: =J40 -> 232 | K39: =K40 -> 134.3 | L39: =L40 -> 66.9
A40: Общегосударственные вопросы | B40: 65 | C40: 1 | D40: 00 | E40: 41150 | F40: 120 | G40: 01 | J40: =J41 -> 232 | K40: =K41 -> 134.3 | L40: =L41 -> 66.9
...

Sheet Прил 5
C1: Приложение 5 к решению Совета депутатов Пушкинского сельского поселения "О бюджете Пушкинского сельского поселения Кадошкинского муниципального района Республики Мордовия на 2022 год и на плановый период 2023 и 2024 годов"
A2: ИСТОЧНИКИ ВНУТРЕННЕГО ФИНАНСИРОВАНИЯ ДЕФИЦИТА БЮДЖЕТА ПУШКИНСКОГО СЕЛЬСКОГО ПОСЕЛЕНИЯ КАДОШКИНСКОГО МУНИЦИПАЛЬНОГО РАЙОНА РЕСПУБЛИКИ МОРДОВИЯ НА 2022 ГОД И НА ПЛАНОВЫЙ ПЕРИОД 2023 И 2024 ГОДОВ
E3: (тыс.руб.)
A4: Код | B4: Наименование кода группы, подгруппы, статьи, вида источника финансирования дефицитов бюджетов, кода классификации операций сектора государственного управления, относящихся к источникам финансирования дефицитов бюджетов Российской Федерации | C4: Сумма (тыс. руб.)
C5: 2022 год | D5: 2023 год | E5: 2024 год
A6: 000 01 00 00 00 00 0000 000 | B6: ИСТОЧНИКИ ВНУТРЕННЕГО ФИНАНСИРОВАНИЯ ДЕФИЦИТОВ БЮДЖЕТОВ | C6: =C7+C14+C10 -> -465.9976 | D6: =D7+D14+D10 -> -99.9 | E6: =E7+E14+E10 -> -133.1
A7: 000 01 02 00 00 00 0000 000 | B7: Кредиты кредитных организаций в валюте Российской Федерации | C7: =SUM(C8) -> 0 | D7: =SUM(D8) -> 0 | E7: =SUM(E8) -> 0
A8: 000 01 02 00 00 00 0000 700 | B8: Получение кредитов от кредитных организаций в валюте Российской Федерации | C8: =SUM(C9) -> 0 | D8: =SUM(D9) -> 0 | E8: =SUM(E9) -> 0
A9: 000 01 02 00 00 10 0000 710 | B9: Получение кредитов от кредитных организаций бюджетами сельских поселений в валюте Российской Федерации | C9: 0 | D9: 0 | E9: 0
A10: 000 01 03 00 00 00 0000 000 | B10: Бюджетные кредиты из других бюджетов бюджетной системы Российской Федерации | C10: =C11 -> -465.99756 | D10: =D11 -> -99.9 | E10: =E11 -> -133.1
A11: 000 01 03 01 00 00 0000 800 | B11: Погашение бюджетных кредитов, полученных из других бюджетов бюджетной системы Российской Федерации в валюте Российской Федерации | C11: =C12 -> -465.99756 | D11: =D12 -> -99.9 | E11: =E12 -> -133.1
A12: 000 01 03 01 00 10 0000 800 | B12: Погашение бюджетных кредитов, полученных из других бюджетов бюджетной системы Российской Федерации в валюте Российской Федерации | C12: =SUM(C13) -> -465.99756 | D12: =SUM(D13) -> -99.9 | E12: =SUM(E13) -> -133.1
A13: 000 01 03 01 00 10 0000 810 | B13: Погашение бюджетами сельских поселений кредитов из других бюджетов бюджетной системы Российской Федерации в валюте Российской Федерации | C13: -465.99756 | D13: -99.9 | E13: -133.1
A14: 000 01 05 00 00 00 0000 000 | B14: Изменение остатков средств на счетах по учету средств бюджетов | C14: =C17+C18 -> -4.0000001e-05 | D14: =D17+D18 -> 0 | E14: =E17+E18 -> 0
A15: 000 01 05 02 00 00 0000 500 | B15: Увеличение прочих остатков средств бюджетов | C15: =SUM(C16) -> -4842.47 | D15: =SUM(D16) -> -1406.7 | E15: =SUM(E16) -> -1432.3
A16: 000 01 05 02 01 00 0000 510 | B16: Увеличение прочих остатков денежных средств бюджетов | C16: =SUM(C17) -> -4842.47 | D16: =SUM(D17) -> -1406.7 | E16: =SUM(E17) -> -1432.3
A17: 000 01 05 02 01 10 0000 510 | B17: Увеличение прочих остатков денежных средств бюджетов сельских поселений | C17: =-'Прил 1'!C7-C9 -> -4842.47 | D17: =-'Прил 1'!D7-D9 -> -1406.7 | E17: =-'Прил 1'!E7-E9 -> -1432.3
A18: 000 01 05 02 00 00 0000 600 | B18: Уменьшение прочих остатков средств бюджетов | C18: =SUM(C19) -> 4842.47 | D18: =SUM(D19) -> 1406.7 | E18: =SUM(E19) -> 1432.3
A19: 000 01 05 02 01 00 0000 610 | B19: Уменьшение прочих остатков денежных средств бюджетов | C19: =SUM(C20) -> 4842.47 | D19: =SUM(D20) -> 1406.7 | E19: =SUM(E20) -> 1432.3
A20: 000 01 05 02 01 10 0000 610 | B20: Уменьшение прочих остатков денежных средств местных бюджетов | C20: ='Прил 2'!J8-C13 -> 4842.47 | D20: ='Прил 3 '!J7-D13 -> 1406.7 | E20: ='Прил 3 '!K7-E13 -> 1432.3

Sheet Прил 6
C1: Приложение 6 к решению Совета депутатов Пушкинского сельского поселения "О бюджете Пушкинского сельского поселения Кадошкинского муниципального района Республики Мордовия на 2022 год и на плановый период 2023 и 2024 годов"
A2: ПРОГРАММА МУНИЦИПАЛЬНЫХ ВНУТРЕННИХ ЗАИМСТВОВАНИЙ ПУШКИНСКОГО СЕЛЬСКОГО ПОСЕЛЕНИЯ КАДОШКИНСКОГО МУНИЦИПАЛЬНОГО РАЙОНА РЕСПУБЛИКИ МОРДОВИЯ НА 2022 ГОД И НА ПЛАНОВЫЙ ПЕРИОД 2023 И 2024 ГОДОВ
A5: № п/п | B5: Виды заимствований | C5: Сумма (тыс.руб.)
C6: 2022 год | D6: 2023 год | E6: 2024 год
A7: 1 | B7: 2 | C7: 3 | D7: 4 | E7: 5
A8: I | B8: Кредиты кредитных организаций в валюте Российской Федерации | C8: =C10 -> 0 | D8: =D10 -> 0 | E8: =E10 -> 0
B9: в том числе:
A10: 1 | B10: Объем привлечения
A11: 2 | B11: Объем средств, напрвляемых на погашение основной суммы долга
A12: II | B12: Бюджетные кредиты от других бюджетов бюджетной системы Российской Федерации | C12: =C15 -> -465.9976 | D12: =D15 -> -99.9 | E12: =E15 -> -133.1
B13: в том числе
A14: 1 | B14: Объем привлечения
A15: 2 | B15: Объем средств, напрвляемых на погашение основной суммы долга | C15: ='Прил 5'!C6 -> -465.9976 | D15: -99.9 | E15: -133.1
B16: ВСЕГО | C16: =C10+C15 -> -465.9976 | D16: =D10+D15 -> -99.9 | E16: =E10+E15 -> -133.1
