Workbook
Name _1Excel_BuiltIn_Print_Area_1_1_1: 'Прил 1'!$A$1:$C$30
Name _2Excel_BuiltIn_Print_Area_7_1_1: #REF!
Name _2Excel_BuiltIn_Print_Area_7_1_1: #REF!
Name _Toc105952698: 'Прил 2 '!$A$3
Name _Toc105952698: #REF!
Name Excel_BuiltIn_Print_Area_1: 'Прил 1'!$A$1:$C$30
Name Excel_BuiltIn_Print_Area_1_1: 'Прил 1'!$A$1:$C$30
Name Excel_BuiltIn_Print_Area_2: #REF!
Name Excel_BuiltIn_Print_Area_2: #REF!
Name Excel_BuiltIn_Print_Area_3: #REF!
Name Excel_BuiltIn_Print_Area_3_1: #REF!
Name Excel_BuiltIn_Print_Area_3_1: #REF!
Name Excel_BuiltIn_Print_Area_4: #REF!
Name Excel_BuiltIn_Print_Area_4: #REF!
Name Excel_BuiltIn_Print_Area_5: 'Прил 2 '!$A$1:$I$44
Name Excel_BuiltIn_Print_Area_5: #REF!
Name Excel_BuiltIn_Print_Area_5_1: 'Прил 2 '!$A$1:$I$44
Name Excel_BuiltIn_Print_Area_5_1: #REF!
Name Excel_BuiltIn_Print_Area_6: 'Прил 3'!$A$1:$G$45
Name Excel_BuiltIn_Print_Area_6_1: 'Прил 3'!$A$1:$G$45
Name Excel_BuiltIn_Print_Area_7: #REF!
Name Excel_BuiltIn_Print_Area_7: #REF!
Name Excel_BuiltIn_Print_Area_7_1: #REF!
Name Excel_BuiltIn_Print_Area_7_1: #REF!

Sheet Прил 1
D1: Приложение 1
C2: к решению сессии Совета депутатов Большеполянскго сельского поселения "Об исполнении бюджета Большеполянского сельского поселения Кадошкинского муниципального района Республики Мордовия за 2021 год"
A3: ДОХОДЫ БЮДЖЕТА БОЛЬШЕПОЛЯНСКОГО СЕЛЬСКОГО ПОСЕЛЕНИЯ КАДОШКИНСКОГО МУНИЦИПАЛЬНОГО РАЙОНА РЕСПУБЛИКИ МОРДОВИЯ
C4: (тыс.рублей)
A5: Код бюджетной классификации доходов бюджета | B5: Наименование доходов | C5: Сумма
C6: План 2021 год | D6: Исполнение 2021 год | E6: % исполнения
A7: 1 | B7: 2 | C7: 3 | D7: 4 | E7: 5
B8: ВСЕГО ДОХОДОВ | C8: =SUM(C9+C20+C31) -> 1489.88 | D8: =SUM(D9+D20+D31) -> 1289.23 | E8: =D8/C8*100 -> 86.532472
A9: 00010000000000000000 | B9: НАЛОГОВЫЕ И НЕНАЛОГОВЫЕ ДОХОДЫ | C9: =SUM(C10+C13+C15+C17) -> 469.3 | D9: =SUM(D10+D13+D15+D17) -> 359.03 | E9: =D9/C9*100 -> 76.503303
A10: 00010100000000000000 | B10: НАЛОГИ НА ПРИБЫЛЬ, ДОХОДЫ | C10: =SUM(C11) -> 16.8 | D10: =SUM(D11) -> 12.6 | E10: =D10/C10*100 -> 75
A11: 00010102000010000110 | B11: Налог на доходы физических лиц | C11: =SUM(C12) -> 16.8 | D11: =SUM(D12) -> 12.6 | E11: =D11/C11*100 -> 75
A12: 18210102010010000110 | B12: Налог на доходы физических лиц с доходов, источником которых является налоговый агент, за исключением доходов, в отношении которых исчисление и уплата налога осуществляются в соответствии со статьями 227, 2271 и 228 Налогового кодекса Российской Федерации | C12: 16.8 | D12: 12.6 | E12: =D12/C12*100 -> 75
A13: 00010500000000000000 | B13: НАЛОГИ НА СОВОКУПНЫЙ ДОХОД | C13: =SUM(C14) -> 0.5 | D13: =SUM(D14) -> 0.43 | E13: =D13/C13*100 -> 86
A14: 18210503010010000110 | B14: Единый сельскохозяйственный налог | C14: 0.5 | D14: 0.43 | E14: =D14/C14*100 -> 86
A15: 00010600000000000000 | B15: НАЛОГИ НА ИМУЩЕСТВО | C15: =SUM(C16) -> 54 | D15: =SUM(D16) -> 44.8 | E15: =D15/C15*100 -> 82.962963
A16: 18210601030100000110 | B16: Налог на имущество физических лиц, взимаемый по ставкам, применяемым к объектам налогообложения, расположенным в границах сельских поселений | C16: 54 | D16: 44.8 | E16: =D16/C16*100 -> 82.962963
A17: 00010606000000000110 | B17: Земельный налог | C17: =SUM(C18+C19) -> 398 | D17: =SUM(D18+D19) -> 301.2 | E17: =D17/C17*100 -> 75.678392
A18: 18210606033100000110 | B18: Земельный налог с организаций, обладающих земельным участком, расположенным в границах сельских поселений | C18: 218 | D18: 189.5 | E18: =D18/C18*100 -> 86.926606
A19: 18210606043100000110 | B19: Земельный налог с физических лиц, обладающих земельным участком, расположенным в границах сельских поселений | C19: 180 | D19: 111.7 | E19: =D19/C19*100 -> 62.055556
A20: 00020200000000000000 | B20: БЕЗВОЗМЕЗДНЫЕ ПОСТУПЛЕНИЯ ОТ ДРУГИХ БЮДЖЕТОВ БЮДЖЕТНОЙ СИСТЕМЫ РОССИЙСКОЙ ФЕДЕРАЦИИ | C20: =SUM(C26+C29+C21+C24) -> 1010.58 | D20: =SUM(D26+D29+D21+D24) -> 920.2 | E20: =D20/C20*100 -> 91.056621
A21: 00020210000000000150 | B21: Дотации бюджетам бюджетной системы Российской Федерации | C21: =C22+C23 -> 374 | D21: =D22+D23 -> 374 | E21: =D21/C21*100 -> 100
A22: 91120215001100000150 | B22: Дотации бюджетам сельских поселений на выравнивание бюджетной обеспеченности | C22: =180.8+6.6 -> 187.4 | D22: 187.4 | E22: =D22/C22*100 -> 100
A23: 91120215002100000150 | B23: Дотации бюджетам сельских поселений на поддержку мер по обеспечению сбалансированности бюджетов | C23: 186.6 | D23: 186.6 | E23: =D23/C23*100 -> 100
A24: 00020220000000000150 | B24: Субсидии бюджетам бюджетной системы Российской Федерации (межбюджетные субсидии) | C24: =C25 -> 140 | D24: =D25 -> 140 | E24: =D24/C24*100 -> 100
A25: 91120229999100000150 | B25: Прочие субсидии бюджетам сельских поселений | C25: 140 | D25: 140 | E25: =D25/C25*100 -> 100
A26: 00020230000000000150 | B26: Субвенции бюджетам бюджетной системы Российской Федерации | C26: =SUM(C27+C28) -> 86.9 | D26: =SUM(D27+D28) -> 86.9 | E26: =D26/C26*100 -> 100
A27: 91120230024100000150 | B27: Субвенции на осуществление государственных полномочий Республики Мордовия по определению перечня должностных лиц, уполномоченных составлять протоколы об административных правонарушениях, предусмотренных Законом Республики Мордовия от 15 июня 2015 года № 38-З "Об административной ответственности на территории Республики Мордовия" | C27: 0.1 | D27: 0.1 | E27: =D27/C27*100 -> 100
A28: 91120235118100000150 | B28: Субвенции бюджетам сельских поселений на осуществление первичного воинского учета на территориях, где отсутствуют военные комиссариаты | C28: 86.8 | D28: 86.8 | E28: =D28/C28*100 -> 100
A29: 00020240000000000150 | B29: Иные межбюджетные трансферты | C29: =SUM(C30) -> 409.68 | D29: =SUM(D30) -> 319.3 | E29: =D29/C29*100 -> 77.938879
A30: 91120240014100000150 | B30: Межбюджетные трансферты, передаваемые бюджетам сельских поселений из бюджетов муниципальных районов на осуществление части полномочий по решению вопросов местного значения в соответствии с заключенными соглашениями | C30: =307.4+102.28 -> 409.68 | D30: 319.3 | E30: =D30/C30*100 -> 77.938879
A31: 00020700000000000000 | B31: ПРОЧИЕ БЕЗВОЗМЕЗДНЫЕ ПОСТУПЛЕНИЯ | C31: =C32 -> 10 | D31: =D32 -> 10 | E31: =D31/C31*100 -> 100
A32: 91120705030100000150 | B32: Прочие межбюджетные трансферты, передаваемые бюджетам сельских поселений | C32: 10 | D32: 10 | E32: =D32/C32*100 -> 100

Sheet Прил 2 
I1: Приложение 2
I2: к решению сессии Совета депутатов Большеполянскго сельского поселения "Об исполнении бюджета Большеполянского сельского поселения Кадошкинского муниципального района Республики Мордовия за 2021 год"
A3: РАСПРЕДЕЛЕНИЕ БЮДЖЕТНЫХ АССИГНОВАНИЙ БЮДЖЕТА БОЛЬШЕПОЛЯНСКОГО СЕЛЬСКОГО ПОСЕЛЕНИЯ КАДОШКИНСКОГО МУНИЦИПАЛЬНОГО РАЙОНА РЕСПУБЛИКИ МОРДОВИЯ ПО РАЗДЕЛАМ, ПОДРАЗДЕЛАМ, ЦЕЛЕВЫМ СТАТЬЯМ, ГРУППАМ (ГРУППАМ И ПОДГРУППАМ) ВИДОВ РАСХОДОВ КЛАССИФИКАЦИИ РАСХОДОВ БЮДЖЕТОВ НА 2021 ГОД
A4: Наименование | B4: Рз | C4: ПР | D4: ЦСР | H4: ВР | I4: Сумма (тыс. рублей)
I5: План 2021 год | J5: Исполнение 2021 год | K5: % исполнения
A6: 1 | B6: 2 | C6: 3 | D6: 4 | E6: 5 | F6: 6 | G6: 7 | H6: 8 | I6: 9 | J6: 10 | K6: 11
A7: ВСЕГО | I7: =I8+I51+I60+I67+I83+I90 -> 1489.912 | J7: =J8+J51+J60+J67+J83+J90 -> 1276.5 | K7: =J7/I7*100 -> 85.676201
A8: Общегосударственные вопросы | B8: 01 | I8: =I9+I18+I39+I45 -> 837.032 | J8: =J9+J18+J39+J45 -> 739.2 | K8: =J8/I8*100 -> 88.312036
A9: Функционирование высшего должностного лица субъекта Российской Федерации и муниципального образования | B9: 01 | C9: 02 | I9: =I10 -> 343.74 | J9: =J10 -> 319.2 | K9: =J9/I9*100 -> 92.860883
A10: Обеспечение деятельности администрации | B10: 01 | C10: 02 | D10: 65 | I10: =I11 -> 343.74 | J10: =J11 -> 319.2 | K10: =J10/I10*100 -> 92.860883
A11: Высшее должностное лицо | B11: 01 | C11: 02 | D11: 65 | E11: 1 | I11: =I12+I15 -> 343.74 | J11: =J12+J15 -> 319.2 | K11: =J11/I11*100 -> 92.860883
A12: Расходы на выплаты по оплате труда высшего должностного лица | B12: 01 | C12: 02 | D12: 65 | E12: 1 | F12: 00 | G12: 41150 | I12: =I13 -> 277.94 | J12: =J13 -> 256.6 | K12: =J12/I12*100 -> 92.322084
A13: Расходы на выплаты персоналу в целях обеспечения выполнения функций государственными (муниципальными) органами, казенными учреждениями, органами управления государственными внебюджетными фондами | B13: 01 | C13: 02 | D13: 65 | E13: 1 | F13: 00 | G13: 41150 | H13: 100 | I13: =I14 -> 277.94 | J13: =J14 -> 256.6 | K13: =J13/I13*100 -> 92.322084
A14: Расходы на выплаты персоналу государственных (муниципальных) органов | B14: 01 | C14: 02 | D14: 65 | E14: 1 | F14: 00 | G14: 41150 | H14: 120 | I14: ='Прил 3'!J15 -> 277.94 | J14: ='Прил 3'!K15 -> 256.6 | K14: =J14/I14*100 -> 92.322084
A15: Субсидии на софинансирование расходных обязательств по финансовому обеспечению деятельности органов местного самоуправления и муниципальных учреждений | B15: 01 | C15: 02 | D15: 65 | E15: 1 | F15: 00 | G15: 44205 | I15: =I16 -> 65.8 | J15: =J16 -> 62.6 | K15: =J15/I15*100 -> 95.136778
A16: Расходы на выплаты персоналу в целях обеспечения выполнения функций государственными (муниципальными) органами, казенными учреждениями, органами управления государственными внебюджетными фондами | B16: 01 | C16: 02 | D16: 65 | E16: 1 | F16: 00 | G16: 44205 | H16: 100 | I16: =I17 -> 65.8 | J16: =J17 -> 62.6 | K16: =J16/I16*100 -> 95.136778
A17: Расходы на выплаты персоналу государственных (муниципальных) органов | B17: 01 | C17: 02 | D17: 65 | E17: 1 | F17: 00 | G17: 44205 | H17: 120 | I17: ='Прил 3'!J18 -> 65.8 | J17: ='Прил 3'!K18 -> 62.6 | K17: =J17/I17*100 -> 95.136778
A18: Функционирование Правительства Российской Федерации, высших органов исполнительной власти субъектов Российской Федерации, местных администраций | B18: 01 | C18: 04 | I18: =I19+I34 -> 489.292 | J18: =J19+J34 -> 417 | K18: =J18/I18*100 -> 85.225183
A19: Обеспечение деятельности администрации | B19: 01 | C19: 04 | D19: 65 | I19: =I20 -> 489.192 | J19: =J20 -> 416.9 | K19: =J19/I19*100 -> 85.222162
A20: Непрограммные расходы в рамках обеспечения деятельности администрации | B20: 01 | C20: 04 | D20: 65 | E20: 2 | I20: =I21+I24+I29 -> 489.192 | J20: =J21+J24+J29 -> 416.9 | K20: =J20/I20*100 -> 85.222162
A21: Расходы на выплаты по оплате труда работников органов местного самоуправления | B21: 01 | C21: 04 | D21: 65 | E21: 2 | F21: 00 | G21: 41110 | I21: =I22 -> 294.62 | J21: =J22 -> 285.5 | K21: =J21/I21*100 -> 96.904487
A22: Расходы на выплаты персоналу в целях обеспечения выполнения функций государственными (муниципальными) органами, казенными учреждениями, органами управления государственными внебюджетными фондами | B22: 01 | C22: 04 | D22: 65 | E22: 2 | F22: 00 | G22: 41110 | H22: 100 | I22: =I23 -> 294.62 | J22: =J23 -> 285.5 | K22: =J22/I22*100 -> 96.904487
A23: Расходы на выплаты персоналу государственных (муниципальных) органов | B23: 01 | C23: 04 | D23: 65 | E23: 2 | F23: 00 | G23: 41110 | H23: 120 | I23: ='Прил 3'!J24 -> 294.62 | J23: ='Прил 3'!K24 -> 285.5 | K23: =J23/I23*100 -> 96.904487
A24: Расходы на обеспечение функций органов местного самоуправленя | B24: 01 | C24: 04 | D24: 65 | E24: 2 | F24: 00 | G24: 41120 | I24: =I25+I27 -> 120.372 | J24: =J25+J27 -> 71.9 | K24: =J24/I24*100 -> 59.731499
A25: Закупка товаров, работ и услуг для обеспечения государственных (муниципальных) нужд | B25: 01 | C25: 04 | D25: 65 | E25: 2 | F25: 00 | G25: 41120 | H25: 200 | I25: =I26 -> 90.372 | J25: =J26 -> 62.6 | K25: =J25/I25*100 -> 69.269243
A26: Иные закупки товаров, работ и услуг для обеспечения государственных (муниципальных) нужд | B26: 01 | C26: 04 | D26: 65 | E26: 2 | F26: 00 | G26: 41120 | H26: 240 | I26: ='Прил 3'!J27 -> 90.372 | J26: ='Прил 3'!K27 -> 62.6 | K26: =J26/I26*100 -> 69.269243
A27: Иные бюджетные ассигнования | B27: 01 | C27: 04 | D27: 66 | E27: 2 | F27: 00 | G27: 41120 | H27: 800 | I27: =I28 -> 30 | J27: =J28 -> 9.3 | K27: =J27/I27*100 -> 31
A28: Уплата налогов, сборов и иных платежей | B28: 01 | C28: 04 | D28: 66 | E28: 2 | F28: 00 | G28: 41120 | H28: 850 | I28: ='Прил 3'!J29 -> 30 | J28: ='Прил 3'!K29 -> 9.3 | K28: =J28/I28*100 -> 31
A29: Субсидии на софинансирование расходных обязательств по финансовому обеспечению деятельности органов местного самоуправления и муниципальных учреждений | B29: 01 | C29: 04 | D29: 65 | E29: 2 | F29: 00 | G29: 44205 | I29: =I30+I32 -> 74.2 | J29: =J30+J32 -> 59.5 | K29: =J29/I29*100 -> 80.188679
A30: Расходы на выплаты персоналу в целях обеспечения выполнения функций государственными (муниципальными) органами, казенными учреждениями, органами управления государственными внебюджетными фондами | B30: 01 | C30: 04 | D30: 65 | E30: 2 | F30: 00 | G30: 44205 | H30: 100 | I30: =I31 -> 71.6 | J30: =J31 -> 56.9 | K30: =J30/I30*100 -> 79.469274
A31: Расходы на выплаты персоналу государственных (муниципальных) органов | B31: 01 | C31: 04 | D31: 65 | E31: 2 | F31: 00 | G31: 44205 | H31: 120 | I31: ='Прил 3'!J32 -> 71.6 | J31: ='Прил 3'!K32 -> 56.9 | K31: =J31/I31*100 -> 79.469274
A32: Закупка товаров, работ и услуг для обеспечения государственных (муниципальных) нужд | B32: 01 | C32: 04 | D32: 65 | E32: 2 | F32: 00 | G32: 44205 | H32: 200 | I32: =I33 -> 2.6 | J32: =J33 -> 2.6 | K32: =J32/I32*100 -> 100
A33: Иные закупки товаров, работ и услуг для обеспечения государственных (муниципальных) нужд | B33: 01 | C33: 04 | D33: 65 | E33: 2 | F33: 00 | G33: 44205 | H33: 240 | I33: ='Прил 3'!J34 -> 2.6 | J33: ='Прил 3'!K34 -> 2.6 | K33: =J33/I33*100 -> 100
A34: Непрограммные расходы главных распорядителей средств бюджета Большеполянского сельского поселения Кадошкинского муниципального района Республики Мордовия | B34: 01 | C34: 04 | D34: 89 | I34: =I35 -> 0.1 | J34: =J35 -> 0.1 | K34: =J34/I34*100 -> 100
A35: Непрограммные расходы в рамках обеспечения деятельности главных распорядителей средств бюджета Большеполянского сельского поселения Кадошкинского муниципального района Республики Мордовия | B35: 01 | C35: 04 | D35: 89 | E35: 1 | I35: =I36 -> 0.1 | J35: =J36 -> 0.1 | K35: =J35/I35*100 -> 100
A36: Осуществление государственных полномочий Республики Мордовия по определению перечня должностных лиц, уполномоченных составлять протоколы об административных правонарушениях, предусмотренных Законом Республики Мордовия от 15 июня 2015 года № 38-З "Об административной ответственности на территории Республики Мордовия" | B36: 01 | C36: 04 | D36: 89 | E36: 1 | F36: 00 | G36: 77150 | I36: =I37 -> 0.1 | J36: =J37 -> 0.1 | K36: =J36/I36*100 -> 100
A37: Закупка товаров, работ и услуг для обеспечения государственных (муниципальных) нужд | B37: 01 | C37: 04 | D37: 89 | E37: 1 | F37: 00 | G37: 77150 | H37: 200 | I37: =I38 -> 0.1 | J37: =J38 -> 0.1 | K37: =J37/I37*100 -> 100
A38: Иные закупки товаров, работ и услуг для обеспечения государственных (муниципальных) нужд | B38: 01 | C38: 04 | D38: 89 | E38: 1 | F38: 00 | G38: 77150 | H38: 240 | I38: ='Прил 3'!J39 -> 0.1 | J38: ='Прил 3'!K39 -> 0.1 | K38: =J38/I38*100 -> 100
A39: Резервные фонды | B39: 01 | C39: 11 | I39: =I40 -> 1 | J39: =J40 -> 0 | K39: =J39/I39*100 -> 0
A40: Непрограммные расходы главных распорядителей средств бюджета Большеполянского сельского поселения Кадошкинского муниципального района Республики Мордовия | B40: 01 | C40: 11 | D40: 89 | I40: =I41 -> 1 | J40: =J41 -> 0 | K40: =J40/I40*100 -> 0
...

Sheet Прил 3
H1: Приложение 3
J2: к решению сессии Совета депутатов Большеполянскго сельского поселения "Об исполнении бюджета Большеполянского сельского поселения Кадошкинского муниципального района Республики Мордовия за 2021 год"
A3: ВЕДОМСТВЕННАЯ СТРУКТУРА РАСХОДОВ БЮДЖЕТА БОЛЬШЕПОЛЯНСКОГО СЕЛЬСКОГО ПОСЕЛЕНИЯ КАДОШКИНСКОГО МУНИЦИПАЛЬНОГО РАЙОНА РЕСПУБЛИКИ МОРДОВИЯ НА 2021 ГОД
A4: Наименование | B4: Адм | C4: Рз | D4: ПРз | E4: ЦСР | I4: ВР | J4: Сумма (тыс. рублей)
J5: План 2021 год | K5: Исполнение 2021 год | L5: % исполнения
A6: 1 | B6: 2 | C6: 3 | D6: 4 | E6: 5 | F6: 6 | G6: 7 | H6: 8 | I6: 9 | J6: 10 | K6: 11 | L6: 12
A7: ВСЕГО | J7: =J8 -> 1489.912 | K7: =K8 -> 1276.5 | L7: =K7/J7*100 -> 85.676201
A8: Администрация Большеполянского сельского поселения Кадошкинского муниципального района Республики Мордовия | B8: 911 | J8: =J9+J52+J61+J68+J84+J91 -> 1489.912 | K8: =K9+K52+K61+K68+K84+K91 -> 1276.5 | L8: =K8/J8*100 -> 85.676201
A9: Общегосударственные вопросы | B9: 911 | C9: 01 | J9: =J10+J19+J40+J46 -> 837.032 | K9: =K10+K19+K40+K46 -> 739.2 | L9: =K9/J9*100 -> 88.312036
A10: Функционирование высшего должностного лица субъекта Российской Федерации и муниципального образования | B10: 911 | C10: 01 | D10: 02 | J10: =J11 -> 343.74 | K10: =K11 -> 319.2 | L10: =K10/J10*100 -> 92.860883
A11: Обеспечение деятельности администрации | B11: 911 | C11: 01 | D11: 02 | E11: 65 | J11: =J12 -> 343.74 | K11: =K12 -> 319.2 | L11: =K11/J11*100 -> 92.860883
A12: Высшее должностное лицо | B12: 911 | C12: 01 | D12: 02 | E12: 65 | F12: 1 | J12: =J13+J16 -> 343.74 | K12: =K13+K16 -> 319.2 | L12: =K12/J12*100 -> 92.860883
A13: Расходы на выплаты по оплате труда высшего должностного лица | B13: 911 | C13: 01 | D13: 02 | E13: 65 | F13: 1 | G13: 00 | H13: 41150 | J13: =J14 -> 277.94 | K13: =K14 -> 256.6 | L13: =K13/J13*100 -> 92.322084
A14: Расходы на выплаты персоналу в целях обеспечения выполнения функций государственными (муниципальными) органами, казенными учреждениями, органами управления государственными внебюджетными фондами | B14: 911 | C14: 01 | D14: 02 | E14: 65 | F14: 1 | G14: 00 | H14: 41150 | I14: 100 | J14: =J15 -> 277.94 | K14: =K15 -> 256.6 | L14: =K14/J14*100 -> 92.322084
A15: Расходы на выплаты персоналу государственных (муниципальных) органов | B15: 911 | C15: 01 | D15: 02 | E15: 65 | F15: 1 | G15: 00 | H15: 41150 | I15: 120 | J15: =258.04+19.9 -> 277.94 | K15: 256.6 | L15: =K15/J15*100 -> 92.322084
A16: Субсидии на софинансирование расходных обязательств по финансовому обеспечению деятельности органов местного самоуправления и муниципальных учреждений | B16: 911 | C16: 01 | D16: 02 | E16: 65 | F16: 1 | G16: 00 | H16: 44205 | J16: =J17 -> 65.8 | K16: =K17 -> 62.6 | L16: =K16/J16*100 -> 95.136778
A17: Расходы на выплаты персоналу в целях обеспечения выполнения функций государственными (муниципальными) органами, казенными учреждениями, органами управления государственными внебюджетными фондами | B17: 911 | C17: 01 | D17: 02 | E17: 65 | F17: 1 | G17: 00 | H17: 44205 | I17: 100 | J17: =J18 -> 65.8 | K17: =K18 -> 62.6 | L17: =K17/J17*100 -> 95.136778
A18: Расходы на выплаты персоналу государственных (муниципальных) органов | B18: 911 | C18: 01 | D18: 02 | E18: 65 | F18: 1 | G18: 00 | H18: 44205 | I18: 120 | J18: 65.8 | K18: 62.6 | L18: =K18/J18*100 -> 95.136778
A19: Функционирование Правительства Российской Федерации, высших органов исполнительной власти субъектов Российской Федерации, местных администраций | B19: 911 | C19: 01 | D19: 04 | J19: =J20+J35 -> 489.292 | K19: =K20+K35 -> 417 | L19: =K19/J19*100 -> 85.225183
A20: Обеспечение деятельности администрации | B20: 911 | C20: 01 | D20: 04 | E20: 65 | J20: =J21 -> 489.192 | K20: =K21 -> 416.9 | L20: =K20/J20*100 -> 85.222162
A21: Непрограммные расходы в рамках обеспечения деятельности администрации | B21: 911 | C21: 01 | D21: 04 | E21: 65 | F21: 2 | J21: =J23+J25+J30 -> 489.192 | K21: =K23+K25+K30 -> 416.9 | L21: =K21/J21*100 -> 85.222162
A22: Расходы на выплаты по оплате труда работников органов местного самоуправления | B22: 911 | C22: 01 | D22: 04 | E22: 65 | F22: 2 | G22: 00 | H22: 41110 | J22: =J23 -> 294.62 | K22: =K23 -> 285.5 | L22: =K22/J22*100 -> 96.904487
A23: Расходы на выплаты персоналу в целях обеспечения выполнения функций государственными (муниципальными) органами, казенными учреждениями, органами управления государственными внебюджетными фондами | B23: 911 | C23: 01 | D23: 04 | E23: 65 | F23: 2 | G23: 00 | H23: 41110 | I23: 100 | J23: =J24 -> 294.62 | K23: =K24 -> 285.5 | L23: =K23/J23*100 -> 96.904487
A24: Расходы на выплаты персоналу государственных (муниципальных) органов | B24: 911 | C24: 01 | D24: 04 | E24: 65 | F24: 2 | G24: 00 | H24: 41110 | I24: 120 | J24: =274.72+19.9 -> 294.62 | K24: 285.5 | L24: =K24/J24*100 -> 96.904487
A25: Расходы на обеспечение функций органов местного самоуправленя | B25: 911 | C25: 01 | D25: 04 | E25: 65 | F25: 2 | G25: 00 | H25: 41120 | J25: =J26+J28 -> 120.372 | K25: =K26+K28 -> 71.9 | L25: =K25/J25*100 -> 59.731499
A26: Закупка товаров, работ и услуг для обеспечения государственных (муниципальных) нужд | B26: 911 | C26: 01 | D26: 04 | E26: 65 | F26: 2 | G26: 00 | H26: 41120 | I26: 200 | J26: =J27 -> 90.372 | K26: =K27 -> 62.6 | L26: =K26/J26*100 -> 69.269243
A27: Иные закупки товаров, работ и услуг для обеспечения государственных (муниципальных) нужд | B27: 911 | C27: 01 | D27: 04 | E27: 65 | F27: 2 | G27: 00 | H27: 41120 | I27: 240 | J27: 90.372 | K27: 62.6 | L27: =K27/J27*100 -> 69.269243
A28: Иные бюджетные ассигнования | B28: 911 | C28: 01 | D28: 04 | E28: 65 | F28: 2 | G28: 00 | H28: 41120 | I28: 800 | J28: =J29 -> 30 | K28: =K29 -> 9.3 | L28: =K28/J28*100 -> 31
A29: Уплата налогов, сборов и иных платежей | B29: 911 | C29: 01 | D29: 04 | E29: 65 | F29: 2 | G29: 00 | H29: 41120 | I29: 850 | J29: 30 | K29: 9.3 | L29: =K29/J29*100 -> 31
A30: Субсидии на софинансирование расходных обязательств по финансовому обеспечению деятельности органов местного самоуправления и муниципальных учреждений | B30: 911 | C30: 01 | D30: 04 | E30: 65 | F30: 2 | G30: 00 | H30: 44205 | J30: =J31+J33 -> 74.2 | K30: =K31+K33 -> 59.5 | L30: =K30/J30*100 -> 80.188679
A31: Расходы на выплаты персоналу в целях обеспечения выполнения функций государственными (муниципальными) органами, казенными учреждениями, органами управления государственными внебюджетными фондами | B31: 911 | C31: 01 | D31: 04 | E31: 65 | F31: 2 | G31: 00 | H31: 44205 | I31: 100 | J31: =J32 -> 71.6 | K31: =K32 -> 56.9 | L31: =K31/J31*100 -> 79.469274
A32: Расходы на выплаты персоналу государственных (муниципальных) органов | B32: 911 | C32: 01 | D32: 04 | E32: 65 | F32: 2 | G32: 00 | H32: 44205 | I32: 120 | J32: 71.6 | K32: 56.9 | L32: =K32/J32*100 -> 79.469274
A33: Закупка товаров, работ и услуг для обеспечения государственных (муниципальных) нужд | B33: 911 | C33: 01 | D33: 04 | E33: 65 | F33: 2 | G33: 00 | H33: 44205 | I33: 200 | J33: =J34 -> 2.6 | K33: =K34 -> 2.6 | L33: =K33/J33*100 -> 100
A34: Иные закупки товаров, работ и услуг для обеспечения государственных (муниципальных) нужд | B34: 911 | C34: 01 | D34: 04 | E34: 65 | F34: 2 | G34: 00 | H34: 44205 | I34: 240 | J34: 2.6 | K34: 2.6 | L34: =K34/J34*100 -> 100
A35: Непрограммные расходы главных распорядителей средств бюджета Большеполянского сельского поселения Кадошкинского муниципального района Республики Мордовия | B35: 911 | C35: 01 | D35: 04 | E35: 89 | J35: =J36 -> 0.1 | K35: =K36 -> 0.1 | L35: =K35/J35*100 -> 100
A36: Непрограммные расходы в рамках обеспечения деятельности главных распорядителей средств бюджета Большеполянского сельского поселения Кадошкинского муниципального района Республики Мордовия | B36: 911 | C36: 01 | D36: 04 | E36: 89 | F36: 1 | J36: =J37 -> 0.1 | K36: =K37 -> 0.1 | L36: =K36/J36*100 -> 100
A37: Осуществление государственных полномочий Республики Мордовия по определению перечня должностных лиц, уполномоченных составлять протоколы об административных правонарушениях, предусмотренных Законом Республики Мордовия от 15 июня 2015 года № 38-З "Об административной ответственности на территории Республики Мордовия" | B37: 911 | C37: 01 | D37: 04 | E37: 89 | F37: 1 | G37: 00 | H37: 77150 | J37: =J38 -> 0.1 | K37: =K38 -> 0.1 | L37: =K37/J37*100 -> 100
A38: Закупка товаров, работ и услуг для обеспечения государственных (муниципальных) нужд | B38: 911 | C38: 01 | D38: 04 | E38: 89 | F38: 1 | G38: 00 | H38: 77150 | I38: 200 | J38: =J39 -> 0.1 | K38: =K39 -> 0.1 | L38: =K38/J38*100 -> 100
A39: Иные закупки товаров, работ и услуг для обеспечения государственных (муниципальных) нужд | B39: 911 | C39: 01 | D39: 04 | E39: 89 | F39: 1 | G39: 00 | H39: 77150 | I39: 240 | J39: 0.1 | K39: 0.1 | L39: =K39/J39*100 -> 100
A40: Резервные фонды | B40: 911 | C40: 01 | D40: 11 | J40: =J41 -> 1 | K40: =K41 -> 0 | L40: =K40/J40*100 -> 0
...

Sheet Прил 4
D1: Приложение 4
C2: к решению сессии Совета депутатов Большеполянскго сельского поселения "Об исполнении бюджета Большеполянского сельского поселения Кадошкинского муниципального района Республики Мордовия за 2021 год"
A3: ИСТОЧНИКИ ВНУТРЕННЕГО ФИНАНСИРОВАНИЯ ДЕФИЦИТА БЮДЖЕТА БОЛЬШЕПОЛЯНСКОГО СЕЛЬСКОГО ПОСЕЛЕНИЯ КАДОШКИНСКОГО МУНИЦИПАЛЬНОГО РАЙОНА РЕСПУБЛИКИ МОРДОВИЯ НА 2021 ГОД
D4: (тыс. рублей)
A5: Код | B5: НАИМЕНОВАНИЕ | C5: План 2021 год | D5: Исполнение 2021 год
A6: 1 | B6: 2 | C6: 3 | D6: 4
A7: 000 01 00 00 00 00 0000 000 | B7: ИСТОЧНИКИ ВНУТРЕННЕГО ФИНАНСИРОВАНИЯ ДЕФИЦИТОВ БЮДЖЕТОВ | C7: =C8+C11+C15 -> 0.032 | D7: =D8+D11+D15 -> -12.7
A8: 000 01 02 00 00 00 0000 000 | B8: Кредиты кредитных организаций в валюте Российской Федерации | C8: =SUM(C9) -> 15 | D8: =SUM(D9) -> 0
A9: 000 01 02 00 00 00 0000 700 | B9: Получение кредитов от кредитных организаций в валюте Российской Федерации | C9: =SUM(C10) -> 15 | D9: =SUM(D10) -> 0
A10: 000 01 02 00 00 10 0000 710 | B10: Получение кредитов от кредитных организаций бюджетами поселений в валюте Российской Федерации | C10: 15 | D10: 0
A11: 000 01 03 00 00 00 0000 000 | B11: Бюджетные кредиты от других бюджетов бюджетной системы Российской Федерации | C11: =C12 -> -15 | D11: =D12 -> 0
A12: 000 01 03 01 00 00 0000 000 | B12: Бюджетные кредиты от других бюджетов бюджетной системы Российской Федерации в валюте Российской Федерации | C12: =C13 -> -15 | D12: =D13 -> 0
A13: 000 01 03 01 00 10 0000 800 | B13: Погашение бюджетных кредитов, полученных от других бюджетов бюджетной системы Российской Федерации в валюте Российской Федерации | C13: =SUM(C14) -> -15 | D13: =SUM(D14) -> 0
A14: 000 01 03 01 00 10 0000 810 | B14: Погашение бюджетами сельских поселений кредитов от других бюджетов бюджетной системы Российской Федерации в валюте Российской Федерации | C14: -15 | D14: 0
A15: 000 01 05 00 00 00 0000 000 | B15: Изменения остатков средств на счетах по учету средств бюджетов | C15: =C18+C19 -> 0.032 | D15: =D18+D19 -> -12.7
A16: 000 01 05 02 00 00 0000 500 | B16: Увеличение прочих остатков средств бюджетов | C16: =SUM(C17) -> -1504.88 | D16: =SUM(D17) -> -1345.9
A17: 000 01 05 02 01 00 0000 510 | B17: Увеличение прочих остатков денежных средств бюджетов | C17: =SUM(C18) -> -1504.88 | D17: =SUM(D18) -> -1345.9
A18: 000 01 05 02 01 10 0000 510 | B18: Увеличение прочих остатков денежных средств бюджетов сельских поселений | C18: =-'Прил 1'!C8-C10 -> -1504.88 | D18: -1345.9
A19: 000 01 05 02 00 00 0000 600 | B19: Уменьшение прочих остатков средств бюджетов | C19: =SUM(C20) -> 1504.912 | D19: =SUM(D20) -> 1333.2
A20: 000 01 05 02 01 00 0000 610 | B20: Уменьшение прочих остатков денежных средств бюджетов | C20: =SUM(C21) -> 1504.912 | D20: =SUM(D21) -> 1333.2
A21: 000 01 05 02 01 10 0000 610 | B21: Уменьшение прочих остатков денежных средств бюджетов сельских поселений | C21: ='Прил 2 '!I7-C14 -> 1504.912 | D21: 1333.2
