Workbook
Name _1Excel_BuiltIn_Print_Area_1_1_1: 'Прил 1'!$A$1:$C$32
Name _2Excel_BuiltIn_Print_Area_7_1_1: #REF!
Name _2Excel_BuiltIn_Print_Area_7_1_1: #REF!
Name _Toc105952698: 'Прил 3'!$A$2
Name _Toc105952698: #REF!
Name Excel_BuiltIn_Print_Area_1: 'Прил 1'!$A$1:$C$32
Name Excel_BuiltIn_Print_Area_1_1: 'Прил 1'!$A$1:$C$32
Name Excel_BuiltIn_Print_Area_2: #REF!
Name Excel_BuiltIn_Print_Area_2: #REF!
Name Excel_BuiltIn_Print_Area_3: #REF!
Name Excel_BuiltIn_Print_Area_3_1: #REF!
Name Excel_BuiltIn_Print_Area_3_1: #REF!
Name Excel_BuiltIn_Print_Area_4: #REF!
Name Excel_BuiltIn_Print_Area_4: #REF!
Name Excel_BuiltIn_Print_Area_5: 'Прил 3'!$A$1:$I$42
Name Excel_BuiltIn_Print_Area_5: #REF!
Name Excel_BuiltIn_Print_Area_5_1: 'Прил 3'!$A$1:$I$42
Name Excel_BuiltIn_Print_Area_5_1: #REF!
Name Excel_BuiltIn_Print_Area_6: 'Прил 2'!$A$1:$G$43
Name Excel_BuiltIn_Print_Area_6_1: 'Прил 2'!$A$1:$G$43
Name Excel_BuiltIn_Print_Area_7: #REF!
Name Excel_BuiltIn_Print_Area_7: #REF!
Name Excel_BuiltIn_Print_Area_7_1: #REF!
Name Excel_BuiltIn_Print_Area_7_1: #REF!

Sheet Прил 1
C1: Приложение 1 к решению Совета депутатов Адашевского сельского поселения "О бюджете Адашевского сельского поселения Кадошкинского муниципального района Республики Мордовия на 2023 год и на плановый период 2024 и 2025 годов"
A2: ДОХОДЫ БЮДЖЕТА АДАШЕВСКОГО СЕЛЬСКОГО ПОСЕЛЕНИЯ КАДОШКИНСКОГО МУНИЦИПАЛЬНОГО РАЙОНА РЕСПУБЛИКИ МОРДОВИЯ
C3: (тыс.рублей)
A4: Код бюджетной классификации доходов бюджета | B4: Наименование доходов | C4: Сумма
C5: 2023 год | D5: 2024 год | E5: 2025 год
A6: 1 | B6: 2 | C6: 3 | D6: 4 | E6: 5
B7: ВСЕГО | C7: =SUM(C8+C22) -> 1686.6 | D7: =SUM(D8+D22) -> 1258.6 | E7: =SUM(E8+E22) -> 1253.4
A8: 00010000000000000000 | B8: НАЛОГОВЫЕ И НЕНАЛОГОВЫЕ ДОХОДЫ | C8: =C9+C12+C14+C16+C19 -> 663.2 | D8: =D9+D12+D14+D16+D19 -> 668.8 | E8: =E9+E12+E14+E16+E19 -> 675.2
A9: 00010100000000000000 | B9: НАЛОГИ НА ПРИБЫЛЬ, ДОХОДЫ | C9: =SUM(C10) -> 2.6 | D9: =SUM(D10) -> 2.8 | E9: =SUM(E10) -> 3
A10: 00010102000010000110 | B10: Налог на доходы физических лиц | C10: =SUM(C11) -> 2.6 | D10: =SUM(D11) -> 2.8 | E10: =SUM(E11) -> 3
A11: 18210102010010000110 | B11: Налог на доходы физических лиц с доходов, источником которых является налоговый агент, за исключением доходов, в отношении которых исчисление и уплата налога осуществляются в соответствии со статьями 227, 227.1 и 228 Налогового кодекса Российской Федерации | C11: 2.6 | D11: 2.8 | E11: 3
A12: 00010500000000000000 | B12: НАЛОГИ НА СОВОКУПНЫЙ ДОХОД | C12: =SUM(C13) -> 161.1 | D12: =SUM(D13) -> 162 | E12: =SUM(E13) -> 163.8
A13: 18210503010010000110 | B13: Единый сельскохозяйственный налог | C13: 161.1 | D13: 162 | E13: 163.8
A14: 00010600000000000000 | B14: НАЛОГИ НА ИМУЩЕСТВО | C14: =SUM(C15) -> 44 | D14: =SUM(D15) -> 45 | E14: =SUM(E15) -> 46
A15: 18210601030100000110 | B15: Налог на имущество физических лиц, взимаемый по ставкам, применяемым к объектам налогообложения, расположенным в границах сельских поселений | C15: 44 | D15: 45 | E15: 46
A16: 00010606000000000110 | B16: Земельный налог | C16: =SUM(C17+C18) -> 422.4 | D16: =SUM(D17+D18) -> 424.4 | E16: =SUM(E17+E18) -> 426.4
A17: 18210606033100000110 | B17: Земельный налог с организаций, обладающих земельным участком, расположенным в границах сельских поселений | C17: 152 | D17: 152 | E17: 152
A18: 18210606043100000110 | B18: Земельный налог с физических лиц, обладающих земельным участком, расположенным в границах сельских поселений | C18: 270.4 | D18: 272.4 | E18: 274.4
A19: 00011100000000000000 | B19: ДОХОДЫ ОТ ИСПОЛЬЗОВАНИЯ ИМУЩЕСТВА, НАХОДЯЩЕГОСЯ В ГОСУДАРСТВЕННОЙ И МУНИЦИПАЛЬНОЙ СОБСТВЕННОСТИ | C19: =C20+C21 -> 33.1 | D19: =D20+D21 -> 34.6 | E19: =E20+E21 -> 36
A20: 91011105025100000120 | B20: Доходы, получаемые в виде арендной платы, а также средства от продажи права на заключение договоров аренды за земли, находящиеся в собственности поселений (за исключением земельных участков муниципальных бюджетных и автономных учреждений) | C20: 17.2 | D20: 18 | E20: 18.7
A21: 91011105035100000120 | B21: Доходы от сдачи в аренду имущества, находящегося в оперативном управлении органов управления поселений и созданных ими учреждений (за исключением имущества муниципальных бюджетных и автономных учреждений) | C21: 15.9 | D21: 16.6 | E21: 17.3
A22: 00020200000000000000 | B22: БЕЗВОЗМЕЗДНЫЕ ПОСТУПЛЕНИЯ ОТ ДРУГИХ БЮДЖЕТОВ БЮДЖЕТНОЙ СИСТЕМЫ РОССИЙСКОЙ ФЕДЕРАЦИИ | C22: =C23+C26+C28+C31 -> 1023.4 | D22: =D23+D26+D28+D31 -> 589.8 | E22: =E23+E26+E28+E31 -> 578.2
A23: 00020210000000000150 | B23: Дотации бюджетам бюджетной системы Российской Федерации | C23: =C24+C25 -> 366.6 | D23: =D24+D25 -> 161.7 | E23: =E24+E25 -> 134.4
A24: 91020215001100000150 | B24: Дотации бюджетам сельских поселений на выравнивание бюджетной обеспеченности | C24: 157.6 | D24: 161.7 | E24: 134.4
A25: 91020215002100000150 | B25: Дотации бюджетам сельских поселений на поддержку мер по обеспечению сбалансированности бюджетов | C25: 209 | D25: 0 | E25: 0
A26: 00020220000000000150 | B26: Субсидии бюджетам бюджетной системы Российской Федерации (межбюджетные субсидии) | C26: =C27 -> 250 | D26: =D27 -> 0 | E26: =E27 -> 0
A27: 91020229999100000150 | B27: Прочие субсидии бюджетам сельских поселений | C27: 250 | D27: 0 | E27: 0
A28: 00020230000000000150 | B28: Субвенции бюджетам бюджетной системы Российской Федерации | C28: =SUM(C29+C30) -> 109.5 | D28: =SUM(D29+D30) -> 114.7 | E28: =SUM(E29+E30) -> 119
A29: 91020230024100000150 | B29: Субвенции на осуществление государственных полномочий Республики Мордовия по определению перечня должностных лиц, уполномоченных составлять протоколы об административных правонарушениях, предусмотренных Законом Республики Мордовия от 15 июня 2015 года № 38-З "Об административной ответственности на территории Республики Мордовия" | C29: 0.2 | D29: 0.3 | E29: 0.3
A30: 91020235118100000150 | B30: Субвенции бюджетам сельских поселений на осуществление первичного воинского учета на территориях, где отсутствуют военные комиссариаты | C30: 109.3 | D30: 114.4 | E30: 118.7
A31: 00020240000000000100 | B31: Иные межбюджетные трансферты | C31: =SUM(C32) -> 297.3 | D31: =SUM(D32) -> 313.4 | E31: =SUM(E32) -> 324.8
A32: 91020240014100000150, | B32: Межбюджетные трансферты, передаваемые бюджетам сельских поселений из бюджетов муниципальных районов на осуществление части полномочий по решению вопросов местного значения в соответствии с заключенными соглашениями | C32: =267.3+30 -> 297.3 | D32: =283.4+30 -> 313.4 | E32: =294.8+30 -> 324.8

Sheet Прил 2
J1: Приложение 2 к решению Совета депутатов Адашевского сельского поселения "О бюджете Адашевского сельского поселения Кадошкинского муниципального района Республики Мордовия на 2023 год и на плановый период 2024 и 2025 годов"
A2: ВЕДОМСТВЕННАЯ СТРУКТУРА РАСХОДОВ БЮДЖЕТА АДАШЕВСКОГО СЕЛЬСКОГО ПОСЕЛЕНИЯ КАДОШКИНСКОГО МУНИЦИПАЛЬНОГО РАЙОНА РЕСПУБЛИКИ МОРДОВИЯ НА 2023 ГОД И НА ПЛАНОВЫЙ ПЕРИОД 2024 И 2025 ГОДОВ
L3: (тыс. рублей)
A4: Наименование | B4: Адм | C4: Рз | D4: Прз | E4: Цср | I4: Вр | J4: Сумма
J5: 2023 год | K5: 2024 год | L5: 2025 год
A6: 1 | B6: 2 | C6: 3 | D6: 4 | E6: 5 | F6: 6 | G6: 7 | H6: 8 | I6: 9 | J6: 10 | K6: 11 | L6: 12
A7: ВСЕГО | J7: =J8 -> 1665.825 | K7: =K8 -> 1227.4 | L7: =L8 -> 1211.8
A8: Администрация Адашевского сельского поселения Кадошкинского муниципального района Республики Мордовия | B8: 910 | J8: =J9+J49+J58+J68+J84+J91 -> 1665.825 | K8: =K9+K49+K58+K68+K84+K91+K103 -> 1227.4 | L8: =L9+L49+L58+L68+L84+L91+L103 -> 1211.8
A9: Общегосударственные вопросы | B9: 910 | C9: 01 | J9: =J10+J19+J38+J44 -> 1020.025 | K9: =K10+K19+K38+K44 -> 620.2 | L9: =L10+L19+L38+L44 -> 585.1
A10: Функционирование высшего должностного лица субъекта Российской Федерации и муниципального образования | B10: 910 | C10: 01 | D10: 02 | J10: =J11 -> 436.825 | K10: =K11 -> 258.3 | L10: =L11 -> 256.2
A11: Обеспечение деятельности администрации | B11: 910 | C11: 01 | D11: 02 | E11: 65 | J11: =J12 -> 436.825 | K11: =K12 -> 258.3 | L11: =L12 -> 256.2
A12: Высшее должностное лицо | B12: 910 | C12: 01 | D12: 02 | E12: 65 | F12: 1 | J12: =J13+J16 -> 436.825 | K12: =K13 -> 258.3 | L12: =L13 -> 256.2
A13: Расходы на выплаты по оплате труда высшего должностного лица | B13: 910 | C13: 01 | D13: 02 | E13: 65 | F13: 1 | G13: 00 | H13: 41150 | J13: =J14 -> 367.8 | K13: =K14 -> 258.3 | L13: =L14 -> 256.2
A14: Расходы на выплаты персоналу в целях обеспечения выполнения функций государственными (муниципальными) органами, казенными учреждениями, органами управления государственными внебюджетными фондами | B14: 910 | C14: 01 | D14: 02 | E14: 65 | F14: 1 | G14: 00 | H14: 41150 | I14: 100 | J14: =J15 -> 367.8 | K14: =K15 -> 258.3 | L14: =L15 -> 256.2
A15: Расходы на выплаты персоналу государственных (муниципальных) органов | B15: 910 | C15: 01 | D15: 02 | E15: 65 | F15: 1 | G15: 00 | H15: 41150 | I15: 120 | J15: 367.8 | K15: 258.3 | L15: 256.2
A16: Субсидии на софинансирование расходных обязательств по финансовому обеспечению деятельности органов местного самоуправления и муниципальных учреждений | B16: 910 | C16: 01 | D16: 02 | E16: 65 | F16: 1 | G16: 00 | H16: 44205 | J16: =J17 -> 69.025 | K16: =K17 -> 0 | L16: =L17 -> 0
A17: Расходы на выплаты персоналу в целях обеспечения выполнения функций государственными (муниципальными) органами, казенными учреждениями, органами управления государственными внебюджетными фондами | B17: 910 | C17: 01 | D17: 02 | E17: 65 | F17: 1 | G17: 00 | H17: 44205 | I17: 100 | J17: =J18 -> 69.025 | K17: =K18 -> 0 | L17: =L18 -> 0
A18: Расходы на выплаты персоналу государственных (муниципальных) органов | B18: 910 | C18: 01 | D18: 02 | E18: 65 | F18: 1 | G18: 00 | H18: 44205 | I18: 120 | J18: 69.025 | K18: 0 | L18: 0
A19: Функционирование Правительства Российской Федерации, высших органов исполнительной власти субъектов Российской Федерации, местных администраций | B19: 910 | C19: 01 | D19: 04 | J19: =J20+J33 -> 577.7 | K19: =K20+K33 -> 356.4 | L19: =L20+L33 -> 323.4
A20: Обеспечение деятельности администрации | B20: 910 | C20: 01 | D20: 04 | E20: 65 | J20: =J21 -> 577.5 | K20: =K21 -> 356.1 | L20: =L21 -> 323.1
A21: Непрограммные расходы в рамках обеспечения деятельности администрации | B21: 910 | C21: 01 | D21: 04 | E21: 65 | F21: 2 | J21: =J23+J25+J30 -> 577.5 | K21: =K23+K25 -> 356.1 | L21: =L23+L25 -> 323.1
A22: Расходы на выплаты по оплате труда работников органов местного самоуправления | B22: 910 | C22: 01 | D22: 04 | E22: 65 | F22: 2 | G22: 00 | H22: 41110 | J22: =J23 -> 148.8 | K22: =K23 -> 271.2 | L22: =L23 -> 230
A23: Расходы на выплаты персоналу в целях обеспечения выполнения функций государственными (муниципальными) органами, казенными учреждениями, органами управления государственными внебюджетными фондами | B23: 910 | C23: 01 | D23: 04 | E23: 65 | F23: 2 | G23: 00 | H23: 41110 | I23: 100 | J23: =J24 -> 148.8 | K23: =K24 -> 271.2 | L23: =L24 -> 230
A24: Расходы на выплаты персоналу государственных (муниципальных) органов | B24: 910 | C24: 01 | D24: 04 | E24: 65 | F24: 2 | G24: 00 | H24: 41110 | I24: 120 | J24: 148.8 | K24: 271.2 | L24: 230
A25: Расходы на обеспечение функций органов местного самоуправления | B25: 910 | C25: 01 | D25: 04 | E25: 65 | F25: 2 | G25: 00 | H25: 41120 | J25: =J28+J26 -> 245.2 | K25: =K28+K26 -> 84.9 | L25: =L28+L26 -> 93.1
A26: Закупка товаров, работ и услуг для обеспечения государственных (муниципальных) нужд | B26: 910 | C26: 01 | D26: 04 | E26: 65 | F26: 2 | G26: 00 | H26: 41120 | I26: 200 | J26: =J27 -> 217.6 | K26: =K27 -> 62.5 | L26: =L27 -> 70.7
A27: Иные закупки товаров, работ и услуг для обеспечения государственных (муниципальных) нужд | B27: 910 | C27: 01 | D27: 04 | E27: 65 | F27: 2 | G27: 00 | H27: 41120 | I27: 240 | J27: 217.6 | K27: 62.5 | L27: 70.7
A28: Иные бюджетные ассигнования | B28: 910 | C28: 01 | D28: 04 | E28: 65 | F28: 2 | G28: 00 | H28: 41120 | I28: 800 | J28: =J29 -> 27.6 | K28: =K29 -> 22.4 | L28: =L29 -> 22.4
A29: Уплата налогов, сборов и иных платежей | B29: 910 | C29: 01 | D29: 04 | E29: 65 | F29: 2 | G29: 00 | H29: 41120 | I29: 850 | J29: 27.6 | K29: 22.4 | L29: 22.4
A30: Субсидии на софинансирование расходных обязательств по финансовому обеспечению деятельности органов местного самоуправления и муниципальных учреждений | B30: 910 | C30: 01 | D30: 04 | E30: 65 | F30: 2 | G30: 00 | H30: 44205 | J30: =J31 -> 183.5 | K30: =K31 -> 0 | L30: =L31 -> 0
A31: Расходы на выплаты персоналу в целях обеспечения выполнения функций государственными (муниципальными) органами, казенными учреждениями, органами управления государственными внебюджетными фондами | B31: 910 | C31: 01 | D31: 04 | E31: 65 | F31: 2 | G31: 00 | H31: 44205 | I31: 100 | J31: =J32 -> 183.5 | K31: =K32 -> 0 | L31: =L32 -> 0
A32: Расходы на выплаты персоналу государственных (муниципальных) органов | B32: 910 | C32: 01 | D32: 04 | E32: 65 | F32: 2 | G32: 00 | H32: 44205 | I32: 120 | J32: 183.5 | K32: 0 | L32: 0
A33: Непрограммные расходы главных распорядителей средств бюджета Адашевского сельского поселения Кадошкинского муниципального района Республики Мордовия | B33: 910 | C33: 01 | D33: 04 | E33: 89 | J33: =J34 -> 0.2 | K33: =K34 -> 0.3 | L33: =L34 -> 0.3
A34: Непрограммные расходы в рамках обеспечения деятельности главных распорядителей средств бюджета Адашевского сельского поселения Кадошкинского муниципального района Республики Мордовия | B34: 910 | C34: 01 | D34: 04 | E34: 89 | F34: 1 | J34: =J35 -> 0.2 | K34: =K35 -> 0.3 | L34: =L35 -> 0.3
A35: Осуществление государственных полномочий Республики Мордовия по определению перечня должностных лиц, уполномоченных составлять протоколы об административных правонарушениях, предусмотренных Законом Республики Мордовия от 15 июня 2015 года № 38-З "Об административной ответственности на территории Республики Мордовия" | B35: 910 | C35: 01 | D35: 04 | E35: 89 | F35: 1 | G35: 00 | H35: 77150 | J35: =J36 -> 0.2 | K35: =K36 -> 0.3 | L35: =L36 -> 0.3
A36: Закупка товаров, работ и услуг для обеспечения государственных (муниципальных) нужд | B36: 910 | C36: 01 | D36: 04 | E36: 89 | F36: 1 | G36: 00 | H36: 77150 | I36: 200 | J36: =J37 -> 0.2 | K36: =K37 -> 0.3 | L36: =L37 -> 0.3
A37: Иные закупки товаров, работ и услуг для обеспечения государственных (муниципальных) нужд | B37: 910 | C37: 01 | D37: 04 | E37: 89 | F37: 1 | G37: 00 | H37: 77150 | I37: 240 | J37: 0.2 | K37: 0.3 | L37: 0.3
A38: Резервные фонды | B38: 910 | C38: 01 | D38: 11 | J38: =J39 -> 5 | K38: =K39 -> 5 | L38: =L39 -> 5
A39: Непрограммные расходы главных распорядителей средств бюджета Адашевского сельского поселения Кадошкинского муниципального района Республики Мордовия | B39: 910 | C39: 01 | D39: 11 | E39: 89 | J39: =J40 -> 5 | K39: =K40 -> 5 | L39: =L40 -> 5
A40: Непрограммные расходы в рамках обеспечения деятельности главных распорядителей средств бюджета Адашевского сельского поселения Кадошкинского муниципального района Республики Мордовия | B40: 910 | C40: 01 | D40: 11 | E40: 89 | F40: 1 | J40: =J41 -> 5 | K40: =K41 -> 5 | L40: =L41 -> 5
...

Sheet Прил 3
I1: Приложение 3 к решению Совета депутатов Адашевского сельского поселения "О бюджете Адашевского сельского поселения Кадошкинского муниципального района Республики Мордовия на 2023 год и на плановый период 2024 и 2025 годов"
A2: РАСПРЕДЕЛЕНИЕ БЮДЖЕТНЫХ АССИГНОВАНИЙ БЮДЖЕТА АДАШЕВСКОГО СЕЛЬСКОГО ПОСЕЛЕНИЯ КАДОШКИНСКОГО МУНИЦИПАЛЬНОГО РАЙОНА РЕСПУБЛИКИ МОРДОВИЯ ПО РАЗДЕЛАМ, ПОДРАЗДЕЛАМ, ЦЕЛЕВЫМ СТАТЬЯМ (МУНИЦИПАЛЬНЫМ ПРОГРАММАМ И НЕПРОГРАММНЫМ НАПРАВЛЕНИЯМ ДЕЯТЕЛЬНОСТИ), ГРУППАМ И ПОДГРУППАМ ВИДОВ РАСХОДОВ КЛАССИФИКАЦИИ РАСХОДОВ БЮДЖЕТОВ НА 2023 ГОД И НА ПЛАНОВЫЙ ПЕРИОД 2024 И 2025 ГОДОВ
K3: (тыс. рублей)
A4: Наименование | B4: Рз | C4: Прз | D4: Цср | H4: Вр | I4: Сумма
I5: 2023 год | J5: 2024 год | K5: 2025 год
A6: 1 | B6: 2 | C6: 3 | D6: 4 | E6: 5 | F6: 6 | G6: 7 | H6: 8 | I6: 9 | J6: 10 | K6: 11
A7: ВСЕГО | I7: =I8+I48+I57+I67+I81+I88 -> 1665.825 | J7: =J8+J48+J57+J67+J81+J88+J100 -> 1227.4 | K7: =K8+K48+K57+K67+K81+K88+K100 -> 1211.8
A8: Общегосударственные вопросы | B8: 01 | I8: =I9+I18+I37+I43 -> 1020.025 | J8: =J9+J18+J37+J43 -> 620.2 | K8: =K9+K18+K37+K43 -> 585.1
A9: Функционирование высшего должностного лица субъекта Российской Федерации и муниципального образования | B9: 01 | C9: 02 | I9: =I10 -> 436.825 | J9: =J10 -> 258.3 | K9: =K10 -> 256.2
A10: Обеспечение деятельности администрации | B10: 01 | C10: 02 | D10: 65 | I10: =I11 -> 436.825 | J10: =J11 -> 258.3 | K10: =K11 -> 256.2
A11: Высшее должностное лицо | B11: 01 | C11: 02 | D11: 65 | E11: 1 | I11: =I12+I15 -> 436.825 | J11: =J12 -> 258.3 | K11: =K12 -> 256.2
A12: Расходы на выплаты по оплате труда высшего должностного лица | B12: 01 | C12: 02 | D12: 65 | E12: 1 | F12: 00 | G12: 41150 | I12: =I13 -> 367.8 | J12: =J13 -> 258.3 | K12: =K13 -> 256.2
A13: Расходы на выплаты персоналу в целях обеспечения выполнения функций государственными (муниципальными) органами, казенными учреждениями, органами управления государственными внебюджетными фондами | B13: 01 | C13: 02 | D13: 65 | E13: 1 | F13: 00 | G13: 41150 | H13: 100 | I13: =I14 -> 367.8 | J13: =J14 -> 258.3 | K13: =K14 -> 256.2
A14: Расходы на выплаты персоналу государственных (муниципальных) органов | B14: 01 | C14: 02 | D14: 65 | E14: 1 | F14: 00 | G14: 41150 | H14: 120 | I14: ='Прил 2'!J15 -> 367.8 | J14: ='Прил 2'!K15 -> 258.3 | K14: ='Прил 2'!L15 -> 256.2
A15: Субсидии на софинансирование расходных обязательств по финансовому обеспечению деятельности органов местного самоуправления и муниципальных учреждений | B15: 01 | C15: 02 | D15: 65 | E15: 1 | F15: 00 | G15: 44205 | I15: =I16 -> 69.025 | J15: =J16 -> 0 | K15: =K16 -> 0
A16: Расходы на выплаты персоналу в целях обеспечения выполнения функций государственными (муниципальными) органами, казенными учреждениями, органами управления государственными внебюджетными фондами | B16: 01 | C16: 02 | D16: 65 | E16: 1 | F16: 00 | G16: 44205 | H16: 100 | I16: =I17 -> 69.025 | J16: =J17 -> 0 | K16: =K17 -> 0
A17: Расходы на выплаты персоналу государственных (муниципальных) органов | B17: 01 | C17: 02 | D17: 65 | E17: 1 | F17: 00 | G17: 44205 | H17: 120 | I17: ='Прил 2'!J18 -> 69.025 | J17: ='Прил 2'!K18 -> 0 | K17: ='Прил 2'!L18 -> 0
A18: Функционирование Правительства Российской Федерации, высших органов исполнительной власти субъектов Российской Федерации, местных администраций | B18: 01 | C18: 04 | I18: =I19+I32 -> 577.7 | J18: =J19+J32 -> 356.4 | K18: =K19+K32 -> 323.4
A19: Обеспечение деятельности администрации | B19: 01 | C19: 04 | D19: 65 | I19: =I20 -> 577.5 | J19: =J20 -> 356.1 | K19: =K20 -> 323.1
A20: Непрограммные расходы в рамках обеспечения деятельности администрации | B20: 01 | C20: 04 | D20: 65 | E20: 2 | I20: =I21+I24+I29 -> 577.5 | J20: =J21+J24 -> 356.1 | K20: =K21+K24 -> 323.1
A21: Расходы на выплаты по оплате труда работников органов местного самоуправления | B21: 01 | C21: 04 | D21: 65 | E21: 2 | F21: 00 | G21: 41110 | I21: =I22 -> 148.8 | J21: =J22 -> 271.2 | K21: =K22 -> 230
A22: Расходы на выплаты персоналу в целях обеспечения выполнения функций государственными (муниципальными) органами, казенными учреждениями, органами управления государственными внебюджетными фондами | B22: 01 | C22: 04 | D22: 65 | E22: 2 | F22: 00 | G22: 41110 | H22: 100 | I22: =I23 -> 148.8 | J22: =J23 -> 271.2 | K22: =K23 -> 230
A23: Расходы на выплаты персоналу государственных (муниципальных) органов | B23: 01 | C23: 04 | D23: 65 | E23: 2 | F23: 00 | G23: 41110 | H23: 120 | I23: ='Прил 2'!J24 -> 148.8 | J23: ='Прил 2'!K24 -> 271.2 | K23: ='Прил 2'!L24 -> 230
A24: Расходы на обеспечение функций органов местного самоуправления | B24: 01 | C24: 04 | D24: 65 | E24: 2 | F24: 00 | G24: 41120 | I24: =I27+I25 -> 245.2 | J24: =J27+J25 -> 84.9 | K24: =K27+K25 -> 93.1
A25: Закупка товаров, работ и услуг для обеспечения государственных (муниципальных) нужд | B25: 01 | C25: 04 | D25: 65 | E25: 2 | F25: 00 | G25: 41120 | H25: 200 | I25: =I26 -> 217.6 | J25: =J26 -> 62.5 | K25: =K26 -> 70.7
A26: Иные закупки товаров, работ и услуг для обеспечения государственных (муниципальных) нужд | B26: 01 | C26: 04 | D26: 65 | E26: 2 | F26: 00 | G26: 41120 | H26: 240 | I26: ='Прил 2'!J27 -> 217.6 | J26: ='Прил 2'!K27 -> 62.5 | K26: ='Прил 2'!L27 -> 70.7
A27: Иные бюджетные ассигнования | B27: 01 | C27: 04 | D27: 65 | E27: 2 | F27: 00 | G27: 41120 | H27: 800 | I27: =I28 -> 27.6 | J27: =J28 -> 22.4 | K27: =K28 -> 22.4
A28: Уплата налогов, сборов и иных платежей | B28: 01 | C28: 04 | D28: 65 | E28: 2 | F28: 00 | G28: 41120 | H28: 850 | I28: ='Прил 2'!J29 -> 27.6 | J28: ='Прил 2'!K29 -> 22.4 | K28: ='Прил 2'!L29 -> 22.4
A29: Субсидии на софинансирование расходных обязательств по финансовому обеспечению деятельности органов местного самоуправления и муниципальных учреждений | B29: 01 | C29: 04 | D29: 65 | E29: 2 | F29: 00 | G29: 44205 | I29: =I30 -> 183.5 | J29: =J30 -> 0 | K29: =K30 -> 0
A30: Расходы на выплаты персоналу в целях обеспечения выполнения функций государственными (муниципальными) органами, казенными учреждениями, органами управления государственными внебюджетными фондами | B30: 01 | C30: 04 | D30: 65 | E30: 2 | F30: 00 | G30: 44205 | H30: 100 | I30: =I31 -> 183.5 | J30: =J31 -> 0 | K30: =K31 -> 0
A31: Расходы на выплаты персоналу государственных (муниципальных) органов | B31: 01 | C31: 04 | D31: 65 | E31: 2 | F31: 00 | G31: 44205 | H31: 120 | I31: ='Прил 2'!J32 -> 183.5 | J31: ='Прил 2'!K32 -> 0 | K31: ='Прил 2'!L32 -> 0
A32: Непрограммные расходы главных распорядителей средств бюджета Адашевского сельского поселения Кадошкинского муниципального района Республики Мордовия | B32: 01 | C32: 04 | D32: 89 | I32: =I33 -> 0.2 | J32: =J33 -> 0.3 | K32: =K33 -> 0.3
A33: Непрограммные расходы в рамках обеспечения деятельности главных распорядителей средств бюджета Адашевского сельского поселения Кадошкинского муниципального района Республики Мордовия | B33: 01 | C33: 04 | D33: 89 | E33: 1 | I33: =I34 -> 0.2 | J33: =J34 -> 0.3 | K33: =K34 -> 0.3
A34: Осуществление государственных полномочий Республики Мордовия по определению перечня должностных лиц, уполномоченных составлять протоколы об административных правонарушениях, предусмотренных Законом Республики Мордовия от 15 июня 2015 года № 38-З "Об административной ответственности на территории Республики Мордовия" | B34: 01 | C34: 04 | D34: 89 | E34: 1 | F34: 00 | G34: 77150 | I34: =I35 -> 0.2 | J34: =J35 -> 0.3 | K34: =K35 -> 0.3
A35: Закупка товаров, работ и услуг для обеспечения государственных (муниципальных) нужд | B35: 01 | C35: 04 | D35: 89 | E35: 1 | F35: 00 | G35: 77150 | H35: 200 | I35: =I36 -> 0.2 | J35: =J36 -> 0.3 | K35: =K36 -> 0.3
A36: Иные закупки товаров, работ и услуг для обеспечения государственных (муниципальных) нужд | B36: 01 | C36: 04 | D36: 89 | E36: 1 | F36: 00 | G36: 77150 | H36: 240 | I36: ='Прил 2'!J37 -> 0.2 | J36: ='Прил 2'!K37 -> 0.3 | K36: ='Прил 2'!L37 -> 0.3
A37: Резервные фонды | B37: 01 | C37: 11 | I37: =I38 -> 5 | J37: =J38 -> 5 | K37: =K38 -> 5
A38: Непрограммные расходы главных распорядителей средств бюджета Адашевского сельского поселения Кадошкинского муниципального района Республики Мордовия | B38: 01 | C38: 11 | D38: 89 | I38: =I39 -> 5 | J38: =J39 -> 5 | K38: =K39 -> 5
A39: Непрограммные расходы в рамках обеспечения деятельности главных распорядителей средств бюджета Адашевского сельского поселения Кадошкинского муниципального района Республики Мордовия | B39: 01 | C39: 11 | D39: 89 | E39: 1 | I39: =I40 -> 5 | J39: =J40 -> 5 | K39: =K40 -> 5
A40: Резервный фонд администрации Адашевского сельского поселения Кадошкинского муниципального района Республики Мордовия | B40: 01 | C40: 11 | D40: 89 | E40: 1 | F40: 00 | G40: 41180 | I40: =I41 -> 5 | J40: =J41 -> 5 | K40: =K41 -> 5
...

Sheet Прил 4
J1: Приложение 4 к решению Совета депутатов Адашевского сельского поселения "О бюджете Адашевского сельского поселения Кадошкинского муниципального района Республики Мордовия на 2023 год и на плановый период 2024 и 2025 годов"
A2: РАСПРЕДЕЛЕНИЕ БЮДЖЕТНЫХ АССИГНОВАНИЙ БЮДЖЕТА АДАШЕВСКОГО СЕЛЬСКОГО ПОСЕЛЕНИЯ КАДОШКИНСКОГО МУНИЦИПАЛЬНОГО РАЙОНА РЕСПУБЛИКИ МОРДОВИЯ ПО ЦЕЛЕВЫМ СТАТЬЯМ (МУНИЦИПАЛЬНЫМ ПРОГРАММАМ И НЕПРОГРАММНЫМ НАПРАВЛЕНИЯМ ДЕЯТЕЛЬНОСТИ), ГРУППАМ И ПОДГРУППАМ ВИДОВ РАСХОДОВ, РАЗДЕЛАМ И ПОДРАЗДЕЛАМ КЛАССИФИКАЦИИ РАСХОДОВ БЮДЖЕТОВ НА 2023 ГОД НА ПЛАНОВЫЙ ПЕРИОД 2024 И 2025 ГОДОВ
L3: (тыс. рублей)
A4: Наименование | B4: Цср | F4: ВР | G4: Рз | H4: Прз | I4: Адм | J4: Сумма
J5: 2023 год | K5: 2024 год | L5: 2025 год
A6: 1 | B6: 2 | C6: 3 | D6: 4 | E6: 5 | F6: 6 | G6: 7 | H6: 8 | I6: 9 | J6: 10 | K6: 11 | L6: 12
A7: ВСЕГО | J7: =J28+J66+J8+J21+J15 -> 1665.825 | K7: =K28+K66+K8+K21+K15 -> 1227.4 | L7: =L28+L66+L8+L21+L15 -> 1211.8
A8: Муниципальная программа «Использование и охрана земель на территории Адашевского сельского поселения Кадошкинского муниципального района Республики Мордовия на 2023-2025 годы» | B8: 11 | J8: =J9 -> 0.5 | K8: =K9 -> 0.5 | L8: =L9 -> 0.5
A9: Мероприятия, связанные с муниципальным управлением | B9: 11 | C9: 0 | D9: 00 | E9: 41210 | J9: =J10 -> 0.5 | K9: =K10 -> 0.5 | L9: =L10 -> 0.5
A10: Закупка товаров, работ и услуг для обеспечения государственных (муниципальных) нужд | B10: 11 | C10: 0 | D10: 00 | E10: 41210 | F10: 200 | J10: =J11 -> 0.5 | K10: =K11 -> 0.5 | L10: =L11 -> 0.5
A11: Иные закупки товаров, работ и услуг для обеспечения государственных (муниципальных) нужд | B11: 11 | C11: 0 | D11: 00 | E11: 41210 | F11: 240 | J11: =J12 -> 0.5 | K11: =K12 -> 0.5 | L11: =L12 -> 0.5
A12: Общегосударственные вопросы | B12: 11 | C12: 0 | D12: 00 | E12: 41210 | F12: 240 | G12: 01 | J12: =J13 -> 0.5 | K12: =K13 -> 0.5 | L12: =L13 -> 0.5
A13: Другие общегосударственные вопросы | B13: 11 | C13: 0 | D13: 00 | E13: 41210 | F13: 240 | G13: 01 | H13: 13 | J13: =J14 -> 0.5 | K13: =K14 -> 0.5 | L13: =L14 -> 0.5
A14: Администрация Адашевского сельского поселения Кадошкинского муниципального района Республики Мордовия | B14: 11 | C14: 0 | D14: 00 | E14: 41210 | F14: 240 | G14: 01 | H14: 13 | I14: 910 | J14: ='Прил 2'!J45 -> 0.5 | K14: ='Прил 2'!K45 -> 0.5 | L14: ='Прил 2'!L45 -> 0.5
A15: Иные межбюджетные трансферты на осуществление полномочий по дорожной деятельности в отношении автомобильных дорог местного значения в границах населенных пунктов поселения и обеспечению безопасности дорожного движения на них, включая создание и обеспечение функционирования парковок (парковочных мест), осуществлению муниципального контроля за сохранностью автомобильных дорог местного значения в границах населенных пунктов поселения, организации дорожного движения, а также осуществлению иных полномочий в области использования автомобильных дорог и осуществления дорожной деятельности в соответствии с законодательством Российской Федерации | B15: 13 | C15: 0 | D15: 01 | E15: 44102 | J15: =J16 -> 247.45 | K15: =K16 -> 268.6 | L15: =L16 -> 280.1
A16: Иные закупки товаров, работ и услуг для обеспечения государственных (муниципальных) нужд | B16: 13 | C16: 0 | D16: 01 | E16: 44102 | F16: 200 | J16: =J17 -> 247.45 | K16: =K17 -> 268.6 | L16: =L17 -> 280.1
A17: Прочая закупка товаров, работ и услуг | B17: 13 | C17: 0 | D17: 01 | E17: 44102 | F17: 240 | J17: =J18 -> 247.45 | K17: =K18 -> 268.6 | L17: =L18 -> 280.1
A18: Национальная экономика | B18: 13 | C18: 0 | D18: 01 | E18: 44102 | F18: 240 | G18: 04 | J18: =J19 -> 247.45 | K18: =K19 -> 268.6 | L18: =L19 -> 280.1
A19: Дорожное хозяйство (дорожные фонды) | B19: 13 | C19: 0 | D19: 01 | E19: 44102 | F19: 240 | G19: 04 | H19: 09 | J19: =J20 -> 247.45 | K19: =K20 -> 268.6 | L19: =L20 -> 280.1
A20: Администрация Адашевского сельского поселения Кадошкинского муниципального района Республики Мордовия | B20: 13 | C20: 0 | D20: 01 | E20: 44102 | F20: 240 | G20: 04 | H20: 09 | I20: 910 | J20: ='Прил 2'!J63 -> 247.45 | K20: ='Прил 2'!K63 -> 268.6 | L20: ='Прил 2'!L63 -> 280.1
A21: Муниципальная программа «Оформление в собственность автомобильных дорог местного значения общего пользования Адашевского сельского поселения» | B21: 14 | J21: =J22 -> 19.85 | K21: =K22 -> 14.8 | L21: =L22 -> 14.7
A22: Иные межбюджетные трансферты на осуществление полномочий по дорожной деятельности в отношении автомобильных дорог местного значения в границах населенных пунктов поселения и обеспечению безопасности дорожного движения на них, включая создание и обеспечение функционирования парковок (парковочных мест), осуществлению муниципального контроля за сохранностью автомобильных дорог местного значения в границах населенных пунктов поселения, организации дорожного движения, а также осуществлению иных полномочий в области использования автомобильных дорог и осуществления дорожной деятельности в соответствии с законодательством Российской Федерации | B22: 14 | C22: 0 | D22: 01 | E22: 44102 | J22: =J23 -> 19.85 | K22: =K23 -> 14.8 | L22: =L23 -> 14.7
A23: Закупка товаров, работ и услуг для обеспечения государственных (муниципальных) нужд | B23: 14 | C23: 0 | D23: 01 | E23: 44102 | F23: 200 | J23: =J24 -> 19.85 | K23: =K24 -> 14.8 | L23: =L24 -> 14.7
A24: Иные закупки товаров, работ и услуг для обеспечения государственных (муниципальных) нужд | B24: 14 | C24: 0 | D24: 01 | E24: 44102 | F24: 240 | J24: =J25 -> 19.85 | K24: =K25 -> 14.8 | L24: =L25 -> 14.7
A25: Национальная экономика | B25: 14 | C25: 0 | D25: 01 | E25: 44102 | F25: 240 | G25: 04 | J25: =J26 -> 19.85 | K25: =K26 -> 14.8 | L25: =L26 -> 14.7
A26: Дорожное хозяйство (дорожные фонды) | B26: 14 | C26: 0 | D26: 01 | E26: 44102 | F26: 240 | G26: 04 | H26: 09 | J26: =J27 -> 19.85 | K26: =K27 -> 14.8 | L26: =L27 -> 14.7
A27: Администрация Адашевского сельского поселения Кадошкинского муниципального района Республики Мордовия | B27: 14 | C27: 0 | D27: 01 | E27: 44102 | F27: 240 | G27: 04 | H27: 09 | I27: 910 | J27: ='Прил 2'!J67 -> 19.85 | K27: ='Прил 2'!K67 -> 14.8 | L27: ='Прил 2'!L67 -> 14.7
A28: Обеспечение деятельности администрации | B28: 65 | J28: =J29+J42 -> 1014.325 | K28: =K29+K42 -> 614.4 | L28: =L29+L42 -> 579.3
A29: Высшее должностное лицо | B29: 65 | C29: 1 | J29: =J30+J37 -> 436.825 | K29: =K30 -> 258.3 | L29: =L30 -> 256.2
A30: Расходы на выплаты по оплате труда высшего должностного лица муниципального образования | B30: 65 | C30: 1 | D30: 00 | E30: 41150 | J30: =J33 -> 367.8 | K30: =K33 -> 258.3 | L30: =L33 -> 256.2
A31: Расходы на выплаты персоналу в целях обеспечения выполнения функций государственными (муниципальными) органами, казенными учреждениями, органами управления государственными внебюджетными фондами | B31: 65 | C31: 1 | D31: 00 | E31: 41150 | F31: 100 | J31: =J32 -> 367.8 | K31: =K32 -> 258.3 | L31: =L32 -> 256.2
A32: Расходы на выплаты персоналу государственных (муниципальных) органов | B32: 65 | C32: 1 | D32: 00 | E32: 41150 | F32: 120 | J32: =J33 -> 367.8 | K32: =K33 -> 258.3 | L32: =L33 -> 256.2
A33: Общегосударственные вопросы | B33: 65 | C33: 1 | D33: 00 | E33: 41150 | F33: 120 | G33: 01 | J33: =J34 -> 367.8 | K33: =K34 -> 258.3 | L33: =L34 -> 256.2
A34: Функционирование высшего должностного лица субъекта Российской Федерации и муниципального образования | B34: 65 | C34: 1 | D34: 00 | E34: 41150 | F34: 120 | G34: 01 | H34: 02 | J34: =J35 -> 367.8 | K34: =K35 -> 258.3 | L34: =L35 -> 256.2
A35: Администрация Адашевского сельского поселения Кадошкинского муниципального района Республики Мордовия | B35: 65 | C35: 1 | D35: 00 | E35: 41150 | F35: 120 | G35: 01 | H35: 02 | I35: 910 | J35: ='Прил 2'!J15 -> 367.8 | K35: ='Прил 2'!K15 -> 258.3 | L35: ='Прил 2'!L15 -> 256.2
A36: Субсидии на софинансирование расходных обязательств по финансовому обеспечению деятельности органов местного самоуправления и муниципальных учреждений | B36: 65 | C36: 1 | D36: 00 | E36: 44205 | J36: =J37 -> 69.025 | K36: =K37 -> 0 | L36: =L37 -> 0
A37: Расходы на выплаты персоналу в целях обеспечения выполнения функций государственными (муниципальными) органами, казенными учреждениями, органами управления государственными внебюджетными фондами | B37: 65 | C37: 1 | D37: 00 | E37: 44205 | F37: 100 | J37: =J38 -> 69.025 | K37: =K38 -> 0 | L37: =L38 -> 0
A38: Расходы на выплаты персоналу государственных (муниципальных) органов | B38: 65 | C38: 1 | D38: 00 | E38: 44205 | F38: 120 | J38: =J39 -> 69.025 | K38: =K39 -> 0 | L38: =L39 -> 0
A39: Общегосударственные вопросы | B39: 65 | C39: 1 | D39: 00 | E39: 44205 | F39: 120 | G39: 01 | J39: =J40 -> 69.025 | K39: =K40 -> 0 | L39: =L40 -> 0
A40: Функционирование высшего должностного лица субъекта Российской Федерации и муниципального образования | B40: 65 | C40: 1 | D40: 00 | E40: 44205 | F40: 120 | G40: 01 | H40: 02 | J40: =J41 -> 69.025 | K40: =K41 -> 0 | L40: =L41 -> 0
...

Sheet Прил 5
C1: Приложение 5 к решению Совета депутатов Адашевского сельского поселения "О бюджете Адашевского сельского поселения Кадошкинского муниципального района Республики Мордовия на 2023 год и на плановый период 2024 и 2025 годов"
A2: ИСТОЧНИКИ ВНУТРЕННЕГО ФИНАНСИРОВАНИЯ ДЕФИЦИТА БЮДЖЕТА АДАШЕВСКОГО СЕЛЬСКОГО ПОСЕЛЕНИЯ КАДОШКИНСКОГО МУНИЦИПАЛЬНОГО РАЙОНА РЕСПУБЛИКИ МОРДОВИЯ НА 2023 ГОД И НА ПЛАНОВЫЙ ПЕРИОД 2024 И 2025 ГОДОВ
A4: Код | B4: Наименование кода группы, подгруппы, статьи, вида источника финансирования дефицитов бюджетов, кода классификации операций сектора государственного управления, относящихся к источникам финансирования дефицитов бюджетов Российской Федерации | C4: Сумма (тыс. руб.)
C5: 2023 год | D5: 2024 год | E5: 2025 год
A6: 1 | B6: 2 | C6: 3 | D6: 4 | E6: 5
A7: 000 01 00 00 00 00 0000 000 | B7: ИСТОЧНИКИ ВНУТРЕННЕГО ФИНАНСИРОВАНИЯ ДЕФИЦИТОВ БЮДЖЕТОВ | C7: =C8+C11+C15 -> -20.775 | D7: =D8+D11+D15 -> -31.2 | E7: =E8+E11+E15 -> -41.6
A8: 000 01 02 00 00 00 0000 000 | B8: Кредиты кредитных организаций в валюте Российской Федерации | C8: =SUM(C9) -> 0 | D8: =SUM(D9) -> 0 | E8: =SUM(E9) -> 0
A9: 000 01 02 00 00 00 0000 700 | B9: Получение кредитов от кредитных организаций в валюте Российской Федерации | C9: =SUM(C10) -> 0 | D9: =SUM(D10) -> 0 | E9: =SUM(E10) -> 0
A10: 000 01 02 00 00 10 0000 710 | B10: Получение кредитов от кредитных организаций бюджетами поселений в валюте Российской Федерации | C10: 0 | D10: 0 | E10: 0
A11: 000 01 03 00 00 00 0000 000 | B11: Бюджетные кредиты от других бюджетов бюджетной системы Российской Федерации | C11: =C12 -> -20.8 | D11: =D12 -> -31.2 | E11: =E12 -> -41.6
A12: 000 01 03 01 00 00 0000 000 | B12: Бюджетные кредиты от других бюджетов бюджетной системы Российской Федерации в валюте Российской Федерации | C12: =C13 -> -20.8 | D12: =D13 -> -31.2 | E12: =E13 -> -41.6
A13: 000 01 03 01 00 10 0000 800 | B13: Погашение бюджетных кредитов, полученных от других бюджетов бюджетной системы Российской Федерации в валюте Российской Федерации | C13: =SUM(C14) -> -20.8 | D13: =SUM(D14) -> -31.2 | E13: =SUM(E14) -> -41.6
A14: 000 01 03 01 00 10 0000 810 | B14: Погашение бюджетами сельских поселений кредитов от других бюджетов бюджетной системы Российской Федерации в валюте Российской Федерации | C14: ='Прил 6'!C16 -> -20.8 | D14: ='Прил 6'!D16 -> -31.2 | E14: ='Прил 6'!E16 -> -41.6
A15: 000 01 05 00 00 00 0000 000 | B15: Изменения остатков средств на счетах по учету средств бюджетов | C15: =C16+C19 -> 0.025 | D15: =D16+D19 -> 0 | E15: =E16+E19 -> 0
A16: 000 01 05 02 00 00 0000 500 | B16: Увеличение прочих остатков средств бюджетов | C16: =SUM(C17) -> -1686.6 | D16: =SUM(D17) -> -1258.6 | E16: =SUM(E17) -> -1253.4
A17: 000 01 05 02 01 00 0000 510 | B17: Увеличение прочих остатков денежных средств бюджетов | C17: =SUM(C18) -> -1686.6 | D17: =SUM(D18) -> -1258.6 | E17: =SUM(E18) -> -1253.4
A18: 000 01 05 02 01 10 0000 510 | B18: Увеличение прочих остатков денежных средств бюджетов сельских поселений | C18: =-('Прил 1'!C7+C10) -> -1686.6 | D18: =-('Прил 1'!D7+D10) -> -1258.6 | E18: =-('Прил 1'!E7+E10) -> -1253.4
A19: 000 01 05 02 00 00 0000 600 | B19: Уменьшение прочих остатков средств бюджетов | C19: =SUM(C20) -> 1686.625 | D19: =SUM(D20) -> 1258.6 | E19: =SUM(E20) -> 1253.4
A20: 000 01 05 02 01 00 0000 610 | B20: Уменьшение прочих остатков денежных средств бюджетов | C20: =SUM(C21) -> 1686.625 | D20: =SUM(D21) -> 1258.6 | E20: =SUM(E21) -> 1253.4
A21: 000 01 05 02 01 10 0000 610 | B21: Уменьшение прочих остатков денежных средств бюджетов сельских поселений | C21: ='Прил 2'!J7-C14 -> 1686.625 | D21: ='Прил 2'!K7-D14 -> 1258.6 | E21: ='Прил 2'!L7-E14 -> 1253.4

Sheet Прил 6
C1: Приложение 6 к решению Совета депутатов Адашевского сельского поселения "О бюджете Адашевского сельского поселения Кадошкинского муниципального района Республики Мордовия на 2023 год и на плановый период 2024 и 2025 годов"
A2: ПРОГРАММА МУНИЦИПАЛЬНЫХ ВНУТРЕННИХ ЗАИМСТВОВАНИЙ АДАШЕВСКОГО СЕЛЬСКОГО ПОСЕЛЕНИЯ КАДОШКИНСКОГО МУНИЦИПАЛЬНОГО РАЙОНА РЕСПУБЛИКИ МОРДОВИЯ НА 2023 ГОД И НА ПЛАНОВЫЙ ПЕРИОД 2024 И 2025 ГОДОВ
A6: № п/п | B6: Виды заимствований | C6: Сумма (тыс.руб.)
C7: 2023 год | D7: 2024 год | E7: 2025 год
A8: 1 | B8: 2 | C8: 3 | D8: 4 | E8: 5
A9: I | B9: Кредиты кредитных организаций в валюте Российской Федерации | C9: =C11 -> 0 | D9: =D11 -> 0 | E9: =E11 -> 0
B10: в том числе:
A11: 1 | B11: Объем привлечения | C11: 0 | D11: 0 | E11: 0
A12: 2 | B12: Объем средств, напрвляемых на погашение основной суммы долга
A13: II | B13: Бюджетные кредиты от других бюджетов бюджетной системы Российской Федерации | C13: =C16 -> -20.8 | D13: =D16 -> -31.2 | E13: =E16 -> -41.6
B14: в том числе
A15: 1 | B15: Объем привлечения
A16: 2 | B16: Объем средств, напрвляемых на погашение основной суммы долга | C16: -20.8 | D16: -31.2 | E16: -41.6
B17: ВСЕГО | C17: =C11+C16 -> -20.8 | D17: =D11+D16 -> -31.2 | E17: =E11+E16 -> -41.6
