Workbook
Name _1Excel_BuiltIn_Print_Area_1_1_1: 'Прил 1'!$A$1:$C$38
Name _2Excel_BuiltIn_Print_Area_7_1_1: #REF!
Name _2Excel_BuiltIn_Print_Area_7_1_1: #REF!
Name _Toc105952698: 'Прил 3 '!$A$2
Name _Toc105952698: #REF!
Name Excel_BuiltIn_Print_Area_1: 'Прил 1'!$A$1:$C$38
Name Excel_BuiltIn_Print_Area_1_1: 'Прил 1'!$A$1:$C$38
Name Excel_BuiltIn_Print_Area_2: #REF!
Name Excel_BuiltIn_Print_Area_2: #REF!
Name Excel_BuiltIn_Print_Area_3: #REF!
Name Excel_BuiltIn_Print_Area_3_1: #REF!
Name Excel_BuiltIn_Print_Area_3_1: #REF!
Name Excel_BuiltIn_Print_Area_4: #REF!
Name Excel_BuiltIn_Print_Area_4: #REF!
Name Excel_BuiltIn_Print_Area_5: 'Прил 3 '!$A$1:$I$46
Name Excel_BuiltIn_Print_Area_5: #REF!
Name Excel_BuiltIn_Print_Area_5_1: 'Прил 3 '!$A$1:$I$46
Name Excel_BuiltIn_Print_Area_5_1: #REF!
Name Excel_BuiltIn_Print_Area_6: 'Прил 2'!$A$1:$G$48
Name Excel_BuiltIn_Print_Area_6_1: 'Прил 2'!$A$1:$G$48
Name Excel_BuiltIn_Print_Area_7: #REF!
Name Excel_BuiltIn_Print_Area_7: #REF!
Name Excel_BuiltIn_Print_Area_7_1: #REF!
Name Excel_BuiltIn_Print_Area_7_1: #REF!

Sheet Прил 1
C1: Приложение 1 к решению Совета депутатов Паевского сельского поселения "О бюджете Паевского сельского поселения Кадошкинского муниципального района Республики Мордовия на 2022 год и на плановый период 2023 и 2024 годов"
A2: ДОХОДЫ БЮДЖЕТА ПАЕВСКОГО СЕЛЬСКОГО ПОСЕЛЕНИЯ КАДОШКИНСКОГО МУНИЦИПАЛЬНОГО РАЙОНА РЕСПУБЛИКИ МОРДОВИЯ
C3: (тыс.рублей)
A4: Код бюджетной классификации доходов бюджета | B4: Наименование доходов | C4: Сумма
C5: 2022 год | D5: 2023 год | E5: 2024 год
A6: 1 | B6: 2 | C6: 3 | D6: 4 | E6: 5
B7: ВСЕГО ДОХОДОВ | C7: =C8+C28+C40 -> 4187.4064 | D7: =SUM(D8+D28) -> 1027.4 | E7: =SUM(E8+E28) -> 1103.2
A8: 00010000000000000000 | B8: НАЛОГОВЫЕ И НЕНАЛОГОВЫЕ ДОХОДЫ | C8: =C9+C12+C14+C16+C19+C25+C21+C23 -> 1371.4464 | D8: =D9+D12+D14+D16+D19+D25+D21 -> 475.7 | E8: =E9+E12+E14+E16+E19+E25+E21 -> 511.6
A9: 00010100000000000000 | B9: НАЛОГИ НА ПРИБЫЛЬ, ДОХОДЫ | C9: =SUM(C10) -> 59 | D9: =SUM(D10) -> 23 | E9: =SUM(E10) -> 52
A10: 00010102000010000110 | B10: Налог на доходы физических лиц | C10: =SUM(C11) -> 59 | D10: =SUM(D11) -> 23 | E10: =SUM(E11) -> 52
A11: 18210102010010000110 | B11: Налог на доходы физических лиц с доходов, источником которых является налоговый агент, за исключением доходов, в отношении которых исчисление и уплата налога осуществляются в соответствии со статьями 227, 2271 и 228 Налогового кодекса Российской Федерации | C11: =48+11 -> 59 | D11: 23 | E11: 52
A12: 00010500000000000000 | B12: НАЛОГИ НА СОВОКУПНЫЙ ДОХОД | C12: =SUM(C13) -> 11 | D12: =SUM(D13) -> 7 | E12: =SUM(E13) -> 7 | F12: ,
A13: 18210503010010000110 | B13: Единый сельскохозяйственный налог | C13: =7+4 -> 11 | D13: 7 | E13: 7
A14: 00010600000000000000 | B14: НАЛОГИ НА ИМУЩЕСТВО | C14: =SUM(C15) -> 74 | D14: =SUM(D15) -> 78 | E14: =SUM(E15) -> 80
A15: 18210601030100000110 | B15: Налог на имущество физических лиц, взимаемый по ставкам, применяемым к объектам налогообложения, расположенным в границах сельских поселений | C15: =74+10-10 -> 74 | D15: 78 | E15: 80 | F15: -10
A16: 00010606000000000110 | B16: Земельный налог | C16: =SUM(C17+C18) -> 416.1 | D16: =SUM(D17+D18) -> 321 | E16: =SUM(E17+E18) -> 324
A17: 18210606033100000110 | B17: Земельный налог с организаций, обладающих земельным участком, расположенным в границах сельских поселений | C17: =85+45 -> 130 | D17: 85 | E17: 85
A18: 18210606043100000110 | B18: Земельный налог с физических лиц, обладающих земельным участком, расположенным в границах сельских поселений | C18: =235+30+21.1 -> 286.1 | D18: 236 | E18: 239 | F18: +21,1
A19: 00011100000000000000 | B19: ДОХОДЫ ОТ ИСПОЛЬЗОВАНИЯ ИМУЩЕСТВА, НАХОДЯЩЕГОСЯ В ГОСУДАРСТВЕННОЙ И МУНИЦИПАЛЬНОЙ СОБСТВЕННОСТИ | C19: =SUM(C20) -> 44.9 | D19: =SUM(D20) -> 46.7 | E19: =SUM(E20) -> 48.6
A20: 91811105035100000120 | B20: Доходы от сдачи в аренду имущества, находящегося в оперативном управлении органов управления поселений и созданных ими учреждений (за исключением имущества муниципальных бюджетных и автономных учреждений) | C20: 44.9 | D20: 46.7 | E20: 48.6
A21: 00011300000000000000 | B21: ДОХОДЫ ОТ ОКАЗАНИЯ ПЛАТНЫХ УСЛУГ И КОМПЕНСАЦИИ ЗАТРАТ ГОСУДАРСТВА | C21: =C22 -> 64.45889 | D21: =D22 -> 0 | E21: =E22 -> 0
A22: 91811302995100000130 | B22: Прочие доходы от компенсации затрат бюджетов сельских поселений | C22: =40.25889+19.5+4.7 -> 64.45889 | D22: 0 | E22: 0
A23: 00011400000000000000 | B23: ДОХОДЫ ОТ ПРОДАЖИ МАТЕРИАЛЬНЫХ И НЕМАТЕРИАЛЬНЫХ АКТИВОВ | C23: =C24 -> 393.4975 | D23: =D24 -> 0 | E23: =E24 -> 0
A24: 91811406025100000430 | B24: Доходы от продажи земельных участков, находящихся в собственности сельских поселений (за исключением земельных участков муниципальных бюджетных и автономных учреждений) | C24: 393.4975 | D24: 0 | E24: 0
A25: 00011700000000000000 | B25: ПРОЧИЕ НЕНАЛОГОВЫЕ ДОХОДЫ | C25: =C26 -> 308.49 | D25: =D26 -> 0 | E25: =E26 -> 0
A26: 91811714000000000150 | B26: Средства самообложения граждан | C26: =C27 -> 308.49 | D26: =D27 -> 0 | E26: =E27 -> 0
A27: 91811714030100000150 | B27: Средства самообложения граждан, зачисляемые в бюджеты сельских поселений | C27: =172.66+46.56+89.27 -> 308.49 | D27: 0 | E27: 0
A28: 00020200000000000000 | B28: БЕЗВОЗМЕЗДНЫЕ ПОСТУПЛЕНИЯ ОТ ДРУГИХ БЮДЖЕТОВ БЮДЖЕТНОЙ СИСТЕМЫ РОССИЙСКОЙ ФЕДЕРАЦИИ | C28: =SUM(C34+C37+C29+C32) -> 2785.96 | D28: =SUM(D34+D37+D29+D32) -> 551.7 | E28: =SUM(E34+E37+E29+E32) -> 591.6
A29: 00020210000000000150 | B29: Дотации бюджетам бюджетной системы Российской Федерации | C29: =C30+C31 -> 426.1 | D29: =D30+D31 -> 73.8 | E29: =E30+E31 -> 88.7
A30: 91820215001100000150 | B30: Дотации бюджетам сельских поселений на выравнивание бюджетной обеспеченности | C30: 76.9 | D30: 73.8 | E30: 88.7
A31: 91820215002100000150 | B31: Дотации бюджетам сельских поселений на поддержку мер по обеспечению сбалансированности бюджетов | C31: 349.2 | D31: 0 | E31: 0
A32: 00020220000000000150 | B32: Субсидии бюджетам бюджетной системы Российской Федерации (межбюджетные субсидии) | C32: =C33 -> 650 | D32: =D33 -> 0 | E32: =E33 -> 0
A33: 91820229999100000150 | B33: Прочие субсидии бюджетам сельских поселений | C33: =500+100+50 -> 650 | D33: 0 | E33: 0
A34: 00020230000000000150 | B34: Субвенции бюджетам бюджетной системы Российской Федерации | C34: =SUM(C35+C36) -> 95.4 | D34: =SUM(D35+D36) -> 92.9 | E34: =SUM(E35+E36) -> 96.1
A35: 91820230024100000150 | B35: Субвенции на осуществление государственных полномочий Республики Мордовия по определению перечня должностных лиц, уполномоченных составлять протоколы об административных правонарушениях, предусмотренных Законом Республики Мордовия от 15 июня 2015 года № 38-З "Об административной ответственности на территории Республики Мордовия" | C35: 0.1 | D35: 0.1 | E35: 0.1
A36: 91820235118100000150 | B36: Субвенции бюджетам сельских поселений на осуществление первичного воинского учета на территориях, где отсутствуют военные комиссариаты | C36: =89.8+5.5 -> 95.3 | D36: 92.8 | E36: 96
A37: 00020240000000000150 | B37: Иные межбюджетные трансферты | C37: =C38+C39 -> 1614.46 | D37: =SUM(D38) -> 385 | E37: =SUM(E38) -> 406.8
A38: 91820240014100000150 | B38: Межбюджетные трансферты, передаваемые бюджетам сельских поселений из бюджетов муниципальных районов на осуществление части полномочий по решению вопросов местного значения в соответствии с заключенными соглашениями | C38: =354.6+25.4+7.1-6.6 -> 380.5 | D38: =359.6+25.4 -> 385 | E38: =381.4+25.4 -> 406.8
A39: 91820249999100000150 | B39: Прочие межбюджетные трансферты, передаваемые бюджетам сельских поселений | C39: 1233.96 | D39: 0 | E39: 0
A40: 00020700000000000000 | B40: ПРОЧИЕ БЕЗВОЗМЕЗДНЫЕ ПОСТУПЛЕНИЯ | C40: =C41 -> 30 | D40: =D41 -> 0 | E40: =E41 -> 0
...

Sheet Прил 2
J1: Приложение 2 к решению Совета депутатов Паевского сельского поселения "О бюджете Паевского сельского поселения Кадошкинского муниципального района Республики Мордовия на 2022 год и на плановый период 2023 и 2024 годов"
A2: ВЕДОМСТВЕННАЯ СТРУКТУРА РАСХОДОВ БЮДЖЕТА ПАЕВСКОГО СЕЛЬСКОГО ПОСЕЛЕНИЯ КАДОШКИНСКОГО МУНИЦИПАЛЬНОГО РАЙОНА РЕСПУБЛИКИ МОРДОВИЯ НА 2022 ГОД И НА ПЛАНОВЫЙ ПЕРИОД 2023 И 2024 ГОДОВ
L3: (тыс. рублей)
A4: Наименование | B4: Адм | C4: Рз | D4: Прз | E4: Цср | I4: Вр | J4: Сумма
J5: 2022 год | K5: 2023 год | L5: 2024 год
A6: 1 | B6: 2 | C6: 3 | D6: 4 | E6: 5 | F6: 6 | G6: 7 | H6: 8 | I6: 9 | J6: 10 | K6: 11 | L6: 12
A7: ВСЕГО | J7: =J8 -> 4187.3975 | K7: =K8 -> 957 | L7: =L8 -> 1009.4
A8: Администрация Паевского сельского поселения Кадошкинского муниципального района Республики Мордовия | B8: 918 | J8: =J9+J62+J77+J84+J103+J110+J71 -> 4187.3975 | K8: =K9+K62+K77+K84+K103+K110+K71+K117 -> 957 | L8: =L9+L62+L77+L84+L103+L110+L71+L117 -> 1009.4
A9: Общегосударственные вопросы | B9: 918 | C9: 01 | J9: =J10+J19+J43+J49 -> 1982.31 | K9: =K10+K19+K43+K49 -> 369.7 | L9: =L10+L19+L43+L49 -> 377.1
A10: Функционирование высшего должностного лица субъекта Российской Федерации и муниципального образования | B10: 918 | C10: 01 | D10: 02 | J10: =J11 -> 490.49104 | K10: =K11 -> 134.5 | L10: =L11 -> 134.3
A11: Обеспечение деятельности администрации | B11: 918 | C11: 01 | D11: 02 | E11: 65 | J11: =J12 -> 490.49104 | K11: =K12 -> 134.5 | L11: =L12 -> 134.3
A12: Высшее должностное лицо | B12: 918 | C12: 01 | D12: 02 | E12: 65 | F12: 1 | J12: =J13+J16 -> 490.49104 | K12: =K13+K16 -> 134.5 | L12: =L13+L16 -> 134.3
A13: Расходы на выплаты по оплате труда высшего должностного лица | B13: 918 | C13: 01 | D13: 02 | E13: 65 | F13: 1 | G13: 00 | H13: 41150 | J13: =J14 -> 339.1 | K13: =K14 -> 134.5 | L13: =L14 -> 134.3
A14: Расходы на выплаты персоналу в целях обеспечения выполнения функций государственными (муниципальными) органами, казенными учреждениями, органами управления государственными внебюджетными фондами | B14: 918 | C14: 01 | D14: 02 | E14: 65 | F14: 1 | G14: 00 | H14: 41150 | I14: 100 | J14: =J15 -> 339.1 | K14: =K15 -> 134.5 | L14: =L15 -> 134.3
A15: Расходы на выплаты персоналу государственных (муниципальных) органов | B15: 918 | C15: 01 | D15: 02 | E15: 65 | F15: 1 | G15: 00 | H15: 41150 | I15: 120 | J15: =223.2-44.1+30+26+13+46+30+15 -> 339.1 | K15: 134.5 | L15: 134.3
A16: Субсидии на софинансирование расходных обязательств по финансовому обеспечению деятельности органов местного самоуправления и муниципальных учреждений | B16: 918 | C16: 01 | D16: 02 | E16: 65 | F16: 1 | G16: 00 | H16: 44205 | J16: =J17 -> 151.39104 | K16: =K17 -> 0 | L16: =L17 -> 0
A17: Расходы на выплаты персоналу в целях обеспечения выполнения функций государственными (муниципальными) органами, казенными учреждениями, органами управления государственными внебюджетными фондами | B17: 918 | C17: 01 | D17: 02 | E17: 65 | F17: 1 | G17: 00 | H17: 44205 | I17: 100 | J17: =J18 -> 151.39104 | K17: =K18 -> 0 | L17: =L18 -> 0
A18: Расходы на выплаты персоналу государственных (муниципальных) органов | B18: 918 | C18: 01 | D18: 02 | E18: 65 | F18: 1 | G18: 00 | H18: 44205 | I18: 120 | J18: =95.45+30+18+7.94104 -> 151.39104 | K18: 0 | L18: 0
A19: Функционирование Правительства Российской Федерации, высших органов исполнительной власти субъектов Российской Федерации, местных администраций | B19: 918 | C19: 01 | D19: 04 | J19: =J20+J38 -> 1489.319 | K19: =K20+K38 -> 232.7 | L19: =L20+L38 -> 240.3
A20: Обеспечение деятельности администрации | B20: 918 | C20: 01 | D20: 04 | E20: 65 | J20: =J21 -> 1489.219 | K20: =K21 -> 232.6 | L20: =L21 -> 240.2
A21: Непрограммные расходы в рамках обеспечения деятельности администрации | B21: 918 | C21: 01 | D21: 04 | E21: 65 | F21: 2 | J21: =J23+J25+J31 -> 1489.219 | K21: =K23+K25 -> 232.6 | L21: =L23+L25 -> 240.2
A22: Расходы на выплаты по оплате труда работников органов местного самоуправления | B22: 918 | C22: 01 | D22: 04 | E22: 65 | F22: 2 | G22: 00 | H22: 41110 | J22: =J23 -> 658.8 | K22: =K23 -> 164 | L22: =L23 -> 119.8
A23: Расходы на выплаты персоналу в целях обеспечения выполнения функций государственными (муниципальными) органами, казенными учреждениями, органами управления государственными внебюджетными фондами | B23: 918 | C23: 01 | D23: 04 | E23: 65 | F23: 2 | G23: 00 | H23: 41110 | I23: 100 | J23: =J24 -> 658.8 | K23: =K24 -> 164 | L23: =L24 -> 119.8
A24: Расходы на выплаты персоналу государственных (муниципальных) органов | B24: 918 | C24: 01 | D24: 04 | E24: 65 | F24: 2 | G24: 00 | H24: 41110 | I24: 120 | J24: =425.3-8.8-44.1-15.8+60+50+15.5+14.7+70+32+60 -> 658.8 | K24: =234.4-70.4 -> 164 | L24: =213.6-93.8 -> 119.8
A25: Расходы на обеспечение функций органов местного самоуправления | B25: 918 | C25: 01 | D25: 04 | E25: 65 | F25: 2 | G25: 00 | H25: 41120 | J25: =J26+J28 -> 325.75 | K25: =K26+K28 -> 68.6 | L25: =L26+L28 -> 120.4
A26: Закупка товаров, работ и услуг для обеспечения государственных (муниципальных) нужд | B26: 918 | C26: 01 | D26: 04 | E26: 65 | F26: 2 | G26: 00 | H26: 41120 | I26: 200 | J26: =J27 -> 242.3 | K26: =K27 -> 42.8 | L26: =L27 -> 94.6
A27: Иные закупки товаров, работ и услуг для обеспечения государственных (муниципальных) нужд | B27: 918 | C27: 01 | D27: 04 | E27: 65 | F27: 2 | G27: 00 | H27: 41120 | I27: 240 | J27: =95.1+116.4-17-0.9+50+2.7-46+7.2+20+3.7+11.1 -> 242.3 | K27: 42.8 | L27: 94.6 | M27: +11,1
A28: Иные бюджетные ассигнования | B28: 918 | C28: 01 | D28: 04 | E28: 65 | F28: 2 | G28: 00 | H28: 41120 | I28: 800 | J28: =J30+J29 -> 83.45 | K28: =K30 -> 25.8 | L28: =L30 -> 25.8
A29: Исполнение судебных актов | B29: 918 | C29: 01 | D29: 04 | E29: 65 | F29: 2 | G29: 00 | H29: 41120 | I29: 830 | J29: =1+10.1+1+3 -> 15.1 | K29: 0 | L29: 0
A30: Уплата налогов, сборов и иных платежей | B30: 918 | C30: 01 | D30: 04 | E30: 65 | F30: 2 | G30: 00 | H30: 41120 | I30: 850 | J30: =10.6+8.8+1+39+8.95 -> 68.35 | K30: 25.8 | L30: 25.8
A31: Субсидии на софинансирование расходных обязательств по финансовому обеспечению деятельности органов местного самоуправления и муниципальных учреждений | B31: 918 | C31: 01 | D31: 04 | E31: 65 | F31: 2 | G31: 00 | H31: 44205 | J31: =J32+J34+J36 -> 504.66896 | K31: =K32+K34 -> 0 | L31: =L32+L34 -> 0
A32: Расходы на выплаты персоналу в целях обеспечения выполнения функций государственными (муниципальными) органами, казенными учреждениями, органами управления государственными внебюджетными фондами | B32: 918 | C32: 01 | D32: 04 | E32: 65 | F32: 2 | G32: 00 | H32: 44205 | I32: 100 | J32: =J33 -> 402.1238 | K32: =K33 -> 0 | L32: =L33 -> 0
A33: Расходы на выплаты персоналу государственных (муниципальных) органов | B33: 918 | C33: 01 | D33: 04 | E33: 65 | F33: 2 | G33: 00 | H33: 44205 | I33: 120 | J33: =299.6+26.41+30+32+14.1138 -> 402.1238 | K33: 0 | L33: 0
A34: Закупка товаров, работ и услуг для обеспечения государственных (муниципальных) нужд | B34: 918 | C34: 01 | D34: 04 | E34: 65 | F34: 2 | G34: 00 | H34: 44205 | I34: 200 | J34: =J35 -> 77.51615 | K34: =K35 -> 0 | L34: =L35 -> 0
A35: Иные закупки товаров, работ и услуг для обеспечения государственных (муниципальных) нужд | B35: 918 | C35: 01 | D35: 04 | E35: 65 | F35: 2 | G35: 00 | H35: 44205 | I35: 240 | J35: =95.9-18.38385 -> 77.51615 | K35: 0 | L35: 0
A36: Иные бюджетные ассигнования | B36: 918 | C36: 01 | D36: 04 | E36: 65 | F36: 2 | G36: 00 | H36: 44205 | I36: 800 | J36: =J37 -> 25.02901 | K36: =K37 -> 0 | L36: =L37 -> 0
A37: Уплата налогов, сборов и иных платежей | B37: 918 | C37: 01 | D37: 04 | E37: 65 | F37: 2 | G37: 00 | H37: 44205 | I37: 850 | J37: =14.1+14.6-3.67099 -> 25.02901 | K37: 0 | L37: 0
A38: Непрограммные расходы главных распорядителей средств бюджета Паевского сельского поселения Кадошкинского муниципального района Республики Мордовия | B38: 918 | C38: 01 | D38: 04 | E38: 89 | J38: =J39 -> 0.1 | K38: =K39 -> 0.1 | L38: =L39 -> 0.1
A39: Непрограммные расходы в рамках обеспечения деятельности главных распорядителей средств бюджета Паевского сельского поселения Кадошкинского муниципального района Республики Мордовия | B39: 918 | C39: 01 | D39: 04 | E39: 89 | F39: 1 | J39: =J40 -> 0.1 | K39: =K40 -> 0.1 | L39: =L40 -> 0.1
A40: Осуществление государственных полномочий Республики Мордовия по определению перечня должностных лиц, уполномоченных составлять протоколы об административных правонарушениях, предусмотренных Законом Республики Мордовия от 15 июня 2015 года № 38-З "Об административной ответственности на территории Республики Мордовия" | B40: 918 | C40: 01 | D40: 04 | E40: 89 | F40: 1 | G40: 00 | H40: 77150 | J40: =J41 -> 0.1 | K40: =K41 -> 0.1 | L40: =L41 -> 0.1
...

Sheet Прил 3 
I1: Приложение 3 к решению Совета депутатов Паевского сельского поселения "О бюджете Паевского сельского поселения Кадошкинского муниципального района Республики Мордовия на 2022 год и на плановый период 2023 и 2024 годов"
A2: РАСПРЕДЕЛЕНИЕ БЮДЖЕТНЫХ АССИГНОВАНИЙ БЮДЖЕТА ПАЕВСКОГО СЕЛЬСКОГО ПОСЕЛЕНИЯ КАДОШКИНСКОГО МУНИЦИПАЛЬНОГО РАЙОНА РЕСПУБЛИКИ МОРДОВИЯ ПО РАЗДЕЛАМ, ПОДРАЗДЕЛАМ, ЦЕЛЕВЫМ СТАТЬЯМ (МУНИЦИПАЛЬНЫМ ПРОГРАММАМ И НЕПРОГРАММНЫМ НАПРАВЛЕНИЯМ ДЕЯТЕЛЬНОСТИ), ГРУППАМ И ПОДГРУППАМ ВИДОВ РАСХОДОВ КЛАССИФИКАЦИИ РАСХОДОВ БЮДЖЕТОВ НА 2022 ГОД И НА ПЛАНОВЫЙ ПЕРИОД 2023 И 2024 ГОДОВ
K3: (тыс. рублей)
A4: Наименование | B4: Рз | C4: Прз | D4: Цср | H4: Вр | I4: Сумма
I5: 2022 год | J5: 2023 год | K5: 2024 год
A6: 1 | B6: 2 | C6: 3 | D6: 4 | E6: 5 | F6: 6 | G6: 7 | H6: 8 | I6: 9 | J6: 10 | K6: 11
A7: ВСЕГО | I7: =I8+I60+I75+I82+I101+I108+I69 -> 4187.3975 | J7: =J8+J60+J75+J82+J101+J108+J69+J115 -> 957 | K7: =K8+K60+K75+K82+K101+K108+K69+K115 -> 1009.4
A8: Общегосударственные вопросы | B8: 01 | I8: =I9+I18+I41+I47 -> 1982.31 | J8: =J9+J18+J41+J47 -> 369.7 | K8: =K9+K18+K41+K47 -> 377.1
A9: Функционирование высшего должностного лица субъекта Российской Федерации и муниципального образования | B9: 01 | C9: 02 | I9: =I10 -> 490.49104 | J9: =J10 -> 134.5 | K9: =K10 -> 134.3
A10: Обеспечение деятельности администрации | B10: 01 | C10: 02 | D10: 65 | I10: =I11 -> 490.49104 | J10: =J11 -> 134.5 | K10: =K11 -> 134.3
A11: Высшее должностное лицо | B11: 01 | C11: 02 | D11: 65 | E11: 1 | I11: =I12+I15 -> 490.49104 | J11: =J12 -> 134.5 | K11: =K12 -> 134.3
A12: Расходы на выплаты по оплате труда высшего должностного лица | B12: 01 | C12: 02 | D12: 65 | E12: 1 | F12: 00 | G12: 41150 | I12: =I13 -> 339.1 | J12: =J13 -> 134.5 | K12: =K13 -> 134.3
A13: Расходы на выплаты персоналу в целях обеспечения выполнения функций государственными (муниципальными) органами, казенными учреждениями, органами управления государственными внебюджетными фондами | B13: 01 | C13: 02 | D13: 65 | E13: 1 | F13: 00 | G13: 41150 | H13: 100 | I13: =I14 -> 339.1 | J13: =J14 -> 134.5 | K13: =K14 -> 134.3
A14: Расходы на выплаты персоналу государственных (муниципальных) органов | B14: 01 | C14: 02 | D14: 65 | E14: 1 | F14: 00 | G14: 41150 | H14: 120 | I14: ='Прил 2'!J15 -> 339.1 | J14: ='Прил 2'!K15 -> 134.5 | K14: ='Прил 2'!L15 -> 134.3
A15: Субсидии на софинансирование расходных обязательств по финансовому обеспечению деятельности органов местного самоуправления и муниципальных учреждений | B15: 01 | C15: 02 | D15: 65 | E15: 1 | F15: 00 | G15: 44205 | I15: =I16 -> 151.39104 | J15: =J16 -> 0 | K15: =K16 -> 0
A16: Расходы на выплаты персоналу в целях обеспечения выполнения функций государственными (муниципальными) органами, казенными учреждениями, органами управления государственными внебюджетными фондами | B16: 01 | C16: 02 | D16: 65 | E16: 1 | F16: 00 | G16: 44205 | H16: 100 | I16: =I17 -> 151.39104 | J16: =J17 -> 0 | K16: =K17 -> 0
A17: Расходы на выплаты персоналу государственных (муниципальных) органов | B17: 01 | C17: 02 | D17: 65 | E17: 1 | F17: 00 | G17: 44205 | H17: 120 | I17: ='Прил 2'!J18 -> 151.39104 | J17: ='Прил 2'!K18 -> 0 | K17: ='Прил 2'!L18 -> 0
A18: Функционирование Правительства Российской Федерации, высших органов исполнительной власти субъектов Российской Федерации, местных администраций | B18: 01 | C18: 04 | I18: =I19+I37 -> 1489.319 | J18: =J19+J37 -> 232.7 | K18: =K19+K37 -> 240.3
A19: Обеспечение деятельности администрации | B19: 01 | C19: 04 | D19: 65 | I19: =I20 -> 1489.219 | J19: =J20 -> 232.6 | K19: =K20 -> 240.2
A20: Непрограммные расходы в рамках обеспечения деятельности администрации | B20: 01 | C20: 04 | D20: 65 | E20: 2 | I20: =I21+I24+I30 -> 1489.219 | J20: =J21+J24 -> 232.6 | K20: =K21+K24 -> 240.2
A21: Расходы на выплаты по оплате труда работников органов местного самоуправления | B21: 01 | C21: 04 | D21: 65 | E21: 2 | F21: 00 | G21: 41110 | I21: =I22 -> 658.8 | J21: =J22 -> 164 | K21: =K22 -> 119.8
A22: Расходы на выплаты персоналу в целях обеспечения выполнения функций государственными (муниципальными) органами, казенными учреждениями, органами управления государственными внебюджетными фондами | B22: 01 | C22: 04 | D22: 65 | E22: 2 | F22: 00 | G22: 41110 | H22: 100 | I22: =I23 -> 658.8 | J22: =J23 -> 164 | K22: =K23 -> 119.8
A23: Расходы на выплаты персоналу государственных (муниципальных) органов | B23: 01 | C23: 04 | D23: 65 | E23: 2 | F23: 00 | G23: 41110 | H23: 120 | I23: ='Прил 2'!J24 -> 658.8 | J23: ='Прил 2'!K24 -> 164 | K23: ='Прил 2'!L24 -> 119.8
A24: Расходы на обеспечение функций органов местного самоуправления | B24: 01 | C24: 04 | D24: 65 | E24: 2 | F24: 00 | G24: 41120 | I24: =I25+I27 -> 325.75 | J24: =J25+J27 -> 68.6 | K24: =K25+K27 -> 120.4
A25: Закупка товаров, работ и услуг для обеспечения государственных (муниципальных) нужд | B25: 01 | C25: 04 | D25: 65 | E25: 2 | F25: 00 | G25: 41120 | H25: 200 | I25: =I26 -> 242.3 | J25: =J26 -> 42.8 | K25: =K26 -> 94.6
A26: Иные закупки товаров, работ и услуг для обеспечения государственных (муниципальных) нужд | B26: 01 | C26: 04 | D26: 65 | E26: 2 | F26: 00 | G26: 41120 | H26: 240 | I26: ='Прил 2'!J27 -> 242.3 | J26: ='Прил 2'!K27 -> 42.8 | K26: ='Прил 2'!L27 -> 94.6
A27: Иные бюджетные ассигнования | B27: 01 | C27: 04 | D27: 66 | E27: 2 | F27: 00 | G27: 41120 | H27: 800 | I27: =I29+I28 -> 83.45 | J27: =J29 -> 25.8 | K27: =K29 -> 25.8
A28: Исполнение судебных актов | B28: 01 | C28: 04 | D28: 65 | E28: 2 | F28: 00 | G28: 41120 | H28: 830 | I28: ='Прил 2'!J29 -> 15.1 | J28: ='Прил 2'!K29 -> 0 | K28: ='Прил 2'!L29 -> 0
A29: Уплата налогов, сборов и иных платежей | B29: 01 | C29: 04 | D29: 66 | E29: 2 | F29: 00 | G29: 41120 | H29: 850 | I29: ='Прил 2'!J30 -> 68.35 | J29: ='Прил 2'!K30 -> 25.8 | K29: ='Прил 2'!L30 -> 25.8
A30: Субсидии на софинансирование расходных обязательств по финансовому обеспечению деятельности органов местного самоуправления и муниципальных учреждений | B30: 01 | C30: 04 | D30: 65 | E30: 2 | F30: 00 | G30: 44205 | I30: =I31+I33+I35 -> 504.66896 | J30: =J31+J33 -> 0 | K30: =K31+K33 -> 0
A31: Расходы на выплаты персоналу в целях обеспечения выполнения функций государственными (муниципальными) органами, казенными учреждениями, органами управления государственными внебюджетными фондами | B31: 01 | C31: 04 | D31: 65 | E31: 2 | F31: 00 | G31: 44205 | H31: 100 | I31: =I32 -> 402.1238 | J31: =J32 -> 0 | K31: =K32 -> 0
A32: Расходы на выплаты персоналу государственных (муниципальных) органов | B32: 01 | C32: 04 | D32: 65 | E32: 2 | F32: 00 | G32: 44205 | H32: 120 | I32: ='Прил 2'!J33 -> 402.1238 | J32: ='Прил 2'!K33 -> 0 | K32: ='Прил 2'!L33 -> 0
A33: Закупка товаров, работ и услуг для обеспечения государственных (муниципальных) нужд | B33: 01 | C33: 04 | D33: 65 | E33: 2 | F33: 00 | G33: 44205 | H33: 200 | I33: =I34 -> 77.51615 | J33: =J34 -> 0 | K33: =K34 -> 0
A34: Иные закупки товаров, работ и услуг для обеспечения государственных (муниципальных) нужд | B34: 01 | C34: 04 | D34: 65 | E34: 2 | F34: 00 | G34: 44205 | H34: 240 | I34: ='Прил 2'!J35 -> 77.51615 | J34: ='Прил 2'!K35 -> 0 | K34: ='Прил 2'!L35 -> 0
A35: Иные бюджетные ассигнования | B35: 01 | C35: 04 | D35: 65 | E35: 2 | F35: 00 | G35: 44205 | H35: 800 | I35: =I36 -> 25.02901 | J35: =J36 -> 0 | K35: =K36 -> 0
A36: Уплата налогов, сборов и иных платежей | B36: 01 | C36: 04 | D36: 65 | E36: 2 | F36: 00 | G36: 44205 | H36: 850 | I36: ='Прил 2'!J37 -> 25.02901 | J36: ='Прил 2'!K37 -> 0 | K36: ='Прил 2'!L37 -> 0
A37: Непрограммные расходы в рамках обеспечения деятельности главных распорядителей средств бюджета Паевского сельского поселения Кадошкинского муниципального района Республики Мордовия | B37: 01 | C37: 04 | D37: 89 | E37: 1 | I37: =I38 -> 0.1 | J37: =J38 -> 0.1 | K37: =K38 -> 0.1
A38: Осуществление государственных полномочий Республики Мордовия по определению перечня должностных лиц, уполномоченных составлять протоколы об административных правонарушениях, предусмотренных Законом Республики Мордовия от 15 июня 2015 года № 38-З "Об административной ответственности на территории Республики Мордовия" | B38: 01 | C38: 04 | D38: 89 | E38: 1 | F38: 00 | G38: 77150 | I38: =I39 -> 0.1 | J38: =J39 -> 0.1 | K38: =K39 -> 0.1
A39: Закупка товаров, работ и услуг для обеспечения государственных (муниципальных) нужд | B39: 01 | C39: 04 | D39: 89 | E39: 1 | F39: 00 | G39: 77150 | H39: 200 | I39: =I40 -> 0.1 | J39: =J40 -> 0.1 | K39: =K40 -> 0.1
A40: Иные закупки товаров, работ и услуг для обеспечения государственных (муниципальных) нужд | B40: 01 | C40: 04 | D40: 89 | E40: 1 | F40: 00 | G40: 77150 | H40: 240 | I40: ='Прил 2'!J42 -> 0.1 | J40: ='Прил 2'!K42 -> 0.1 | K40: ='Прил 2'!L42 -> 0.1
...

Sheet Прил 4
J1: Приложение 4 к решению Совета депутатов Паевского сельского поселения "О бюджете Паевского сельского поселения Кадошкинского муниципального района Республики Мордовия на 2022 год и на плановый период 2023 и 2024 годов"
A2: РАСПРЕДЕЛЕНИЕ БЮДЖЕТНЫХ АССИГНОВАНИЙ БЮДЖЕТА ПАЕВСКОГО СЕЛЬСКОГО ПОСЕЛЕНИЯ КАДОШКИНСКОГО МУНИЦИПАЛЬНОГО РАЙОНА РЕСПУБЛИКИ МОРДОВИЯ ПО ЦЕЛЕВЫМ СТАТЬЯМ (МУНИЦИПАЛЬНЫМ ПРОГРАММАМ И НЕПРОГРАММНЫМ НАПРАВЛЕНИЯМ ДЕЯТЕЛЬНОСТИ), ГРУППАМ И ПОДГРУППАМ ВИДОВ РАСХОДОВ, РАЗДЕЛАМ И ПОДРАЗДЕЛАМ КЛАССИФИКАЦИИ РАСХОДОВ БЮДЖЕТОВ НА 2022 ГОД НА ПЛАНОВЫЙ ПЕРИОД 2023 И 2024 ГОДОВ
L3: (тыс. рублей)
A4: Наименование | B4: Цср | F4: ВР | G4: Рз | H4: Прз | I4: Адм | J4: Сумма
J5: 2022 год | K5: 2023 год | L5: 2024 год
A6: 1 | B6: 2 | C6: 3 | D6: 4 | E6: 5 | F6: 6 | G6: 7 | H6: 8 | I6: 9 | J6: 10 | K6: 11 | L6: 12
A7: ВСЕГО | J7: =J36+J88+J8+J15+J22+J29 -> 4187.3975 | K7: =K36+K88+K8+K15+K22+K29 -> 957 | L7: =L36+L88+L8+L15+L22+L29 -> 1009.4
A8: Муниципальная программа "Противопожарная безопасность на территории Паевского сельского поселения на 2022-2023г.г." | B8: 08 | J8: =J9 -> 0.5 | K8: =K9 -> 0.5 | L8: =L9 -> 0.5
A9: Мероприятия по обеспечению пожарной безопасности | B9: 08 | C9: 0 | D9: 00 | E9: 42120 | J9: =J10 -> 0.5 | K9: =K10 -> 0.5 | L9: =L10 -> 0.5
A10: Закупка товаров, работ и услуг для обеспечения государственных (муниципальных) нужд | B10: 08 | C10: 0 | D10: 00 | E10: 42120 | F10: 200 | J10: =J11 -> 0.5 | K10: =K11 -> 0.5 | L10: =L11 -> 0.5
A11: Иные закупки товаров, работ и услуг для обеспечения государственных (муниципальных) нужд | B11: 08 | C11: 0 | D11: 00 | E11: 42120 | F11: 240 | J11: =J12 -> 0.5 | K11: =K12 -> 0.5 | L11: =L12 -> 0.5
A12: Общегосударственные вопросы | B12: 08 | C12: 0 | D12: 00 | E12: 42120 | F12: 240 | G12: 01 | J12: =J13 -> 0.5 | K12: =K13 -> 0.5 | L12: =L13 -> 0.5
A13: Другие общегосударственные вопросы | B13: 08 | C13: 0 | D13: 00 | E13: 42120 | F13: 240 | G13: 01 | H13: 13 | J13: =J14 -> 0.5 | K13: =K14 -> 0.5 | L13: =L14 -> 0.5
A14: Администрация Паевского сельского поселения Кадошкинского муниципального района Республики Мордовия | B14: 08 | C14: 0 | D14: 00 | E14: 42120 | F14: 240 | G14: 01 | H14: 13 | I14: 918 | J14: ='Прил 2'!J50 -> 0.5 | K14: ='Прил 2'!K50 -> 0.5 | L14: ='Прил 2'!L50 -> 0.5
A15: Целевая программа "Профилактика наркомании и токсикомании на территории Паевского сельского поселения на 2022-2024 годы" | B15: 20 | J15: =J16 -> 0.5 | K15: =K16 -> 0.5 | L15: =L16 -> 0.5
A16: Мероприятия в области противодействия злоупотреблению наркотиками и их незаконному обороту | B16: 20 | C16: 0 | D16: 00 | E16: 42100 | J16: =J17 -> 0.5 | K16: =K17 -> 0.5 | L16: =L17 -> 0.5
A17: Закупка товаров, работ и услуг для обеспечения государственных (муниципальных) нужд | B17: 20 | C17: 0 | D17: 00 | E17: 42100 | F17: 200 | J17: =J18 -> 0.5 | K17: =K18 -> 0.5 | L17: =L18 -> 0.5
A18: Иные закупки товаров, работ и услуг для обеспечения государственных (муниципальных) нужд | B18: 20 | C18: 0 | D18: 00 | E18: 42100 | F18: 240 | J18: =J19 -> 0.5 | K18: =K19 -> 0.5 | L18: =L19 -> 0.5
A19: Национальная безопасность и правоохранительная деятельность | B19: 20 | C19: 0 | D19: 00 | E19: 42100 | F19: 240 | G19: 03 | J19: =J20 -> 0.5 | K19: =K20 -> 0.5 | L19: =L20 -> 0.5
A20: Другие вопросы в области национальной безопасности и правоохранительной деятельности | B20: 20 | C20: 0 | D20: 00 | E20: 42100 | F20: 240 | G20: 03 | H20: 14 | J20: =J21 -> 0.5 | K20: =K21 -> 0.5 | L20: =L21 -> 0.5
A21: Администрация Паевского сельского поселения Кадошкинского муниципального района Республики Мордовия | B21: 20 | C21: 0 | D21: 00 | E21: 42100 | F21: 240 | G21: 03 | H21: 14 | I21: 918 | J21: ='Прил 2'!J73 -> 0.5 | K21: ='Прил 2'!K73 -> 0.5 | L21: ='Прил 2'!L73 -> 0.5
A22: Антикоррупционная программа Паевского сельского поселения на 2022-2024 годы | B22: 23 | J22: =J23 -> 0.5 | K22: =K23 -> 0.5 | L22: =L23 -> 0.5
A23: Мероприятия по противодействию и профилактике коррупции | B23: 23 | C23: 0 | D23: 0 | E23: 42380 | J23: =J24 -> 0.5 | K23: =K24 -> 0.5 | L23: =L24 -> 0.5
A24: Закупка товаров, работ и услуг для обеспечения государственных (муниципальных) нужд | B24: 23 | C24: 0 | D24: 00 | E24: 42380 | F24: 200 | J24: =J25 -> 0.5 | K24: =K25 -> 0.5 | L24: =L25 -> 0.5
A25: Иные закупки товаров, работ и услуг для обеспечения государственных (муниципальных) нужд | B25: 23 | C25: 0 | D25: 00 | E25: 42380 | F25: 240 | J25: =J26 -> 0.5 | K25: =K26 -> 0.5 | L25: =L26 -> 0.5
A26: Общегосударственные вопросы | B26: 23 | C26: 0 | D26: 00 | E26: 42380 | F26: 240 | G26: 01 | J26: =J27 -> 0.5 | K26: =K27 -> 0.5 | L26: =L27 -> 0.5
A27: Другие общегосударственные вопросы | B27: 23 | C27: 0 | D27: 00 | E27: 42380 | F27: 240 | G27: 01 | H27: 13 | J27: =J28 -> 0.5 | K27: =K28 -> 0.5 | L27: =L28 -> 0.5
A28: Администрация Паевского сельского поселения Кадошкинского муниципального района Республики Мордовия | B28: 23 | C28: 0 | D28: 00 | E28: 42380 | F28: 240 | G28: 01 | H28: 13 | I28: 918 | J28: ='Прил 2'!J54 -> 0.5 | K28: ='Прил 2'!K54 -> 0.5 | L28: ='Прил 2'!L54 -> 0.5
A29: Муниципальная программа "Противодействие терроризму и экстремизму на территории Паевского сельского поселения на 2022-2024 годы" | B29: 31 | J29: =J30 -> 0.5 | K29: =K30 -> 0.5 | L29: =L30 -> 0.5
A30: Мероприятия по укреплению общественного порядка и обеспечению общественной безопасности | B30: 31 | C30: 0 | D30: 0 | E30: 42300 | J30: =J32 -> 0.5 | K30: =K32 -> 0.5 | L30: =L32 -> 0.5
A31: Закупка товаров, работ и услуг для обеспечения государственных (муниципальных) нужд | B31: 31 | C31: 0 | D31: 00 | E31: 42300 | F31: 200 | J31: =J32 -> 0.5 | K31: =K32 -> 0.5 | L31: =L32 -> 0.5
A32: Иные закупки товаров, работ и услуг для обеспечения государственных (муниципальных) нужд | B32: 31 | C32: 0 | D32: 00 | E32: 42300 | F32: 240 | J32: =J33 -> 0.5 | K32: =K33 -> 0.5 | L32: =L33 -> 0.5
A33: Общегосударственные вопросы | B33: 31 | C33: 0 | D33: 00 | E33: 42300 | F33: 240 | G33: 01 | J33: =J34 -> 0.5 | K33: =K34 -> 0.5 | L33: =L34 -> 0.5
A34: Другие общегосударственные вопросы | B34: 31 | C34: 0 | D34: 00 | E34: 42300 | F34: 240 | G34: 01 | H34: 13 | J34: =J35 -> 0.5 | K34: =K35 -> 0.5 | L34: =L35 -> 0.5
A35: Администрация Паевского сельского поселения Кадошкинского муниципального района Республики Мордовия | B35: 31 | C35: 0 | D35: 00 | E35: 42300 | F35: 240 | G35: 01 | H35: 13 | I35: 918 | J35: ='Прил 2'!J58 -> 0.5 | K35: ='Прил 2'!K58 -> 0.5 | L35: ='Прил 2'!L58 -> 0.5
A36: Обеспечение деятельности администрации | B36: 65 | J36: =J37+J50 -> 1979.71 | K36: =K37+K50 -> 367.1 | L36: =L37+L50 -> 374.5
A37: Высшее должностное лицо | B37: 65 | C37: 1 | J37: =J38+J44 -> 490.49104 | K37: =K38 -> 134.5 | L37: =L38 -> 134.3
A38: Расходы на выплаты по оплате труда высшего должностного лица муниципального образования | B38: 65 | C38: 1 | D38: 00 | E38: 41150 | J38: =J41 -> 339.1 | K38: =K41 -> 134.5 | L38: =L41 -> 134.3
A39: Расходы на выплаты персоналу в целях обеспечения выполнения функций государственными (муниципальными) органами, казенными учреждениями, органами управления государственными внебюджетными фондами | B39: 65 | C39: 1 | D39: 00 | E39: 41150 | F39: 100 | J39: =J40 -> 339.1 | K39: =K40 -> 134.5 | L39: =L40 -> 134.3
A40: Расходы на выплаты персоналу государственных (муниципальных) органов | B40: 65 | C40: 1 | D40: 00 | E40: 41150 | F40: 120 | J40: =J41 -> 339.1 | K40: =K41 -> 134.5 | L40: =L41 -> 134.3
...

Sheet Прил 5
C1: Приложение 5 к решению Совета депутатов Паевского сельского поселения "О бюджете Паевского сельского поселения Кадошкинского муниципального района Республики Мордовия на 2022 год и на плановый период 2023 и 2024 годов"
A2: ИСТОЧНИКИ ВНУТРЕННЕГО ФИНАНСИРОВАНИЯ ДЕФИЦИТА БЮДЖЕТА ПАЕВСКОГО СЕЛЬСКОГО ПОСЕЛЕНИЯ КАДОШКИНСКОГО МУНИЦИПАЛЬНОГО РАЙОНА РЕСПУБЛИКИ МОРДОВИЯ НА 2022 ГОД И НА ПЛАНОВЫЙ ПЕРИОД 2023 И 2024 ГОДОВ
E3: (тыс.руб.)
A4: Код | B4: Наименование кода группы, подгруппы, статьи, вида источника финансирования дефицитов бюджетов, кода классификации операций сектора государственного управления, относящихся к источникам финансирования дефицитов бюджетов Российской Федерации | C4: Сумма (тыс. руб.)
C5: 2022 год | D5: 2023 год | E5: 2024 год
A6: 000 01 00 00 00 00 0000 000 | B6: ИСТОЧНИКИ ВНУТРЕННЕГО ФИНАНСИРОВАНИЯ ДЕФИЦИТОВ БЮДЖЕТОВ | C6: =C7+C10+C14 -> -0.00889 | D6: =D7+D10+D14 -> -70.4 | E6: =E7+E10+E14 -> -93.8
A7: 000 01 02 00 00 00 0000 000 | B7: Кредиты кредитных организаций в валюте Российской Федерации | C7: =SUM(C8) -> 0 | D7: =SUM(D8) -> 0 | E7: =SUM(E8) -> 0
A8: 000 01 02 00 00 00 0000 700 | B8: Получение кредитов от кредитных организаций в валюте Российской Федерации | C8: =SUM(C9) -> 0 | D8: =SUM(D9) -> 0 | E8: =SUM(E9) -> 0
A9: 000 01 02 00 00 10 0000 710 | B9: Получение кредитов от кредитных организаций бюджетами сельских поселений в валюте Российской Федерации | C9: 0 | D9: 0 | E9: 0
A10: 000 01 03 00 00 00 0000 000 | B10: Бюджетные кредиты из других бюджетов бюджетной системы Российской Федерации | C10: =C11 -> 0 | D10: =D11 -> -70.4 | E10: =E11 -> -93.8
A11: 000 01 03 01 00 00 0000 800 | B11: Погашение бюджетных кредитов, полученных из других бюджетов бюджетной системы Российской Федерации в валюте Российской Федерации | C11: =C12 -> 0 | D11: =D12 -> -70.4 | E11: =E12 -> -93.8
A12: 000 01 03 01 00 10 0000 800 | B12: Погашение бюджетных кредитов, полученных из других бюджетов бюджетной системы Российской Федерации в валюте Российской Федерации | C12: =SUM(C13) -> 0 | D12: =SUM(D13) -> -70.4 | E12: =SUM(E13) -> -93.8
A13: 000 01 03 01 00 10 0000 810 | B13: Погашение бюджетами сельских поселений кредитов из других бюджетов бюджетной системы Российской Федерации в валюте Российской Федерации | C13: 0 | D13: -70.4 | E13: -93.8
A14: 000 01 05 00 00 00 0000 000 | B14: Изменение остатков средств на счетах по учету средств бюджетов | C14: =C17+C18 -> -0.00889 | D14: =D17+D18 -> 0 | E14: =E17+E18 -> 0
A15: 000 01 05 02 00 00 0000 500 | B15: Увеличение прочих остатков средств бюджетов | C15: =SUM(C16) -> -4187.4064 | D15: =SUM(D16) -> -1027.4 | E15: =SUM(E16) -> -1103.2
A16: 000 01 05 02 01 00 0000 510 | B16: Увеличение прочих остатков денежных средств бюджетов | C16: =SUM(C17) -> -4187.4064 | D16: =SUM(D17) -> -1027.4 | E16: =SUM(E17) -> -1103.2
A17: 000 01 05 02 01 10 0000 510 | B17: Увеличение прочих остатков денежных средств бюджетов сельских поселений | C17: =-('Прил 1'!C7+C9) -> -4187.4064 | D17: =-('Прил 1'!D7+D9) -> -1027.4 | E17: =-('Прил 1'!E7+E9) -> -1103.2
A18: 000 01 05 02 00 00 0000 600 | B18: Уменьшение прочих остатков средств бюджетов | C18: =SUM(C19) -> 4187.3975 | D18: =SUM(D19) -> 1027.4 | E18: =SUM(E19) -> 1103.2
A19: 000 01 05 02 01 00 0000 610 | B19: Уменьшение прочих остатков денежных средств бюджетов | C19: =SUM(C20) -> 4187.3975 | D19: =SUM(D20) -> 1027.4 | E19: =SUM(E20) -> 1103.2
A20: 000 01 05 02 01 10 0000 610 | B20: Уменьшение прочих остатков денежных средств бюджетов сельских поселений | C20: ='Прил 3 '!I7-C13 -> 4187.3975 | D20: ='Прил 3 '!J7-D13 -> 1027.4 | E20: ='Прил 3 '!K7-E13 -> 1103.2

Sheet Прил 6
C1: Приложение 6 к решению Совета депутатов Паевского сельского поселения "О бюджете Паевского сельского поселения Кадошкинского муниципального района Республики Мордовия на 2022 год и на плановый период 2023 и 2024 годов"
A2: ПРОГРАММА МУНИЦИПАЛЬНЫХ ВНУТРЕННИХ ЗАИМСТВОВАНИЙ ПАЕВСКОГО СЕЛЬСКОГО ПОСЕЛЕНИЯ КАДОШКИНСКОГО МУНИЦИПАЛЬНОГО РАЙОНА РЕСПУБЛИКИ МОРДОВИЯ НА 2022 ГОД И НА ПЛАНОВЫЙ ПЕРИОД 2023 И 2024 ГОДОВ
A5: № п/п | B5: Виды заимствований | C5: Сумма (тыс.руб.)
C6: 2022 год | D6: 2023 год | E6: 2024 год
A7: 1 | B7: 2 | C7: 3 | D7: 4 | E7: 5
A8: I | B8: Кредиты кредитных организаций в валюте Российской Федерации | C8: =C10 -> 0 | D8: =D10 -> 0 | E8: =E10 -> 0
B9: в том числе:
A10: 1 | B10: Объем привлечения
A11: 2 | B11: Объем средств, напрвляемых на погашение основной суммы долга
A12: II | B12: Бюджетные кредиты от других бюджетов бюджетной системы Российской Федерации | C12: =C15 -> 0 | D12: =D15 -> -70.4 | E12: =E15 -> -93.8
B13: в том числе
A14: 1 | B14: Объем привлечения
A15: 2 | B15: Объем средств, напрвляемых на погашение основной суммы долга | C15: ='Прил 5'!C13 -> 0 | D15: ='Прил 5'!D13 -> -70.4 | E15: ='Прил 5'!E13 -> -93.8
B16: ВСЕГО | C16: =C10+C15 -> 0 | D16: =D10+D15 -> -70.4 | E16: =E10+E15 -> -93.8
