Workbook
Name _1Excel_BuiltIn_Print_Area_1_1_1: 'Прил 1'!$A$1:$C$29
Name _2Excel_BuiltIn_Print_Area_7_1_1: #REF!
Name _2Excel_BuiltIn_Print_Area_7_1_1: #REF!
Name _Toc105952698: 'Прил 3 '!$A$2
Name _Toc105952698: #REF!
Name Excel_BuiltIn_Print_Area_1: 'Прил 1'!$A$1:$C$29
Name Excel_BuiltIn_Print_Area_1_1: 'Прил 1'!$A$1:$C$29
Name Excel_BuiltIn_Print_Area_2: #REF!
Name Excel_BuiltIn_Print_Area_2: #REF!
Name Excel_BuiltIn_Print_Area_3: #REF!
Name Excel_BuiltIn_Print_Area_3_1: #REF!
Name Excel_BuiltIn_Print_Area_3_1: #REF!
Name Excel_BuiltIn_Print_Area_4: #REF!
Name Excel_BuiltIn_Print_Area_4: #REF!
Name Excel_BuiltIn_Print_Area_5: 'Прил 3 '!$A$1:$I$45
Name Excel_BuiltIn_Print_Area_5: #REF!
Name Excel_BuiltIn_Print_Area_5_1: 'Прил 3 '!$A$1:$I$45
Name Excel_BuiltIn_Print_Area_5_1: #REF!
Name Excel_BuiltIn_Print_Area_6: 'Прил 2'!$A$1:$G$46
Name Excel_BuiltIn_Print_Area_6_1: 'Прил 2'!$A$1:$G$46
Name Excel_BuiltIn_Print_Area_7: #REF!
Name Excel_BuiltIn_Print_Area_7: #REF!
Name Excel_BuiltIn_Print_Area_7_1: #REF!
Name Excel_BuiltIn_Print_Area_7_1: #REF!

Sheet Прил 1
C1: Приложение 1 к решению Совета депутатов Большеполянского сельского поселения "Об исполнении бюджета Большеполянского сельского поселения Кадошкинского муниципального района Республики Мордовия за 2022 год"
A2: ДОХОДЫ БЮДЖЕТА БОЛЬШЕПОЛЯНСКОГО СЕЛЬСКОГО ПОСЕЛЕНИЯ КАДОШКИНСКОГО МУНИЦИПАЛЬНОГО РАЙОНА РЕСПУБЛИКИ МОРДОВИЯ
C3: (тыс.рублей)
A4: Код бюджетной классификации доходов бюджета | B4: Наименование доходов | C4: Сумма
C5: План 2022 год | D5: Исполнение 2022 год | E5: % исполнения
A6: 1 | B6: 2 | C6: 3 | D6: 4 | E6: 5
B7: ВСЕГО ДОХОДОВ | C7: =SUM(C8+C19+C30) -> 1800.4 | D7: =SUM(D8+D19+D30) -> 1790.2 | E7: =D7/C7*100 -> 99.433459
A8: 00010000000000000000 | B8: НАЛОГОВЫЕ И НЕНАЛОГОВЫЕ ДОХОДЫ | C8: =C9+C12+C14+C16 -> 382 | D8: =D9+D12+D14+D16 -> 371.8 | E8: =D8/C8*100 -> 97.329843
A9: 00010100000000000000 | B9: НАЛОГИ НА ПРИБЫЛЬ, ДОХОДЫ | C9: =SUM(C10) -> 17 | D9: =SUM(D10) -> 20.7 | E9: =D9/C9*100 -> 121.76471
A10: 00010102000010000110 | B10: Налог на доходы физических лиц | C10: =SUM(C11) -> 17 | D10: =SUM(D11) -> 20.7 | E10: =D10/C10*100 -> 121.76471
A11: 18210102010010000110 | B11: Налог на доходы физических лиц с доходов, источником которых является налоговый агент, за исключением доходов, в отношении которых исчисление и уплата налога осуществляются в соответствии со статьями 227, 2271 и 228 Налогового кодекса Российской Федерации | C11: 17 | D11: 20.7 | E11: =D11/C11*100 -> 121.76471
A12: 00010500000000000000 | B12: НАЛОГИ НА СОВОКУПНЫЙ ДОХОД | C12: =SUM(C13) -> 1 | D12: =SUM(D13) -> 0 | E12: =D12/C12*100 -> 0
A13: 18210503010010000110 | B13: Единый сельскохозяйственный налог | C13: 1 | D13: 0 | E13: =D13/C13*100 -> 0
A14: 00010600000000000000 | B14: НАЛОГИ НА ИМУЩЕСТВО | C14: =SUM(C15) -> 35 | D14: =SUM(D15) -> 45.6 | E14: =D14/C14*100 -> 130.28571
A15: 18210601030100000110 | B15: Налог на имущество физических лиц, взимаемый по ставкам, применяемым к объектам налогообложения, расположенным в границах сельских поселений | C15: 35 | D15: 45.6 | E15: =D15/C15*100 -> 130.28571
A16: 00010606000000000110 | B16: Земельный налог | C16: =SUM(C17+C18) -> 329 | D16: =SUM(D17+D18) -> 305.5 | E16: =D16/C16*100 -> 92.857143
A17: 18210606033100000110 | B17: Земельный налог с организаций, обладающих земельным участком, расположенным в границах сельских поселений | C17: 180 | D17: 209.8 | E17: =D17/C17*100 -> 116.55556
A18: 18210606043100000110 | B18: Земельный налог с физических лиц, обладающих земельным участком, расположенным в границах сельских поселений | C18: 149 | D18: 95.7 | E18: =D18/C18*100 -> 64.228188
A19: 00020200000000000000 | B19: БЕЗВОЗМЕЗДНЫЕ ПОСТУПЛЕНИЯ ОТ ДРУГИХ БЮДЖЕТОВ БЮДЖЕТНОЙ СИСТЕМЫ РОССИЙСКОЙ ФЕДЕРАЦИИ | C19: =C25+C28+C20+C23 -> 1398.4 | D19: =D25+D28+D20+D23 -> 1398.4 | E19: =D19/C19*100 -> 100
A20: 00020210000000000150 | B20: Дотации бюджетам бюджетной системы Российской Федерации | C20: =C21+C22 -> 386.9 | D20: =D21+D22 -> 386.9 | E20: =D20/C20*100 -> 100
A21: 91120215001100000150 | B21: Дотации бюджетам сельских поселений на выравнивание бюджетной обеспеченности | C21: =158.8+6.6 -> 165.4 | D21: 165.4 | E21: =D21/C21*100 -> 100
A22: 91120215002100000150 | B22: Дотации бюджетам сельских поселений на поддержку мер по обеспечению сбалансированности бюджетов | C22: 221.5 | D22: 221.5 | E22: =D22/C22*100 -> 100
A23: 00020220000000000150 | B23: Субсидии бюджетам бюджетной системы Российской Федерации (межбюджетные субсидии) | C23: =C24 -> 472 | D23: =D24 -> 472 | E23: =D23/C23*100 -> 100
A24: 91120229999100000150 | B24: Прочие субсидии бюджетам сельских поселений | C24: =250+160+62 -> 472 | D24: 472 | E24: =D24/C24*100 -> 100
A25: 00020230000000000150 | B25: Субвенции бюджетам бюджетной системы Российской Федерации | C25: =SUM(C26+C27) -> 95.4 | D25: =SUM(D26+D27) -> 95.4 | E25: =D25/C25*100 -> 100
A26: 91120230024100000150 | B26: Субвенции на осуществление государственных полномочий Республики Мордовия по определению перечня должностных лиц, уполномоченных составлять протоколы об административных правонарушениях, предусмотренных Законом Республики Мордовия от 15 июня 2015 года № 38-З "Об административной ответственности на территории Республики Мордовия" | C26: 0.1 | D26: 0.1 | E26: =D26/C26*100 -> 100
A27: 91120235118100000150 | B27: Субвенции бюджетам сельских поселений на осуществление первичного воинского учета на территориях, где отсутствуют военные комиссариаты | C27: =89.8+5.5 -> 95.3 | D27: 95.3 | E27: =D27/C27*100 -> 100
A28: 00020240000000000150 | B28: Иные межбюджетные трансферты | C28: =SUM(C29) -> 444.1 | D28: =SUM(D29) -> 444.1 | E28: =D28/C28*100 -> 100
A29: 91120240014100000150 | B29: Межбюджетные трансферты, передаваемые бюджетам сельских поселений из бюджетов муниципальных районов на осуществление части полномочий по решению вопросов местного значения в соответствии с заключенными соглашениями | C29: =30.4+257.4+96.3+40+20 -> 444.1 | D29: 444.1 | E29: =D29/C29*100 -> 100
A30: 00020700000000000000 | B30: ПРОЧИЕ БЕЗВОЗМЕЗДНЫЕ ПОСТУПЛЕНИЯ | C30: =C31 -> 20 | D30: =D31 -> 20 | E30: =D30/C30*100 -> 100
A31: 91120705030100000150 | B31: Прочие безвозмездные поступления в бюджеты сельских поселений | C31: 20 | D31: 20 | E31: =D31/C31*100 -> 100

Sheet Прил 2
J1: Приложение 2 к решению Совета депутатов Большеполянского сельского поселения "Об исполнении бюджета Большеполянского сельского поселения Кадошкинского муниципального района Республики Мордовия за 2022 год"
A2: ВЕДОМСТВЕННАЯ СТРУКТУРА РАСХОДОВ БЮДЖЕТА БОЛЬШЕПОЛЯНСКОГО СЕЛЬСКОГО ПОСЕЛЕНИЯ КАДОШКИНСКОГО МУНИЦИПАЛЬНОГО РАЙОНА РЕСПУБЛИКИ МОРДОВИЯ НА 2022 ГОД
L3: (тыс. рублей)
A4: Наименование | B4: Адм | C4: Рз | D4: Прз | E4: Цср | I4: Вр | J4: Сумма
J5: План 2022 год | K5: Исполнение 2022 год | L5: % исполнения
A6: 1 | B6: 2 | C6: 3 | D6: 4 | E6: 5 | F6: 6 | G6: 7 | H6: 8 | I6: 9 | J6: 10 | K6: 11 | L6: 12
A7: ВСЕГО | J7: =J8 -> 1833.381 | K7: =K8 -> 1797.682 | L7: =K7/J7*100 -> 98.052832
A8: Администрация Большеполянского сельского поселения Кадошкинского муниципального района Республики Мордовия | B8: 911 | J8: =J9+J47+J56+J63+J76+J83 -> 1833.381 | K8: =K9+K47+K56+K63+K76+K83 -> 1797.682 | L8: =K8/J8*100 -> 98.052832
A9: Общегосударственные вопросы | B9: 911 | C9: 01 | J9: =J10+J19+J41 -> 1179.643 | K9: =K10+K19+K41 -> 1173.682 | L9: =K9/J9*100 -> 99.494678
A10: Функционирование высшего должностного лица субъекта Российской Федерации и муниципального образования | B10: 911 | C10: 01 | D10: 02 | J10: =J11 -> 476.38 | K10: =K11 -> 476.3 | L10: =K10/J10*100 -> 99.983207
A11: Обеспечение деятельности администрации | B11: 911 | C11: 01 | D11: 02 | E11: 65 | J11: =J12 -> 476.38 | K11: =K12 -> 476.3 | L11: =K11/J11*100 -> 99.983207
A12: Высшее должностное лицо | B12: 911 | C12: 01 | D12: 02 | E12: 65 | F12: 1 | J12: =J13+J16 -> 476.38 | K12: =K13+K16 -> 476.3 | L12: =K12/J12*100 -> 99.983207
A13: Расходы на выплаты по оплате труда высшего должностного лица | B13: 911 | C13: 01 | D13: 02 | E13: 65 | F13: 1 | G13: 00 | H13: 41150 | J13: =J14 -> 224.38 | K13: =K14 -> 224.3 | L13: =K13/J13*100 -> 99.964346
A14: Расходы на выплаты персоналу в целях обеспечения выполнения функций государственными (муниципальными) органами, казенными учреждениями, органами управления государственными внебюджетными фондами | B14: 911 | C14: 01 | D14: 02 | E14: 65 | F14: 1 | G14: 00 | H14: 41150 | I14: 100 | J14: =J15 -> 224.38 | K14: =K15 -> 224.3 | L14: =K14/J14*100 -> 99.964346
A15: Расходы на выплаты персоналу государственных (муниципальных) органов | B15: 911 | C15: 01 | D15: 02 | E15: 65 | F15: 1 | G15: 00 | H15: 41150 | I15: 120 | J15: =258-3.52-30.1 -> 224.38 | K15: 224.3 | L15: =K15/J15*100 -> 99.964346
A16: Субсидии на софинансирование расходных обязательств по финансовому обеспечению деятельности органов местного самоуправления и муниципальных учреждений | B16: 911 | C16: 01 | D16: 02 | E16: 65 | F16: 1 | G16: 00 | H16: 44205 | J16: =J17 -> 252 | K16: =K17 -> 252 | L16: =K16/J16*100 -> 100
A17: Расходы на выплаты персоналу в целях обеспечения выполнения функций государственными (муниципальными) органами, казенными учреждениями, органами управления государственными внебюджетными фондами | B17: 911 | C17: 01 | D17: 02 | E17: 65 | F17: 1 | G17: 00 | H17: 44205 | I17: 100 | J17: =J18 -> 252 | K17: =K18 -> 252 | L17: =K17/J17*100 -> 100
A18: Расходы на выплаты персоналу государственных (муниципальных) органов | B18: 911 | C18: 01 | D18: 02 | E18: 65 | F18: 1 | G18: 00 | H18: 44205 | I18: 120 | J18: =100+120+32 -> 252 | K18: 252 | L18: =K18/J18*100 -> 100
A19: Функционирование Правительства Российской Федерации, высших органов исполнительной власти субъектов Российской Федерации, местных администраций | B19: 911 | C19: 01 | D19: 04 | J19: =J20+J36 -> 702.263 | K19: =K20+K36 -> 697.382 | L19: =K19/J19*100 -> 99.304961
A20: Обеспечение деятельности администрации | B20: 911 | C20: 01 | D20: 04 | E20: 65 | J20: =J21 -> 702.163 | K20: =K21 -> 697.282 | L20: =K20/J20*100 -> 99.304862
A21: Непрограммные расходы в рамках обеспечения деятельности администрации | B21: 911 | C21: 01 | D21: 04 | E21: 65 | F21: 2 | J21: =J23+J25+J31 -> 702.163 | K21: =K23+K25+K31 -> 697.282 | L21: =K21/J21*100 -> 99.304862
A22: Расходы на выплаты по оплате труда работников органов местного самоуправления | B22: 911 | C22: 01 | D22: 04 | E22: 65 | F22: 2 | G22: 00 | H22: 41110 | J22: =J23 -> 309.385 | K22: =K23 -> 309.4 | L22: =K22/J22*100 -> 100.00485
A23: Расходы на выплаты персоналу в целях обеспечения выполнения функций государственными (муниципальными) органами, казенными учреждениями, органами управления государственными внебюджетными фондами | B23: 911 | C23: 01 | D23: 04 | E23: 65 | F23: 2 | G23: 00 | H23: 41110 | I23: 100 | J23: =J24 -> 309.385 | K23: =K24 -> 309.4 | L23: =K23/J23*100 -> 100.00485
A24: Расходы на выплаты персоналу государственных (муниципальных) органов | B24: 911 | C24: 01 | D24: 04 | E24: 65 | F24: 2 | G24: 00 | H24: 41110 | I24: 120 | J24: =294.8+9+0.38+5.205 -> 309.385 | K24: 309.4 | L24: =K24/J24*100 -> 100.00485
A25: Расходы на обеспечение функций органов местного самоуправленя | B25: 911 | C25: 01 | D25: 04 | E25: 65 | F25: 2 | G25: 00 | H25: 41120 | J25: =J26+J28 -> 168.016 | K25: =K26+K28 -> 167.982 | L25: =K25/J25*100 -> 99.979764
A26: Закупка товаров, работ и услуг для обеспечения государственных (муниципальных) нужд | B26: 911 | C26: 01 | D26: 04 | E26: 65 | F26: 2 | G26: 00 | H26: 41120 | I26: 200 | J26: =J27 -> 158.431 | K26: =K27 -> 158.4 | L26: =K26/J26*100 -> 99.980433
A27: Иные закупки товаров, работ и услуг для обеспечения государственных (муниципальных) нужд | B27: 911 | C27: 01 | D27: 04 | E27: 65 | F27: 2 | G27: 00 | H27: 41120 | I27: 240 | J27: =75.1+83.331 -> 158.431 | K27: 158.4 | L27: =K27/J27*100 -> 99.980433
A28: Иные бюджетные ассигнования | B28: 911 | C28: 01 | D28: 04 | E28: 65 | F28: 2 | G28: 00 | H28: 41120 | I28: 800 | J28: =J30+J29 -> 9.585 | K28: =K30+K29 -> 9.582 | L28: =K28/J28*100 -> 99.968701
A29: Исполнение судебных актов | B29: 911 | C29: 01 | D29: 04 | E29: 65 | F29: 2 | G29: 00 | H29: 41120 | I29: 830 | J29: 1 | K29: 1 | L29: =K29/J29*100 -> 100
A30: Уплата налогов, сборов и иных платежей | B30: 911 | C30: 01 | D30: 04 | E30: 65 | F30: 2 | G30: 00 | H30: 41120 | I30: 850 | J30: =30-10.616-1.01-9.789 -> 8.585 | K30: 8.582 | L30: =K30/J30*100 -> 99.965055
A31: Субсидии на софинансирование расходных обязательств по финансовому обеспечению деятельности органов местного самоуправления и муниципальных учреждений | B31: 911 | C31: 01 | D31: 04 | E31: 65 | F31: 2 | G31: 00 | H31: 44205 | J31: =J32+J34 -> 224.762 | K31: =K32+K34 -> 219.9 | L31: =K31/J31*100 -> 97.836823
A32: Расходы на выплаты персоналу в целях обеспечения выполнения функций государственными (муниципальными) органами, казенными учреждениями, органами управления государственными внебюджетными фондами | B32: 911 | C32: 01 | D32: 04 | E32: 65 | F32: 2 | G32: 00 | H32: 44205 | I32: 100 | J32: =J33 -> 147.762 | K32: =K33 -> 147.8 | L32: =K32/J32*100 -> 100.02572
A33: Расходы на выплаты персоналу государственных (муниципальных) органов | B33: 911 | C33: 01 | D33: 04 | E33: 65 | F33: 2 | G33: 00 | H33: 44205 | I33: 120 | J33: =75.52+41.616+30.626 -> 147.762 | K33: 147.8 | L33: =K33/J33*100 -> 100.02572
A34: Закупка товаров, работ и услуг для обеспечения государственных (муниципальных) нужд | B34: 911 | C34: 01 | D34: 04 | E34: 65 | F34: 2 | G34: 00 | H34: 44205 | I34: 200 | J34: =J35 -> 77 | K34: =K35 -> 72.1 | L34: =K34/J34*100 -> 93.636364
A35: Иные закупки товаров, работ и услуг для обеспечения государственных (муниципальных) нужд | B35: 911 | C35: 01 | D35: 04 | E35: 65 | F35: 2 | G35: 00 | H35: 44205 | I35: 240 | J35: 77 | K35: 72.1 | L35: =K35/J35*100 -> 93.636364
A36: Непрограммные расходы главных распорядителей средств бюджета Большеполянского сельского поселения Кадошкинского муниципального района Республики Мордовия | B36: 911 | C36: 01 | D36: 04 | E36: 89 | J36: =J37 -> 0.1 | K36: =K37 -> 0.1 | L36: =K36/J36*100 -> 100
A37: Непрограммные расходы в рамках обеспечения деятельности главных распорядителей средств бюджета Большеполянского сельского поселения Кадошкинского муниципального района Республики Мордовия | B37: 911 | C37: 01 | D37: 04 | E37: 89 | F37: 1 | J37: =J38 -> 0.1 | K37: =K38 -> 0.1 | L37: =K37/J37*100 -> 100
A38: Осуществление государственных полномочий Республики Мордовия по определению перечня должностных лиц, уполномоченных составлять протоколы об административных правонарушениях, предусмотренных Законом Республики Мордовия от 15 июня 2015 года № 38-З "Об административной ответственности на территории Республики Мордовия" | B38: 911 | C38: 01 | D38: 04 | E38: 89 | F38: 1 | G38: 00 | H38: 77150 | J38: =J39 -> 0.1 | K38: =K39 -> 0.1 | L38: =K38/J38*100 -> 100
A39: Закупка товаров, работ и услуг для обеспечения государственных (муниципальных) нужд | B39: 911 | C39: 01 | D39: 04 | E39: 89 | F39: 1 | G39: 00 | H39: 77150 | I39: 200 | J39: =J40 -> 0.1 | K39: =K40 -> 0.1 | L39: =K39/J39*100 -> 100
A40: Иные закупки товаров, работ и услуг для обеспечения государственных (муниципальных) нужд | B40: 911 | C40: 01 | D40: 04 | E40: 89 | F40: 1 | G40: 00 | H40: 77150 | I40: 240 | J40: 0.1 | K40: 0.1 | L40: =K40/J40*100 -> 100
...

Sheet Прил 3 
I1: Приложение 3 к решению Совета депутатов Большеполянского сельского поселения "Об исполнении бюджета Большеполянского сельского поселения Кадошкинского муниципального района Республики Мордовия за 2022 год"
A2: РАСПРЕДЕЛЕНИЕ БЮДЖЕТНЫХ АССИГНОВАНИЙ БЮДЖЕТА БОЛЬШЕПОЛЯНСКОГО СЕЛЬСКОГО ПОСЕЛЕНИЯ КАДОШКИНСКОГО МУНИЦИПАЛЬНОГО РАЙОНА РЕСПУБЛИКИ МОРДОВИЯ ПО РАЗДЕЛАМ, ПОДРАЗДЕЛАМ, ЦЕЛЕВЫМ СТАТЬЯМ (МУНИЦИПАЛЬНЫМ ПРОГРАММАМ И НЕПРОГРАММНЫМ НАПРАВЛЕНИЯМ ДЕЯТЕЛЬНОСТИ), ГРУППАМ И ПОДГРУППАМ ВИДОВ РАСХОДОВ КЛАССИФИКАЦИИ РАСХОДОВ БЮДЖЕТОВ НА 2022 ГОД
K3: (тыс. рублей)
A4: Наименование | B4: Рз | C4: Прз | D4: Цср | H4: Вр | I4: Сумма
I5: План 2022 год | J5: Исполнение 2022 год | K5: % исполнения
A6: 1 | B6: 2 | C6: 3 | D6: 4 | E6: 5 | F6: 6 | G6: 7 | H6: 8 | I6: 9 | J6: 10 | K6: 11
A7: ВСЕГО | I7: =I8+I46+I55+I62+I75+I82 -> 1833.381 | J7: =J8+J46+J55+J62+J75+J82 -> 1797.682 | K7: =J7/I7*100 -> 98.052832
A8: Общегосударственные вопросы | B8: 01 | I8: =I9+I18+I40 -> 1179.643 | J8: =J9+J18+J40 -> 1173.682 | K8: =J8/I8*100 -> 99.494678
A9: Функционирование высшего должностного лица субъекта Российской Федерации и муниципального образования | B9: 01 | C9: 02 | I9: =I10 -> 476.38 | J9: =J10 -> 476.3 | K9: =J9/I9*100 -> 99.983207
A10: Обеспечение деятельности администрации | B10: 01 | C10: 02 | D10: 65 | I10: =I11 -> 476.38 | J10: =J11 -> 476.3 | K10: =J10/I10*100 -> 99.983207
A11: Высшее должностное лицо | B11: 01 | C11: 02 | D11: 65 | E11: 1 | I11: =I12+I15 -> 476.38 | J11: =J12+J15 -> 476.3 | K11: =J11/I11*100 -> 99.983207
A12: Расходы на выплаты по оплате труда высшего должностного лица | B12: 01 | C12: 02 | D12: 65 | E12: 1 | F12: 00 | G12: 41150 | I12: =I13 -> 224.38 | J12: =J13 -> 224.3 | K12: =J12/I12*100 -> 99.964346
A13: Расходы на выплаты персоналу в целях обеспечения выполнения функций государственными (муниципальными) органами, казенными учреждениями, органами управления государственными внебюджетными фондами | B13: 01 | C13: 02 | D13: 65 | E13: 1 | F13: 00 | G13: 41150 | H13: 100 | I13: =I14 -> 224.38 | J13: =J14 -> 224.3 | K13: =J13/I13*100 -> 99.964346
A14: Расходы на выплаты персоналу государственных (муниципальных) органов | B14: 01 | C14: 02 | D14: 65 | E14: 1 | F14: 00 | G14: 41150 | H14: 120 | I14: ='Прил 2'!J15 -> 224.38 | J14: ='Прил 2'!K15 -> 224.3 | K14: =J14/I14*100 -> 99.964346
A15: Субсидии на софинансирование расходных обязательств по финансовому обеспечению деятельности органов местного самоуправления и муниципальных учреждений | B15: 01 | C15: 02 | D15: 65 | E15: 1 | F15: 00 | G15: 44205 | I15: =I16 -> 252 | J15: =J16 -> 252 | K15: =J15/I15*100 -> 100
A16: Расходы на выплаты персоналу в целях обеспечения выполнения функций государственными (муниципальными) органами, казенными учреждениями, органами управления государственными внебюджетными фондами | B16: 01 | C16: 02 | D16: 65 | E16: 1 | F16: 00 | G16: 44205 | H16: 100 | I16: =I17 -> 252 | J16: =J17 -> 252 | K16: =J16/I16*100 -> 100
A17: Расходы на выплаты персоналу государственных (муниципальных) органов | B17: 01 | C17: 02 | D17: 65 | E17: 1 | F17: 00 | G17: 44205 | H17: 120 | I17: ='Прил 2'!J18 -> 252 | J17: ='Прил 2'!K18 -> 252 | K17: =J17/I17*100 -> 100
A18: Функционирование Правительства Российской Федерации, высших органов исполнительной власти субъектов Российской Федерации, местных администраций | B18: 01 | C18: 04 | I18: =I19+I35 -> 702.263 | J18: =J19+J35 -> 697.382 | K18: =J18/I18*100 -> 99.304961
A19: Обеспечение деятельности администрации | B19: 01 | C19: 04 | D19: 65 | I19: =I20 -> 702.163 | J19: =J20 -> 697.282 | K19: =J19/I19*100 -> 99.304862
A20: Непрограммные расходы в рамках обеспечения деятельности администрации | B20: 01 | C20: 04 | D20: 65 | E20: 2 | I20: =I21+I24+I30 -> 702.163 | J20: =J21+J24+J30 -> 697.282 | K20: =J20/I20*100 -> 99.304862
A21: Расходы на выплаты по оплате труда работников органов местного самоуправления | B21: 01 | C21: 04 | D21: 65 | E21: 2 | F21: 00 | G21: 41110 | I21: =I22 -> 309.385 | J21: =J22 -> 309.4 | K21: =J21/I21*100 -> 100.00485
A22: Расходы на выплаты персоналу в целях обеспечения выполнения функций государственными (муниципальными) органами, казенными учреждениями, органами управления государственными внебюджетными фондами | B22: 01 | C22: 04 | D22: 65 | E22: 2 | F22: 00 | G22: 41110 | H22: 100 | I22: =I23 -> 309.385 | J22: =J23 -> 309.4 | K22: =J22/I22*100 -> 100.00485
A23: Расходы на выплаты персоналу государственных (муниципальных) органов | B23: 01 | C23: 04 | D23: 65 | E23: 2 | F23: 00 | G23: 41110 | H23: 120 | I23: ='Прил 2'!J24 -> 309.385 | J23: ='Прил 2'!K24 -> 309.4 | K23: =J23/I23*100 -> 100.00485
A24: Расходы на обеспечение функций органов местного самоуправления | B24: 01 | C24: 04 | D24: 65 | E24: 2 | F24: 00 | G24: 41120 | I24: =I25+I27 -> 168.016 | J24: =J25+J27 -> 167.982 | K24: =J24/I24*100 -> 99.979764
A25: Закупка товаров, работ и услуг для обеспечения государственных (муниципальных) нужд | B25: 01 | C25: 04 | D25: 65 | E25: 2 | F25: 00 | G25: 41120 | H25: 200 | I25: =I26 -> 158.431 | J25: =J26 -> 158.4 | K25: =J25/I25*100 -> 99.980433
A26: Иные закупки товаров, работ и услуг для обеспечения государственных (муниципальных) нужд | B26: 01 | C26: 04 | D26: 65 | E26: 2 | F26: 00 | G26: 41120 | H26: 240 | I26: ='Прил 2'!J27 -> 158.431 | J26: ='Прил 2'!K27 -> 158.4 | K26: =J26/I26*100 -> 99.980433
A27: Иные бюджетные ассигнования | B27: 01 | C27: 04 | D27: 66 | E27: 2 | F27: 00 | G27: 41120 | H27: 800 | I27: =I29+I28 -> 9.585 | J27: =J29+J28 -> 9.582 | K27: =J27/I27*100 -> 99.968701
A28: Исполнение судебных актов | B28: 01 | C28: 04 | D28: 65 | E28: 2 | F28: 00 | G28: 41120 | H28: 830 | I28: ='Прил 2'!J29 -> 1 | J28: ='Прил 2'!K29 -> 1 | K28: =J28/I28*100 -> 100
A29: Уплата налогов, сборов и иных платежей | B29: 01 | C29: 04 | D29: 66 | E29: 2 | F29: 00 | G29: 41120 | H29: 850 | I29: ='Прил 2'!J30 -> 8.585 | J29: ='Прил 2'!K30 -> 8.582 | K29: =J29/I29*100 -> 99.965055
A30: Субсидии на софинансирование расходных обязательств по финансовому обеспечению деятельности органов местного самоуправления и муниципальных учреждений | B30: 01 | C30: 04 | D30: 65 | E30: 2 | F30: 00 | G30: 44205 | I30: =I31+I33 -> 224.762 | J30: =J31+J33 -> 219.9 | K30: =J30/I30*100 -> 97.836823
A31: Расходы на выплаты персоналу в целях обеспечения выполнения функций государственными (муниципальными) органами, казенными учреждениями, органами управления государственными внебюджетными фондами | B31: 01 | C31: 04 | D31: 65 | E31: 2 | F31: 00 | G31: 44205 | H31: 100 | I31: =I32 -> 147.762 | J31: =J32 -> 147.8 | K31: =J31/I31*100 -> 100.02572
A32: Расходы на выплаты персоналу государственных (муниципальных) органов | B32: 01 | C32: 04 | D32: 65 | E32: 2 | F32: 00 | G32: 44205 | H32: 120 | I32: ='Прил 2'!J33 -> 147.762 | J32: ='Прил 2'!K33 -> 147.8 | K32: =J32/I32*100 -> 100.02572
A33: Закупка товаров, работ и услуг для обеспечения государственных (муниципальных) нужд | B33: 01 | C33: 04 | D33: 65 | E33: 2 | F33: 00 | G33: 44205 | H33: 200 | I33: =I34 -> 77 | J33: =J34 -> 72.1 | K33: =J33/I33*100 -> 93.636364
A34: Иные закупки товаров, работ и услуг для обеспечения государственных (муниципальных) нужд | B34: 01 | C34: 04 | D34: 65 | E34: 2 | F34: 00 | G34: 44205 | H34: 240 | I34: ='Прил 2'!J35 -> 77 | J34: ='Прил 2'!K35 -> 72.1 | K34: =J34/I34*100 -> 93.636364
A35: Непрограммные расходы главных распорядителей средств бюджета Большеполянского сельского поселения Кадошкинского муниципального района Республики Мордовия | B35: 01 | C35: 04 | D35: 89 | I35: =I36 -> 0.1 | J35: =J36 -> 0.1 | K35: =J35/I35*100 -> 100
A36: Непрограммные расходы в рамках обеспечения деятельности главных распорядителей средств бюджета Большеполянского сельского поселения Кадошкинского муниципального района Республики Мордовия | B36: 01 | C36: 04 | D36: 89 | E36: 1 | I36: =I37 -> 0.1 | J36: =J37 -> 0.1 | K36: =J36/I36*100 -> 100
A37: Осуществление государственных полномочий Республики Мордовия по определению перечня должностных лиц, уполномоченных составлять протоколы об административных правонарушениях, предусмотренных Законом Республики Мордовия от 15 июня 2015 года № 38-З "Об административной ответственности на территории Республики Мордовия" | B37: 01 | C37: 04 | D37: 89 | E37: 1 | F37: 00 | G37: 77150 | I37: =I38 -> 0.1 | J37: =J38 -> 0.1 | K37: =J37/I37*100 -> 100
A38: Закупка товаров, работ и услуг для обеспечения государственных (муниципальных) нужд | B38: 01 | C38: 04 | D38: 89 | E38: 1 | F38: 00 | G38: 77150 | H38: 200 | I38: =I39 -> 0.1 | J38: =J39 -> 0.1 | K38: =J38/I38*100 -> 100
A39: Иные закупки товаров, работ и услуг для обеспечения государственных (муниципальных) нужд | B39: 01 | C39: 04 | D39: 89 | E39: 1 | F39: 00 | G39: 77150 | H39: 240 | I39: ='Прил 2'!J40 -> 0.1 | J39: ='Прил 2'!K40 -> 0.1 | K39: =J39/I39*100 -> 100
A40: Резервные фонды | B40: 01 | C40: 11 | I40: =I41 -> 1 | J40: =J41 -> 0 | K40: =J40/I40*100 -> 0
...

Sheet Прил 4
J1: Приложение 4 к решению Совета депутатов Большеполянского сельского поселения "Об исполнении бюджета Большеполянского сельского поселения Кадошкинского муниципального района Республики Мордовия за 2022 год"
A2: РАСПРЕДЕЛЕНИЕ БЮДЖЕТНЫХ АССИГНОВАНИЙ БЮДЖЕТА БОЛЬШЕПОЛЯНСКОГО СЕЛЬСКОГО ПОСЕЛЕНИЯ КАДОШКИНСКОГО МУНИЦИПАЛЬНОГО РАЙОНА РЕСПУБЛИКИ МОРДОВИЯ ПО ЦЕЛЕВЫМ СТАТЬЯМ (МУНИЦИПАЛЬНЫМ ПРОГРАММАМ И НЕПРОГРАММНЫМ НАПРАВЛЕНИЯМ ДЕЯТЕЛЬНОСТИ), ГРУППАМ И ПОДГРУППАМ ВИДОВ РАСХОДОВ, РАЗДЕЛАМ И ПОДРАЗДЕЛАМ КЛАССИФИКАЦИИ РАСХОДОВ БЮДЖЕТОВ НА 2022 ГОД
L3: (тыс. рублей)
A4: Наименование | B4: Цср | F4: ВР | G4: Рз | H4: Прз | I4: Адм | J4: Сумма
J5: План 2022 год | K5: Исполнение 2022 год | L5: % исполнения
A6: 1 | B6: 2 | C6: 3 | D6: 4 | E6: 5 | F6: 6 | G6: 7 | H6: 8 | I6: 9 | J6: 10 | K6: 11 | L6: 12
A7: ВСЕГО | J7: =J8+J55 -> 1833.381 | K7: =K8+K55 -> 1797.682 | L7: =K7/J7*100 -> 98.052832
A8: Обеспечение деятельности администрации | B8: 65 | J8: =J9+J22 -> 1178.543 | K8: =K9+K22 -> 1173.582 | L8: =K8/J8*100 -> 99.579057
A9: Высшее должностное лицо | B9: 65 | C9: 1 | J9: =J10+J16 -> 476.38 | K9: =K10+K16 -> 476.3 | L9: =K9/J9*100 -> 99.983207
A10: Расходы на выплаты по оплате труда высшего должностного лица муниципального образования | B10: 65 | C10: 1 | D10: 00 | E10: 41150 | J10: =J13 -> 224.38 | K10: =K13 -> 224.3 | L10: =K10/J10*100 -> 99.964346
A11: Расходы на выплаты персоналу в целях обеспечения выполнения функций государственными (муниципальными) органами, казенными учреждениями, органами управления государственными внебюджетными фондами | B11: 65 | C11: 1 | D11: 00 | E11: 41150 | F11: 100 | J11: =J12 -> 224.38 | K11: =K12 -> 224.3 | L11: =K11/J11*100 -> 99.964346
A12: Расходы на выплаты персоналу государственных (муниципальных) органов | B12: 65 | C12: 1 | D12: 00 | E12: 41150 | F12: 120 | J12: =J13 -> 224.38 | K12: =K13 -> 224.3 | L12: =K12/J12*100 -> 99.964346
A13: Общегосударственные вопросы | B13: 65 | C13: 1 | D13: 00 | E13: 41150 | F13: 120 | G13: 01 | J13: =J14 -> 224.38 | K13: =K14 -> 224.3 | L13: =K13/J13*100 -> 99.964346
A14: Функционирование высшего должностного лица субъекта Российской Федерации и муниципального образования | B14: 65 | C14: 1 | D14: 00 | E14: 41150 | F14: 120 | G14: 01 | H14: 02 | J14: =J15 -> 224.38 | K14: =K15 -> 224.3 | L14: =K14/J14*100 -> 99.964346
A15: Администрация Большеполянского сельского поселения Кадошкинского муниципального района Республики Мордовия | B15: 65 | C15: 1 | D15: 00 | E15: 41150 | F15: 120 | G15: 01 | H15: 02 | I15: 911 | J15: ='Прил 2'!J15 -> 224.38 | K15: ='Прил 2'!K15 -> 224.3 | L15: =K15/J15*100 -> 99.964346
A16: Субсидии на софинансирование расходных обязательств по финансовому обеспечению деятельности органов местного самоуправления и муниципальных учреждений | B16: 65 | C16: 1 | D16: 00 | E16: 44205 | J16: =J17 -> 252 | K16: =K17 -> 252 | L16: =K16/J16*100 -> 100
A17: Расходы на выплаты персоналу в целях обеспечения выполнения функций государственными (муниципальными) органами, казенными учреждениями, органами управления государственными внебюджетными фондами | B17: 65 | C17: 1 | D17: 00 | E17: 44205 | F17: 100 | J17: =J18 -> 252 | K17: =K18 -> 252 | L17: =K17/J17*100 -> 100
A18: Расходы на выплаты персоналу государственных (муниципальных) органов | B18: 65 | C18: 1 | D18: 00 | E18: 44205 | F18: 120 | J18: =J19 -> 252 | K18: =K19 -> 252 | L18: =K18/J18*100 -> 100
A19: Общегосударственные вопросы | B19: 65 | C19: 1 | D19: 00 | E19: 44205 | F19: 120 | G19: 01 | J19: =J20 -> 252 | K19: =K20 -> 252 | L19: =K19/J19*100 -> 100
A20: Функционирование высшего должностного лица субъекта Российской Федерации и муниципального образования | B20: 65 | C20: 1 | D20: 00 | E20: 44205 | F20: 120 | G20: 01 | H20: 02 | J20: =J21 -> 252 | K20: =K21 -> 252 | L20: =K20/J20*100 -> 100
A21: Администрация Большеполянского сельского поселения Кадошкинского муниципального района Республики Мордовия | B21: 65 | C21: 1 | D21: 00 | E21: 44205 | F21: 120 | G21: 01 | H21: 02 | I21: 911 | J21: ='Прил 2'!J18 -> 252 | K21: ='Прил 2'!K18 -> 252 | L21: =K21/J21*100 -> 100
A22: Непрограммные расходы в рамках обеспечения деятельности администрации | B22: 65 | C22: 2 | J22: =J23+J29+J44 -> 702.163 | K22: =K23+K29+K44 -> 697.282 | L22: =K22/J22*100 -> 99.304862
A23: Расходы на выплаты по оплате труда работников органов местного самоуправления | B23: 65 | C23: 2 | D23: 00 | E23: 41110 | J23: =J24 -> 309.385 | K23: =K26 -> 309.4 | L23: =K23/J23*100 -> 100.00485
A24: Расходы на выплаты персоналу в целях обеспечения выполнения функций государственными (муниципальными) органами, казенными учреждениями, органами управления государственными внебюджетными фондами | B24: 65 | C24: 2 | D24: 00 | E24: 41110 | F24: 100 | J24: =J25 -> 309.385 | K24: =K25 -> 309.4 | L24: =K24/J24*100 -> 100.00485
A25: Расходы на выплаты персоналу государственных (муниципальных) органов | B25: 65 | C25: 2 | D25: 00 | E25: 41110 | F25: 120 | J25: =J26 -> 309.385 | K25: =K26 -> 309.4 | L25: =K25/J25*100 -> 100.00485
A26: Общегосударственные вопросы | B26: 65 | C26: 2 | D26: 00 | E26: 41110 | F26: 120 | G26: 01 | J26: =J27 -> 309.385 | K26: =K27 -> 309.4 | L26: =K26/J26*100 -> 100.00485
A27: Функционирование Правительства Российской Федерации, высших органов исполнительной власти субъектов Российской Федерации, местных администраций | B27: 65 | C27: 2 | D27: 00 | E27: 41110 | F27: 120 | G27: 01 | H27: 04 | J27: =J28 -> 309.385 | K27: =K28 -> 309.4 | L27: =K27/J27*100 -> 100.00485
A28: Администрация Большеполянского сельского поселения Кадошкинского муниципального района Республики Мордовия | B28: 65 | C28: 2 | D28: 00 | E28: 41110 | F28: 120 | G28: 01 | H28: 04 | I28: 911 | J28: ='Прил 2'!J24 -> 309.385 | K28: ='Прил 2'!K24 -> 309.4 | L28: =K28/J28*100 -> 100.00485
A29: Расходы на обеспечение функций органов местного самоуправленя | B29: 65 | C29: 2 | D29: 00 | E29: 41120 | J29: =J32+J35 -> 168.016 | K29: =K32+K35 -> 167.982 | L29: =K29/J29*100 -> 99.979764
A30: Закупка товаров, работ и услуг для обеспечения государственных (муниципальных) нужд | B30: 65 | C30: 2 | D30: 00 | E30: 41120 | F30: 200 | J30: =J31 -> 158.431 | K30: =K31 -> 158.4 | L30: =K30/J30*100 -> 99.980433
A31: Иные закупки товаров, работ и услуг для обеспечения государственных (муниципальных) нужд | B31: 65 | C31: 2 | D31: 00 | E31: 41120 | F31: 240 | J31: =J32 -> 158.431 | K31: =K32 -> 158.4 | L31: =K31/J31*100 -> 99.980433
A32: Общегосударственные вопросы | B32: 65 | C32: 2 | D32: 00 | E32: 41120 | F32: 240 | G32: 01 | J32: =J33 -> 158.431 | K32: =K33 -> 158.4 | L32: =K32/J32*100 -> 99.980433
A33: Функционирование Правительства Российской Федерации, высших органов исполнительной власти субъектов Российской Федерации, местных администраций | B33: 65 | C33: 2 | D33: 00 | E33: 41120 | F33: 240 | G33: 01 | H33: 04 | J33: =J34 -> 158.431 | K33: =K34 -> 158.4 | L33: =K33/J33*100 -> 99.980433
A34: Администрация Большеполянского сельского поселения Кадошкинского муниципального района Республики Мордовия | B34: 65 | C34: 2 | D34: 00 | E34: 41120 | F34: 240 | G34: 01 | H34: 04 | I34: 911 | J34: ='Прил 2'!J26 -> 158.431 | K34: ='Прил 2'!K26 -> 158.4 | L34: =K34/J34*100 -> 99.980433
A35: Закупка товаров, работ и услуг для обеспечения государственных (муниципальных) нужд | B35: 65 | C35: 2 | D35: 00 | E35: 41120 | F35: 800 | J35: =J40+J36 -> 9.585 | K35: =K40 -> 9.582 | L35: =K35/J35*100 -> 99.968701
A36: Исполнение судебных актов | B36: 65 | C36: 2 | D36: 00 | E36: 41120 | F36: 830 | J36: =J37 -> 1 | K36: =K37 -> 1 | L36: =K36/J36*100 -> 100
A37: Общегосударственные вопросы | B37: 65 | C37: 2 | D37: 00 | E37: 41120 | F37: 830 | G37: 01 | J37: =J38 -> 1 | K37: =K38 -> 1 | L37: =K37/J37*100 -> 100
A38: Функционирование Правительства Российской Федерации, высших органов исполнительной власти субъектов Российской Федерации, местных администраций | B38: 65 | C38: 2 | D38: 00 | E38: 41120 | F38: 830 | G38: 01 | H38: 04 | J38: =J39 -> 1 | K38: =K39 -> 1 | L38: =K38/J38*100 -> 100
A39: Администрация Большеполянского сельского поселения Кадошкинского муниципального района Республики Мордовия | B39: 65 | C39: 2 | D39: 00 | E39: 41120 | F39: 830 | G39: 01 | H39: 04 | I39: 911 | J39: ='Прил 2'!J29 -> 1 | K39: ='Прил 2'!K29 -> 1 | L39: =K39/J39*100 -> 100
A40: Иные закупки товаров, работ и услуг для обеспечения государственных (муниципальных) нужд | B40: 65 | C40: 2 | D40: 00 | E40: 41120 | F40: 850 | J40: =J41 -> 8.585 | K40: =K41 -> 9.582 | L40: =K40/J40*100 -> 111.61328
...

Sheet Прил 5
C1: Приложение 5 к решению Совета депутатов Большеполянского сельского поселения "Об исполнении бюджета Большеполянского сельского поселения Кадошкинского муниципального района Республики Мордовия за 2022 год"
A2: ИСТОЧНИКИ ВНУТРЕННЕГО ФИНАНСИРОВАНИЯ ДЕФИЦИТА БЮДЖЕТА БОЛЬШЕПОЛЯНСКОГО СЕЛЬСКОГО ПОСЕЛЕНИЯ КАДОШКИНСКОГО МУНИЦИПАЛЬНОГО РАЙОНА РЕСПУБЛИКИ МОРДОВИЯ НА 2022 ГОД
E3: (тыс.руб.)
A4: Код | B4: Наименование кода группы, подгруппы, статьи, вида источника финансирования дефицитов бюджетов, кода классификации операций сектора государственного управления, относящихся к источникам финансирования дефицитов бюджетов Российской Федерации | C4: Сумма (тыс. руб.)
C5: План 2022 год | D5: Исполнение 2022 год | E5: % исполнения
A6: 000 01 00 00 00 00 0000 000 | B6: ИСТОЧНИКИ ВНУТРЕННЕГО ФИНАНСИРОВАНИЯ ДЕФИЦИТОВ БЮДЖЕТОВ | C6: =C7+C10+C14 -> 32.981 | D6: =D7+D10+D14 -> 7.482 | E6: =D6/C6*100 -> 22.685789
A7: 000 01 02 00 00 00 0000 000 | B7: Кредиты кредитных организаций в валюте Российской Федерации | C7: =SUM(C8) -> 0 | D7: =SUM(D8) -> 0
A8: 000 01 02 00 00 00 0000 700 | B8: Получение кредитов от кредитных организаций в валюте Российской Федерации | C8: =SUM(C9) -> 0 | D8: =SUM(D9) -> 0
A9: 000 01 02 00 00 10 0000 710 | B9: Получение кредитов от кредитных организаций бюджетами поселений в валюте Российской Федерации | C9: 0 | D9: 0
A10: 000 01 03 00 00 00 0000 000 | B10: Бюджетные кредиты от других бюджетов бюджетной системы Российской Федерации | C10: =C11 -> 0 | D10: =D11 -> 0
A11: 000 01 03 01 00 00 0000 000 | B11: Бюджетные кредиты от других бюджетов бюджетной системы Российской Федерации в валюте Российской Федерации | C11: =C12 -> 0 | D11: =D12 -> 0
A12: 000 01 03 01 00 10 0000 800 | B12: Погашение бюджетных кредитов, полученных от других бюджетов бюджетной системы Российской Федерации в валюте Российской Федерации | C12: =SUM(C13) -> 0 | D12: =SUM(D13) -> 0
A13: 000 01 03 01 00 10 0000 810 | B13: Погашение бюджетами сельских поселений кредитов от других бюджетов бюджетной системы Российской Федерации в валюте Российской Федерации | C13: 0 | D13: 0
A14: 000 01 05 00 00 00 0000 000 | B14: Изменения остатков средств на счетах по учету средств бюджетов | C14: =C17+C18 -> 32.981 | D14: =D17+D18 -> 7.482 | E14: =D14/C14*100 -> 22.685789
A15: 000 01 05 02 00 00 0000 500 | B15: Увеличение прочих остатков средств бюджетов | C15: =SUM(C16) -> -1800.4 | D15: =SUM(D16) -> -1790.2 | E15: =D15/C15*100 -> 99.433459
A16: 000 01 05 02 01 00 0000 510 | B16: Увеличение прочих остатков денежных средств бюджетов | C16: =SUM(C17) -> -1800.4 | D16: =SUM(D17) -> -1790.2 | E16: =D16/C16*100 -> 99.433459
A17: 000 01 05 02 01 10 0000 510 | B17: Увеличение прочих остатков денежных средств бюджетов сельских поселений | C17: =-'Прил 1'!C7-C9 -> -1800.4 | D17: =-'Прил 1'!D7-D9 -> -1790.2 | E17: =D17/C17*100 -> 99.433459
A18: 000 01 05 02 00 00 0000 600 | B18: Уменьшение прочих остатков средств бюджетов | C18: =SUM(C19) -> 1833.381 | D18: =SUM(D19) -> 1797.682 | E18: =D18/C18*100 -> 98.052832
A19: 000 01 05 02 01 00 0000 610 | B19: Уменьшение прочих остатков денежных средств бюджетов | C19: =SUM(C20) -> 1833.381 | D19: =SUM(D20) -> 1797.682 | E19: =D19/C19*100 -> 98.052832
A20: 000 01 05 02 01 10 0000 610 | B20: Уменьшение прочих остатков денежных средств бюджетов сельских поселений | C20: ='Прил 2'!J8-C13 -> 1833.381 | D20: ='Прил 3 '!J7-D13 -> 1797.682 | E20: =D20/C20*100 -> 98.052832
