Workbook
Name _1Excel_BuiltIn_Print_Area_1_1_1: 'Прил 1'!$A$1:$C$32
Name _2Excel_BuiltIn_Print_Area_7_1_1: #REF!
Name _2Excel_BuiltIn_Print_Area_7_1_1: #REF!
Name _Toc105952698: 'Прил 3'!$A$2
Name _Toc105952698: #REF!
Name Excel_BuiltIn_Print_Area_1: 'Прил 1'!$A$1:$C$32
Name Excel_BuiltIn_Print_Area_1_1: 'Прил 1'!$A$1:$C$32
Name Excel_BuiltIn_Print_Area_2: #REF!
Name Excel_BuiltIn_Print_Area_2: #REF!
Name Excel_BuiltIn_Print_Area_3: #REF!
Name Excel_BuiltIn_Print_Area_3_1: #REF!
Name Excel_BuiltIn_Print_Area_3_1: #REF!
Name Excel_BuiltIn_Print_Area_4: #REF!
Name Excel_BuiltIn_Print_Area_4: #REF!
Name Excel_BuiltIn_Print_Area_5: 'Прил 3'!$A$1:$I$42
Name Excel_BuiltIn_Print_Area_5: #REF!
Name Excel_BuiltIn_Print_Area_5_1: 'Прил 3'!$A$1:$I$42
Name Excel_BuiltIn_Print_Area_5_1: #REF!
Name Excel_BuiltIn_Print_Area_6: 'Прил 2'!$A$1:$G$43
Name Excel_BuiltIn_Print_Area_6_1: 'Прил 2'!$A$1:$G$43
Name Excel_BuiltIn_Print_Area_7: #REF!
Name Excel_BuiltIn_Print_Area_7: #REF!
Name Excel_BuiltIn_Print_Area_7_1: #REF!
Name Excel_BuiltIn_Print_Area_7_1: #REF!

Sheet Прил 1
C1: Приложение 1 к решению Совета депутатов Адашевского сельского поселения "Об исполнении бюджета Адашевского сельского поселения Кадошкинского муниципального района Республики Мордовия за 2022 год"
A2: ДОХОДЫ БЮДЖЕТА АДАШЕВСКОГО СЕЛЬСКОГО ПОСЕЛЕНИЯ КАДОШКИНСКОГО МУНИЦИПАЛЬНОГО РАЙОНА РЕСПУБЛИКИ МОРДОВИЯ
C3: (тыс.рублей)
A4: Код бюджетной классификации доходов бюджета | B4: Наименование доходов | C4: Сумма
C5: План 2022 год | D5: Исполнение 2022 год | E5: % исполнения
A6: 1 | B6: 2 | C6: 3 | D6: 4 | E6: 5
B7: ВСЕГО | C7: =SUM(C8+C22) -> 1521.9 | D7: =SUM(D8+D22) -> 1461.4 | E7: =D7/C7*100 -> 96.024706
A8: 00010000000000000000 | B8: НАЛОГОВЫЕ И НЕНАЛОГОВЫЕ ДОХОДЫ | C8: =C9+C12+C14+C16+C19 -> 622.1 | D8: =D9+D12+D14+D16+D19 -> 596 | E8: =D8/C8*100 -> 95.804533
A9: 00010100000000000000 | B9: НАЛОГИ НА ПРИБЫЛЬ, ДОХОДЫ | C9: =SUM(C10) -> 21 | D9: =SUM(D10) -> 20.8 | E9: =D9/C9*100 -> 99.047619
A10: 00010102000010000110 | B10: Налог на доходы физических лиц | C10: =SUM(C11) -> 21 | D10: =SUM(D11) -> 20.8 | E10: =D10/C10*100 -> 99.047619
A11: 18210102010010000110 | B11: Налог на доходы физических лиц с доходов, источником которых является налоговый агент, за исключением доходов, в отношении которых исчисление и уплата налога осуществляются в соответствии со статьями 227, 227.1 и 228 Налогового кодекса Российской Федерации | C11: 21 | D11: 20.8 | E11: =D11/C11*100 -> 99.047619
A12: 00010500000000000000 | B12: НАЛОГИ НА СОВОКУПНЫЙ ДОХОД | C12: =SUM(C13) -> 156 | D12: =SUM(D13) -> 156 | E12: =D12/C12*100 -> 100
A13: 18210503010010000110 | B13: Единый сельскохозяйственный налог | C13: =54+102 -> 156 | D13: 156 | E13: =D13/C13*100 -> 100
A14: 00010600000000000000 | B14: НАЛОГИ НА ИМУЩЕСТВО | C14: =SUM(C15) -> 46 | D14: =SUM(D15) -> 51.2 | E14: =D14/C14*100 -> 111.30435
A15: 18210601030100000110 | B15: Налог на имущество физических лиц, взимаемый по ставкам, применяемым к объектам налогообложения, расположенным в границах сельских поселений | C15: 46 | D15: 51.2 | E15: =D15/C15*100 -> 111.30435
A16: 00010606000000000110 | B16: Земельный налог | C16: =SUM(C17+C18) -> 352 | D16: =SUM(D17+D18) -> 368 | E16: =D16/C16*100 -> 104.54545
A17: 18210606033100000110 | B17: Земельный налог с организаций, обладающих земельным участком, расположенным в границах сельских поселений | C17: 152 | D17: 140.3 | E17: =D17/C17*100 -> 92.302632
A18: 18210606043100000110 | B18: Земельный налог с физических лиц, обладающих земельным участком, расположенным в границах сельских поселений | C18: 200 | D18: 227.7 | E18: =D18/C18*100 -> 113.85
A19: 00011100000000000000 | B19: ДОХОДЫ ОТ ИСПОЛЬЗОВАНИЯ ИМУЩЕСТВА, НАХОДЯЩЕГОСЯ В ГОСУДАРСТВЕННОЙ И МУНИЦИПАЛЬНОЙ СОБСТВЕННОСТИ | C19: =C20+C21 -> 47.1 | D19: =D20+D21 -> 0 | E19: =D19/C19*100 -> 0
A20: 91011105025100000120 | B20: Доходы, получаемые в виде арендной платы, а также средства от продажи права на заключение договоров аренды за земли, находящиеся в собственности поселений (за исключением земельных участков муниципальных бюджетных и автономных учреждений) | C20: 17.2 | D20: 0 | E20: =D20/C20*100 -> 0
A21: 91011105035100000120 | B21: Доходы от сдачи в аренду имущества, находящегося в оперативном управлении органов управления поселений и созданных ими учреждений (за исключением имущества муниципальных бюджетных и автономных учреждений) | C21: 29.9 | D21: 0 | E21: =D21/C21*100 -> 0
A22: 00020200000000000000 | B22: БЕЗВОЗМЕЗДНЫЕ ПОСТУПЛЕНИЯ ОТ ДРУГИХ БЮДЖЕТОВ БЮДЖЕТНОЙ СИСТЕМЫ РОССИЙСКОЙ ФЕДЕРАЦИИ | C22: =SUM(C28+C31+C23)+C26 -> 899.8 | D22: =SUM(D28+D31+D23)+D26 -> 865.4 | E22: =D22/C22*100 -> 96.176928
A23: 00020210000000000150 | B23: Дотации бюджетам бюджетной системы Российской Федерации | C23: =C24+C25 -> 333.3 | D23: =D24+D25 -> 333.3 | E23: =D23/C23*100 -> 100
A24: 91020215001100000150 | B24: Дотации бюджетам сельских поселений на выравнивание бюджетной обеспеченности | C24: 116.1 | D24: 116.1 | E24: =D24/C24*100 -> 100
A25: 91020215002100000150 | B25: Дотации бюджетам сельских поселений на поддержку мер по обеспечению сбалансированности бюджетов | C25: 217.2 | D25: 217.2 | E25: =D25/C25*100 -> 100
A26: 00020220000000000150 | B26: Субсидии бюджетам бюджетной системы Российской Федерации (межбюджетные субсидии) | C26: =C27 -> 170 | D26: =D27 -> 170 | E26: =D26/C26*100 -> 100
A27: 91020229999100000150 | B27: Прочие субсидии бюджетам сельских поселений | C27: =100+70 -> 170 | D27: 170 | E27: =D27/C27*100 -> 100
A28: 00020230000000000150 | B28: Субвенции бюджетам бюджетной системы Российской Федерации | C28: =SUM(C29+C30) -> 95.4 | D28: =SUM(D29+D30) -> 95.4 | E28: =D28/C28*100 -> 100
A29: 91020230024100000150 | B29: Субвенции на осуществление государственных полномочий Республики Мордовия по определению перечня должностных лиц, уполномоченных составлять протоколы об административных правонарушениях, предусмотренных Законом Республики Мордовия от 15 июня 2015 года № 38-З "Об административной ответственности на территории Республики Мордовия" | C29: 0.1 | D29: 0.1 | E29: =D29/C29*100 -> 100
A30: 91020235118100000150 | B30: Субвенции бюджетам сельских поселений на осуществление первичного воинского учета на территориях, где отсутствуют военные комиссариаты | C30: =89.8+5.5 -> 95.3 | D30: 95.3 | E30: =D30/C30*100 -> 100
A31: 00020240000000000150 | B31: Иные межбюджетные трансферты | C31: =SUM(C32) -> 301.1 | D31: =SUM(D32) -> 266.7 | E31: =D31/C31*100 -> 88.575224
A32: 91020240014100000150 | B32: Межбюджетные трансферты, передаваемые бюджетам сельских поселений из бюджетов муниципальных районов на осуществление части полномочий по решению вопросов местного значения в соответствии с заключенными соглашениями | C32: =261.8+34.4+4.9 -> 301.1 | D32: 266.7 | E32: =D32/C32*100 -> 88.575224

Sheet Прил 2
J1: Приложение 2 к решению Совета депутатов Адашевского сельского поселения "Об исполнении бюджета Адашевского сельского поселения Кадошкинского муниципального района Республики Мордовия за 2022 год"
A2: ВЕДОМСТВЕННАЯ СТРУКТУРА РАСХОДОВ БЮДЖЕТА АДАШЕВСКОГО СЕЛЬСКОГО ПОСЕЛЕНИЯ КАДОШКИНСКОГО МУНИЦИПАЛЬНОГО РАЙОНА РЕСПУБЛИКИ МОРДОВИЯ НА 2022 ГОД
L3: (тыс. рублей)
A4: Наименование | B4: Адм | C4: Рз | D4: Прз | E4: Цср | I4: Вр | J4: Сумма
J5: План 2022 год | K5: Исполнение 2022 год | L5: % исполнения
A6: 1 | B6: 2 | C6: 3 | D6: 4 | E6: 5 | F6: 6 | G6: 7 | H6: 8 | I6: 9 | J6: 10 | K6: 11 | L6: 12
A7: ВСЕГО | J7: =J8 -> 1562.9 | K7: =K8 -> 1383.8 | L7: =K7/J7*100 -> 88.540534
A8: Администрация Адашевского сельского поселения Кадошкинского муниципального района Республики Мордовия | B8: 910 | J8: =J9+J44+J60+J67+J83+J90+J53 -> 1562.9 | K8: =K9+K44+K60+K67+K83+K90+K53 -> 1383.8 | L8: =K8/J8*100 -> 88.540534
A9: Общегосударственные вопросы | B9: 910 | C9: 01 | J9: =J10+J19+J38 -> 1029.007 | K9: =K10+K19+K38 -> 985.6 | L9: =K9/J9*100 -> 95.781661
A10: Функционирование высшего должностного лица субъекта Российской Федерации и муниципального образования | B10: 910 | C10: 01 | D10: 02 | J10: =J11 -> 456.6 | K10: =K11 -> 455.8 | L10: =K10/J10*100 -> 99.824792
A11: Обеспечение деятельности администрации | B11: 910 | C11: 01 | D11: 02 | E11: 65 | J11: =J12+J16 -> 456.6 | K11: =K12+K16 -> 455.8 | L11: =K11/J11*100 -> 99.824792
A12: Высшее должностное лицо | B12: 910 | C12: 01 | D12: 02 | E12: 65 | F12: 1 | J12: =J13 -> 377.1 | K12: =K13 -> 376.3 | L12: =K12/J12*100 -> 99.787855
A13: Расходы на выплаты по оплате труда высшего должностного лица | B13: 910 | C13: 01 | D13: 02 | E13: 65 | F13: 1 | G13: 00 | H13: 41150 | J13: =J14 -> 377.1 | K13: =K14 -> 376.3 | L13: =K13/J13*100 -> 99.787855
A14: Расходы на выплаты персоналу в целях обеспечения выполнения функций государственными (муниципальными) органами, казенными учреждениями, органами управления государственными внебюджетными фондами | B14: 910 | C14: 01 | D14: 02 | E14: 65 | F14: 1 | G14: 00 | H14: 41150 | I14: 100 | J14: =J15 -> 377.1 | K14: =K15 -> 376.3 | L14: =K14/J14*100 -> 99.787855
A15: Расходы на выплаты персоналу государственных (муниципальных) органов | B15: 910 | C15: 01 | D15: 02 | E15: 65 | F15: 1 | G15: 00 | H15: 41150 | I15: 120 | J15: =252.1+70+30+20+5 -> 377.1 | K15: 376.3 | L15: =K15/J15*100 -> 99.787855
A16: Субсидии на софинансирование расходных обязательств по финансовому обеспечению деятельности органов местного самоуправления и муниципальных учреждений | B16: 910 | C16: 01 | D16: 02 | E16: 65 | F16: 1 | G16: 00 | H16: 44205 | J16: =J17 -> 79.5 | K16: =K17 -> 79.5 | L16: =K16/J16*100 -> 100
A17: Расходы на выплаты персоналу в целях обеспечения выполнения функций государственными (муниципальными) органами, казенными учреждениями, органами управления государственными внебюджетными фондами | B17: 910 | C17: 01 | D17: 02 | E17: 65 | F17: 1 | G17: 00 | H17: 44205 | I17: 100 | J17: =J18 -> 79.5 | K17: =K18 -> 79.5 | L17: =K17/J17*100 -> 100
A18: Расходы на выплаты персоналу государственных (муниципальных) органов | B18: 910 | C18: 01 | D18: 02 | E18: 65 | F18: 1 | G18: 00 | H18: 44205 | I18: 120 | J18: =30+40+9.5 -> 79.5 | K18: 79.5 | L18: =K18/J18*100 -> 100
A19: Функционирование Правительства Российской Федерации, высших органов исполнительной власти субъектов Российской Федерации, местных администраций | B19: 910 | C19: 01 | D19: 04 | J19: =J20+J33 -> 571.407 | K19: =K20+K33 -> 529.8 | L19: =K19/J19*100 -> 92.7185
A20: Обеспечение деятельности администрации | B20: 910 | C20: 01 | D20: 04 | E20: 65 | J20: =J21 -> 571.307 | K20: =K21 -> 529.7 | L20: =K20/J20*100 -> 92.717226
A21: Непрограммные расходы в рамках обеспечения деятельности администрации | B21: 910 | C21: 01 | D21: 04 | E21: 65 | F21: 2 | J21: =J23+J25+J30 -> 571.307 | K21: =K23+K25+K30 -> 529.7 | L21: =K21/J21*100 -> 92.717226
A22: Расходы на выплаты по оплате труда работников органов местного самоуправления | B22: 910 | C22: 01 | D22: 04 | E22: 65 | F22: 2 | G22: 00 | H22: 41110 | J22: =J23 -> 313.89 | K22: =K23 -> 312.1 | L22: =K22/J22*100 -> 99.429737
A23: Расходы на выплаты персоналу в целях обеспечения выполнения функций государственными (муниципальными) органами, казенными учреждениями, органами управления государственными внебюджетными фондами | B23: 910 | C23: 01 | D23: 04 | E23: 65 | F23: 2 | G23: 00 | H23: 41110 | I23: 100 | J23: =J24 -> 313.89 | K23: =K24 -> 312.1 | L23: =K23/J23*100 -> 99.429737
A24: Расходы на выплаты персоналу государственных (муниципальных) органов | B24: 910 | C24: 01 | D24: 04 | E24: 65 | F24: 2 | G24: 00 | H24: 41110 | I24: 120 | J24: =256.1-1.01+32+21+5.8 -> 313.89 | K24: 312.1 | L24: =K24/J24*100 -> 99.429737
A25: Расходы на обеспечение функций органов местного самоуправления | B25: 910 | C25: 01 | D25: 04 | E25: 65 | F25: 2 | G25: 00 | H25: 41120 | J25: =J28+J26 -> 165.2 | K25: =K28+K26 -> 125.5 | L25: =K25/J25*100 -> 75.968523
A26: Закупка товаров, работ и услуг для обеспечения государственных (муниципальных) нужд | B26: 910 | C26: 01 | D26: 04 | E26: 65 | F26: 2 | G26: 00 | H26: 41120 | I26: 200 | J26: =J27 -> 137.6 | K26: =K27 -> 105 | L26: =K26/J26*100 -> 76.30814
A27: Иные закупки товаров, работ и услуг для обеспечения государственных (муниципальных) нужд | B27: 910 | C27: 01 | D27: 04 | E27: 65 | F27: 2 | G27: 00 | H27: 41120 | I27: 240 | J27: =112.4+15.2+10 -> 137.6 | K27: 105 | L27: =K27/J27*100 -> 76.30814
A28: Иные бюджетные ассигнования | B28: 910 | C28: 01 | D28: 04 | E28: 65 | F28: 2 | G28: 00 | H28: 41120 | I28: 800 | J28: =J29 -> 27.6 | K28: =K29 -> 20.5 | L28: =K28/J28*100 -> 74.275362
A29: Уплата налогов, сборов и иных платежей | B29: 910 | C29: 01 | D29: 04 | E29: 65 | F29: 2 | G29: 00 | H29: 41120 | I29: 850 | J29: 27.6 | K29: 20.5 | L29: =K29/J29*100 -> 74.275362
A30: Субсидии на софинансирование расходных обязательств по финансовому обеспечению деятельности органов местного самоуправления и муниципальных учреждений | B30: 910 | C30: 01 | D30: 04 | E30: 65 | F30: 2 | G30: 00 | H30: 44205 | J30: =J31 -> 92.217 | K30: =K31 -> 92.1 | L30: =K30/J30*100 -> 99.873125
A31: Расходы на выплаты персоналу в целях обеспечения выполнения функций государственными (муниципальными) органами, казенными учреждениями, органами управления государственными внебюджетными фондами | B31: 910 | C31: 01 | D31: 04 | E31: 65 | F31: 2 | G31: 00 | H31: 44205 | I31: 100 | J31: =J32 -> 92.217 | K31: =K32 -> 92.1 | L31: =K31/J31*100 -> 99.873125
A32: Расходы на выплаты персоналу государственных (муниципальных) органов | B32: 910 | C32: 01 | D32: 04 | E32: 65 | F32: 2 | G32: 00 | H32: 44205 | I32: 120 | J32: =71.01+30.707-9.5 -> 92.217 | K32: 92.1 | L32: =K32/J32*100 -> 99.873125
A33: Непрограммные расходы главных распорядителей средств бюджета Адашевского сельского поселения Кадошкинского муниципального района Республики Мордовия | B33: 910 | C33: 01 | D33: 04 | E33: 89 | J33: =J34 -> 0.1 | K33: =K34 -> 0.1 | L33: =K33/J33*100 -> 100
A34: Непрограммные расходы в рамках обеспечения деятельности главных распорядителей средств бюджета Адашевского сельского поселения Кадошкинского муниципального района Республики Мордовия | B34: 910 | C34: 01 | D34: 04 | E34: 89 | F34: 1 | J34: =J35 -> 0.1 | K34: =K35 -> 0.1 | L34: =K34/J34*100 -> 100
A35: Осуществление государственных полномочий Республики Мордовия по определению перечня должностных лиц, уполномоченных составлять протоколы об административных правонарушениях, предусмотренных Законом Республики Мордовия от 15 июня 2015 года № 38-З "Об административной ответственности на территории Республики Мордовия" | B35: 910 | C35: 01 | D35: 04 | E35: 89 | F35: 1 | G35: 00 | H35: 77150 | J35: =J36 -> 0.1 | K35: =K36 -> 0.1 | L35: =K35/J35*100 -> 100
A36: Закупка товаров, работ и услуг для обеспечения государственных (муниципальных) нужд | B36: 910 | C36: 01 | D36: 04 | E36: 89 | F36: 1 | G36: 00 | H36: 77150 | I36: 200 | J36: =J37 -> 0.1 | K36: =K37 -> 0.1 | L36: =K36/J36*100 -> 100
A37: Иные закупки товаров, работ и услуг для обеспечения государственных (муниципальных) нужд | B37: 910 | C37: 01 | D37: 04 | E37: 89 | F37: 1 | G37: 00 | H37: 77150 | I37: 240 | J37: 0.1 | K37: 0.1 | L37: =K37/J37*100 -> 100
A38: Резервные фонды | B38: 910 | C38: 01 | D38: 11 | J38: =J39 -> 1 | K38: =K39 -> 0 | L38: =K38/J38*100 -> 0
A39: Непрограммные расходы главных распорядителей средств бюджета Адашевского сельского поселения Кадошкинского муниципального района Республики Мордовия | B39: 910 | C39: 01 | D39: 11 | E39: 89 | J39: =J40 -> 1 | K39: =K40 -> 0 | L39: =K39/J39*100 -> 0
A40: Непрограммные расходы в рамках обеспечения деятельности главных распорядителей средств бюджета Адашевского сельского поселения Кадошкинского муниципального района Республики Мордовия | B40: 910 | C40: 01 | D40: 11 | E40: 89 | F40: 1 | J40: =J41 -> 1 | K40: =K41 -> 0 | L40: =K40/J40*100 -> 0
...

Sheet Прил 3
I1: Приложение 3 к решению Совета депутатов Адашевского сельского поселения "Об исполнении бюджета Адашевского сельского поселения Кадошкинского муниципального района Республики Мордовия за 2022 год"
A2: РАСПРЕДЕЛЕНИЕ БЮДЖЕТНЫХ АССИГНОВАНИЙ БЮДЖЕТА АДАШЕВСКОГО СЕЛЬСКОГО ПОСЕЛЕНИЯ КАДОШКИНСКОГО МУНИЦИПАЛЬНОГО РАЙОНА РЕСПУБЛИКИ МОРДОВИЯ ПО РАЗДЕЛАМ, ПОДРАЗДЕЛАМ, ЦЕЛЕВЫМ СТАТЬЯМ (МУНИЦИПАЛЬНЫМ ПРОГРАММАМ И НЕПРОГРАММНЫМ НАПРАВЛЕНИЯМ ДЕЯТЕЛЬНОСТИ), ГРУППАМ И ПОДГРУППАМ ВИДОВ РАСХОДОВ КЛАССИФИКАЦИИ РАСХОДОВ БЮДЖЕТОВ НА 2022 ГОД
K3: (тыс. рублей)
A4: Наименование | B4: Рз | C4: Прз | D4: Цср | H4: Вр | I4: Сумма
I5: План 2022 год | J5: Исполнение 2022 год | K5: % исполнения
A6: 1 | B6: 2 | C6: 3 | D6: 4 | E6: 5 | F6: 6 | G6: 7 | H6: 8 | I6: 9 | J6: 10 | K6: 11
A7: ВСЕГО | I7: =I8+I43+I59+I66+I80+I87+I52 -> 1562.9 | J7: =J8+J43+J59+J66+J80+J87 -> 1383.8 | K7: =J7/I7*100 -> 88.540534
A8: Общегосударственные вопросы | B8: 01 | I8: =I9+I18+I37 -> 1029.007 | J8: =J9+J18+J37 -> 985.6 | K8: =J8/I8*100 -> 95.781661
A9: Функционирование высшего должностного лица субъекта Российской Федерации и муниципального образования | B9: 01 | C9: 02 | I9: =I10 -> 456.6 | J9: =J10 -> 455.8 | K9: =J9/I9*100 -> 99.824792
A10: Обеспечение деятельности администрации | B10: 01 | C10: 02 | D10: 65 | I10: =I11 -> 456.6 | J10: =J11 -> 455.8 | K10: =J10/I10*100 -> 99.824792
A11: Высшее должностное лицо | B11: 01 | C11: 02 | D11: 65 | E11: 1 | I11: =I12+I15 -> 456.6 | J11: =J12+J15 -> 455.8 | K11: =J11/I11*100 -> 99.824792
A12: Расходы на выплаты по оплате труда высшего должностного лица | B12: 01 | C12: 02 | D12: 65 | E12: 1 | F12: 00 | G12: 41150 | I12: =I13 -> 377.1 | J12: =J13 -> 376.3 | K12: =J12/I12*100 -> 99.787855
A13: Расходы на выплаты персоналу в целях обеспечения выполнения функций государственными (муниципальными) органами, казенными учреждениями, органами управления государственными внебюджетными фондами | B13: 01 | C13: 02 | D13: 65 | E13: 1 | F13: 00 | G13: 41150 | H13: 100 | I13: =I14 -> 377.1 | J13: =J14 -> 376.3 | K13: =J13/I13*100 -> 99.787855
A14: Расходы на выплаты персоналу государственных (муниципальных) органов | B14: 01 | C14: 02 | D14: 65 | E14: 1 | F14: 00 | G14: 41150 | H14: 120 | I14: ='Прил 2'!J15 -> 377.1 | J14: ='Прил 2'!K15 -> 376.3 | K14: =J14/I14*100 -> 99.787855
A15: Субсидии на софинансирование расходных обязательств по финансовому обеспечению деятельности органов местного самоуправления и муниципальных учреждений | B15: 01 | C15: 02 | D15: 65 | E15: 1 | F15: 00 | G15: 44205 | I15: =I16 -> 79.5 | J15: =J16 -> 79.5 | K15: =J15/I15*100 -> 100
A16: Расходы на выплаты персоналу в целях обеспечения выполнения функций государственными (муниципальными) органами, казенными учреждениями, органами управления государственными внебюджетными фондами | B16: 01 | C16: 02 | D16: 65 | E16: 1 | F16: 00 | G16: 44205 | H16: 100 | I16: =I17 -> 79.5 | J16: =J17 -> 79.5 | K16: =J16/I16*100 -> 100
A17: Расходы на выплаты персоналу государственных (муниципальных) органов | B17: 01 | C17: 02 | D17: 65 | E17: 1 | F17: 00 | G17: 44205 | H17: 120 | I17: ='Прил 2'!J18 -> 79.5 | J17: ='Прил 2'!K18 -> 79.5 | K17: =J17/I17*100 -> 100
A18: Функционирование Правительства Российской Федерации, высших органов исполнительной власти субъектов Российской Федерации, местных администраций | B18: 01 | C18: 04 | I18: =I19+I32 -> 571.407 | J18: =J19+J32 -> 529.8 | K18: =J18/I18*100 -> 92.7185
A19: Обеспечение деятельности администрации | B19: 01 | C19: 04 | D19: 65 | I19: =I20 -> 571.307 | J19: =J20 -> 529.7 | K19: =J19/I19*100 -> 92.717226
A20: Непрограммные расходы в рамках обеспечения деятельности администрации | B20: 01 | C20: 04 | D20: 65 | E20: 2 | I20: =I21+I24+I29 -> 571.307 | J20: =J21+J24+J29 -> 529.7 | K20: =J20/I20*100 -> 92.717226
A21: Расходы на выплаты по оплате труда работников органов местного самоуправления | B21: 01 | C21: 04 | D21: 65 | E21: 2 | F21: 00 | G21: 41110 | I21: =I22 -> 313.89 | J21: =J22 -> 312.1 | K21: =J21/I21*100 -> 99.429737
A22: Расходы на выплаты персоналу в целях обеспечения выполнения функций государственными (муниципальными) органами, казенными учреждениями, органами управления государственными внебюджетными фондами | B22: 01 | C22: 04 | D22: 65 | E22: 2 | F22: 00 | G22: 41110 | H22: 100 | I22: =I23 -> 313.89 | J22: =J23 -> 312.1 | K22: =J22/I22*100 -> 99.429737
A23: Расходы на выплаты персоналу государственных (муниципальных) органов | B23: 01 | C23: 04 | D23: 65 | E23: 2 | F23: 00 | G23: 41110 | H23: 120 | I23: ='Прил 2'!J24 -> 313.89 | J23: ='Прил 2'!K24 -> 312.1 | K23: =J23/I23*100 -> 99.429737
A24: Расходы на обеспечение функций органов местного самоуправления | B24: 01 | C24: 04 | D24: 65 | E24: 2 | F24: 00 | G24: 41120 | I24: =I27+I25 -> 165.2 | J24: =J27+J25 -> 125.5 | K24: =J24/I24*100 -> 75.968523
A25: Закупка товаров, работ и услуг для обеспечения государственных (муниципальных) нужд | B25: 01 | C25: 04 | D25: 65 | E25: 2 | F25: 00 | G25: 41120 | H25: 200 | I25: =I26 -> 137.6 | J25: =J26 -> 105 | K25: =J25/I25*100 -> 76.30814
A26: Иные закупки товаров, работ и услуг для обеспечения государственных (муниципальных) нужд | B26: 01 | C26: 04 | D26: 65 | E26: 2 | F26: 00 | G26: 41120 | H26: 240 | I26: ='Прил 2'!J27 -> 137.6 | J26: ='Прил 2'!K27 -> 105 | K26: =J26/I26*100 -> 76.30814
A27: Иные бюджетные ассигнования | B27: 01 | C27: 04 | D27: 65 | E27: 2 | F27: 00 | G27: 41120 | H27: 800 | I27: =I28 -> 27.6 | J27: =J28 -> 20.5 | K27: =J27/I27*100 -> 74.275362
A28: Уплата налогов, сборов и иных платежей | B28: 01 | C28: 04 | D28: 65 | E28: 2 | F28: 00 | G28: 41120 | H28: 850 | I28: ='Прил 2'!J29 -> 27.6 | J28: ='Прил 2'!K29 -> 20.5 | K28: =J28/I28*100 -> 74.275362
A29: Субсидии на софинансирование расходных обязательств по финансовому обеспечению деятельности органов местного самоуправления и муниципальных учреждений | B29: 01 | C29: 04 | D29: 65 | E29: 2 | F29: 00 | G29: 44205 | I29: =I30 -> 92.217 | J29: =J30 -> 92.1 | K29: =J29/I29*100 -> 99.873125
A30: Расходы на выплаты персоналу в целях обеспечения выполнения функций государственными (муниципальными) органами, казенными учреждениями, органами управления государственными внебюджетными фондами | B30: 01 | C30: 04 | D30: 65 | E30: 2 | F30: 00 | G30: 44205 | H30: 100 | I30: =I31 -> 92.217 | J30: =J31 -> 92.1 | K30: =J30/I30*100 -> 99.873125
A31: Расходы на выплаты персоналу государственных (муниципальных) органов | B31: 01 | C31: 04 | D31: 65 | E31: 2 | F31: 00 | G31: 44205 | H31: 120 | I31: ='Прил 2'!J32 -> 92.217 | J31: ='Прил 2'!K32 -> 92.1 | K31: =J31/I31*100 -> 99.873125
A32: Непрограммные расходы главных распорядителей средств бюджета Адашевского сельского поселения Кадошкинского муниципального района Республики Мордовия | B32: 01 | C32: 04 | D32: 89 | I32: =I33 -> 0.1 | J32: =J33 -> 0.1 | K32: =J32/I32*100 -> 100
A33: Непрограммные расходы в рамках обеспечения деятельности главных распорядителей средств бюджета Адашевского сельского поселения Кадошкинского муниципального района Республики Мордовия | B33: 01 | C33: 04 | D33: 89 | E33: 1 | I33: =I34 -> 0.1 | J33: =J34 -> 0.1 | K33: =J33/I33*100 -> 100
A34: Осуществление государственных полномочий Республики Мордовия по определению перечня должностных лиц, уполномоченных составлять протоколы об административных правонарушениях, предусмотренных Законом Республики Мордовия от 15 июня 2015 года № 38-З "Об административной ответственности на территории Республики Мордовия" | B34: 01 | C34: 04 | D34: 89 | E34: 1 | F34: 00 | G34: 77150 | I34: =I35 -> 0.1 | J34: =J35 -> 0.1 | K34: =J34/I34*100 -> 100
A35: Закупка товаров, работ и услуг для обеспечения государственных (муниципальных) нужд | B35: 01 | C35: 04 | D35: 89 | E35: 1 | F35: 00 | G35: 77150 | H35: 200 | I35: =I36 -> 0.1 | J35: =J36 -> 0.1 | K35: =J35/I35*100 -> 100
A36: Иные закупки товаров, работ и услуг для обеспечения государственных (муниципальных) нужд | B36: 01 | C36: 04 | D36: 89 | E36: 1 | F36: 00 | G36: 77150 | H36: 240 | I36: ='Прил 2'!J37 -> 0.1 | J36: ='Прил 2'!K37 -> 0.1 | K36: =J36/I36*100 -> 100
A37: Резервные фонды | B37: 01 | C37: 11 | I37: =I38 -> 1 | J37: =J38 -> 0 | K37: =J37/I37*100 -> 0
A38: Непрограммные расходы главных распорядителей средств бюджета Адашевского сельского поселения Кадошкинского муниципального района Республики Мордовия | B38: 01 | C38: 11 | D38: 89 | I38: =I39 -> 1 | J38: =J39 -> 0 | K38: =J38/I38*100 -> 0
A39: Непрограммные расходы в рамках обеспечения деятельности главных распорядителей средств бюджета Адашевского сельского поселения Кадошкинского муниципального района Республики Мордовия | B39: 01 | C39: 11 | D39: 89 | E39: 1 | I39: =I40 -> 1 | J39: =J40 -> 0 | K39: =J39/I39*100 -> 0
A40: Резервный фонд администрации Адашевского сельского поселения Кадошкинского муниципального района Республики Мордовия | B40: 01 | C40: 11 | D40: 89 | E40: 1 | F40: 00 | G40: 41180 | I40: =I41 -> 1 | J40: =J41 -> 0 | K40: =J40/I40*100 -> 0
...

Sheet Прил 4
J1: Приложение 4 к решению Совета депутатов Адашевского сельского поселения "Об исполнении бюджета Адашевского сельского поселения Кадошкинского муниципального района Республики Мордовия за 2022 год"
A2: РАСПРЕДЕЛЕНИЕ БЮДЖЕТНЫХ АССИГНОВАНИЙ БЮДЖЕТА АДАШЕВСКОГО СЕЛЬСКОГО ПОСЕЛЕНИЯ КАДОШКИНСКОГО МУНИЦИПАЛЬНОГО РАЙОНА РЕСПУБЛИКИ МОРДОВИЯ ПО ЦЕЛЕВЫМ СТАТЬЯМ (МУНИЦИПАЛЬНЫМ ПРОГРАММАМ И НЕПРОГРАММНЫМ НАПРАВЛЕНИЯМ ДЕЯТЕЛЬНОСТИ), ГРУППАМ И ПОДГРУППАМ ВИДОВ РАСХОДОВ, РАЗДЕЛАМ И ПОДРАЗДЕЛАМ КЛАССИФИКАЦИИ РАСХОДОВ БЮДЖЕТОВ НА 2022 ГОД
L3: (тыс. рублей)
A4: Наименование | B4: Цср | F4: ВР | G4: Рз | H4: Прз | I4: Адм | J4: Сумма
J5: План 2022 год | K5: Исполнение 2022 год | L5: % исполнения
A6: 1 | B6: 2 | C6: 3 | D6: 4 | E6: 5 | F6: 6 | G6: 7 | H6: 8 | I6: 9 | J6: 10 | K6: 11 | L6: 12
A7: ВСЕГО | J7: =J8+J46 -> 1562.9 | K7: =K8+K46 -> 1383.8 | L7: =K7/J7*100 -> 88.540534
A8: Обеспечение деятельности администрации | B8: 65 | J8: =J9+J22 -> 1027.907 | K8: =K9+K22 -> 985.5 | L8: =K8/J8*100 -> 95.874432
A9: Высшее должностное лицо | B9: 65 | C9: 1 | J9: =J10+J16 -> 456.6 | K9: =K10+K16 -> 455.8 | L9: =K9/J9*100 -> 99.824792
A10: Расходы на выплаты по оплате труда высшего должностного лица муниципального образования | B10: 65 | C10: 1 | D10: 00 | E10: 41150 | J10: =J13 -> 377.1 | K10: =K13 -> 376.3 | L10: =K10/J10*100 -> 99.787855
A11: Расходы на выплаты персоналу в целях обеспечения выполнения функций государственными (муниципальными) органами, казенными учреждениями, органами управления государственными внебюджетными фондами | B11: 65 | C11: 1 | D11: 00 | E11: 41150 | F11: 100 | J11: =J12 -> 377.1 | K11: =K12 -> 376.3 | L11: =K11/J11*100 -> 99.787855
A12: Расходы на выплаты персоналу государственных (муниципальных) органов | B12: 65 | C12: 1 | D12: 00 | E12: 41150 | F12: 120 | J12: =J13 -> 377.1 | K12: =K13 -> 376.3 | L12: =K12/J12*100 -> 99.787855
A13: Общегосударственные вопросы | B13: 65 | C13: 1 | D13: 00 | E13: 41150 | F13: 120 | G13: 01 | J13: =J14 -> 377.1 | K13: =K14 -> 376.3 | L13: =K13/J13*100 -> 99.787855
A14: Функционирование высшего должностного лица субъекта Российской Федерации и муниципального образования | B14: 65 | C14: 1 | D14: 00 | E14: 41150 | F14: 120 | G14: 01 | H14: 02 | J14: =J15 -> 377.1 | K14: =K15 -> 376.3 | L14: =K14/J14*100 -> 99.787855
A15: Администрация Адашевского сельского поселения Кадошкинского муниципального района Республики Мордовия | B15: 65 | C15: 1 | D15: 00 | E15: 41150 | F15: 120 | G15: 01 | H15: 02 | I15: 910 | J15: ='Прил 2'!J15 -> 377.1 | K15: ='Прил 2'!K15 -> 376.3 | L15: =K15/J15*100 -> 99.787855
A16: Субсидии на софинансирование расходных обязательств по финансовому обеспечению деятельности органов местного самоуправления и муниципальных учреждений | B16: 65 | C16: 1 | D16: 00 | E16: 44205 | J16: =J17 -> 79.5 | K16: =K17 -> 79.5 | L16: =K16/J16*100 -> 100
A17: Расходы на выплаты персоналу в целях обеспечения выполнения функций государственными (муниципальными) органами, казенными учреждениями, органами управления государственными внебюджетными фондами | B17: 65 | C17: 1 | D17: 00 | E17: 44205 | F17: 100 | J17: =J18 -> 79.5 | K17: =K18 -> 79.5 | L17: =K17/J17*100 -> 100
A18: Расходы на выплаты персоналу государственных (муниципальных) органов | B18: 65 | C18: 1 | D18: 00 | E18: 44205 | F18: 120 | J18: =J19 -> 79.5 | K18: =K19 -> 79.5 | L18: =K18/J18*100 -> 100
A19: Общегосударственные вопросы | B19: 65 | C19: 1 | D19: 00 | E19: 44205 | F19: 120 | G19: 01 | J19: =J20 -> 79.5 | K19: =K20 -> 79.5 | L19: =K19/J19*100 -> 100
A20: Функционирование высшего должностного лица субъекта Российской Федерации и муниципального образования | B20: 65 | C20: 1 | D20: 00 | E20: 44205 | F20: 120 | G20: 01 | H20: 02 | J20: =J21 -> 79.5 | K20: =K21 -> 79.5 | L20: =K20/J20*100 -> 100
A21: Администрация Адашевского сельского поселения Кадошкинского муниципального района Республики Мордовия | B21: 65 | C21: 1 | D21: 00 | E21: 44205 | F21: 120 | G21: 01 | H21: 02 | I21: 910 | J21: ='Прил 2'!J18 -> 79.5 | K21: ='Прил 2'!K18 -> 79.5 | L21: =K21/J21*100 -> 100
A22: Непрограммные расходы в рамках обеспечения деятельности администрации | B22: 65 | C22: 2 | J22: =J23+J29+J40 -> 571.307 | K22: =K23+K29+K40 -> 529.7 | L22: =K22/J22*100 -> 92.717226
A23: Расходы на выплаты по оплате труда работников органов местного самоуправления | B23: 65 | C23: 2 | D23: 00 | E23: 41110 | J23: =J24 -> 313.89 | K23: =K26 -> 312.1 | L23: =K23/J23*100 -> 99.429737
A24: Расходы на выплаты персоналу в целях обеспечения выполнения функций государственными (муниципальными) органами, казенными учреждениями, органами управления государственными внебюджетными фондами | B24: 65 | C24: 2 | D24: 00 | E24: 41110 | F24: 100 | J24: =J25 -> 313.89 | K24: =K25 -> 312.1 | L24: =K24/J24*100 -> 99.429737
A25: Расходы на выплаты персоналу государственных (муниципальных) органов | B25: 65 | C25: 2 | D25: 00 | E25: 41110 | F25: 120 | J25: =J26 -> 313.89 | K25: =K26 -> 312.1 | L25: =K25/J25*100 -> 99.429737
A26: Общегосударственные вопросы | B26: 65 | C26: 2 | D26: 00 | E26: 41110 | F26: 120 | G26: 01 | J26: =J27 -> 313.89 | K26: =K27 -> 312.1 | L26: =K26/J26*100 -> 99.429737
A27: Функционирование Правительства Российской Федерации, высших органов исполнительной власти субъектов Российской Федерации, местных администраций | B27: 65 | C27: 2 | D27: 00 | E27: 41110 | F27: 120 | G27: 01 | H27: 04 | J27: =J28 -> 313.89 | K27: =K28 -> 312.1 | L27: =K27/J27*100 -> 99.429737
A28: Администрация Адашевского сельского поселения Кадошкинского муниципального района Республики Мордовия | B28: 65 | C28: 2 | D28: 00 | E28: 41110 | F28: 120 | G28: 01 | H28: 04 | I28: 910 | J28: ='Прил 2'!J24 -> 313.89 | K28: ='Прил 2'!K24 -> 312.1 | L28: =K28/J28*100 -> 99.429737
A29: Расходы на обеспечение функций органов местного самоуправления | B29: 65 | C29: 2 | D29: 00 | E29: 41120 | J29: =J30+J35 -> 165.2 | K29: =K30+K35 -> 125.5 | L29: =K29/J29*100 -> 75.968523
A30: Иные закупки товаров, работ и услуг для обеспечения государственных (муниципальных) нужд | B30: 65 | C30: 2 | D30: 00 | E30: 41120 | F30: 200 | J30: =J31 -> 137.6 | K30: =K31 -> 105 | L30: =K30/J30*100 -> 76.30814
A31: Прочая закупка товаров, работ и услуг | B31: 65 | C31: 2 | D31: 00 | E31: 41120 | F31: 240 | J31: =J32 -> 137.6 | K31: =K32 -> 105 | L31: =K31/J31*100 -> 76.30814
A32: Общегосударственные вопросы | B32: 65 | C32: 2 | D32: 00 | E32: 41120 | F32: 240 | G32: 01 | J32: =J33 -> 137.6 | K32: =K33 -> 105 | L32: =K32/J32*100 -> 76.30814
A33: Функционирование Правительства Российской Федерации, высших органов исполнительной власти субъектов Российской Федерации, местных администраций | B33: 65 | C33: 2 | D33: 00 | E33: 41120 | F33: 240 | G33: 01 | H33: 04 | J33: =J34 -> 137.6 | K33: =K34 -> 105 | L33: =K33/J33*100 -> 76.30814
A34: Администрация Адашевского сельского поселения Кадошкинского муниципального района Республики Мордовия | B34: 65 | C34: 2 | D34: 00 | E34: 41120 | F34: 240 | G34: 01 | H34: 04 | I34: 910 | J34: ='Прил 2'!J27 -> 137.6 | K34: ='Прил 2'!K27 -> 105 | L34: =K34/J34*100 -> 76.30814
A35: Закупка товаров, работ и услуг для обеспечения государственных (муниципальных) нужд | B35: 65 | C35: 2 | D35: 00 | E35: 41120 | F35: 800 | J35: =J36 -> 27.6 | K35: =K36 -> 20.5 | L35: =K35/J35*100 -> 74.275362
A36: Иные закупки товаров, работ и услуг для обеспечения государственных (муниципальных) нужд | B36: 65 | C36: 2 | D36: 00 | E36: 41120 | F36: 850 | J36: =J37 -> 27.6 | K36: =K37 -> 20.5 | L36: =K36/J36*100 -> 74.275362
A37: Общегосударственные вопросы | B37: 65 | C37: 2 | D37: 00 | E37: 41120 | F37: 850 | G37: 01 | J37: =J38 -> 27.6 | K37: =K38 -> 20.5 | L37: =K37/J37*100 -> 74.275362
A38: Функционирование Правительства Российской Федерации, высших органов исполнительной власти субъектов Российской Федерации, местных администраций | B38: 65 | C38: 2 | D38: 00 | E38: 41120 | F38: 850 | G38: 01 | H38: 04 | J38: =J39 -> 27.6 | K38: =K39 -> 20.5 | L38: =K38/J38*100 -> 74.275362
A39: Администрация Адашевского сельского поселения Кадошкинского муниципального района Республики Мордовия | B39: 65 | C39: 2 | D39: 00 | E39: 41120 | F39: 850 | G39: 01 | H39: 04 | I39: 910 | J39: ='Прил 2'!J28 -> 27.6 | K39: ='Прил 2'!K28 -> 20.5 | L39: =K39/J39*100 -> 74.275362
A40: Субсидии на софинансирование расходных обязательств по финансовому обеспечению деятельности органов местного самоуправления и муниципальных учреждений | B40: 65 | C40: 2 | D40: 00 | E40: 44205 | J40: =J41 -> 92.217 | K40: =K41 -> 92.1 | L40: =K40/J40*100 -> 99.873125
...

Sheet Прил 5
C1: Приложение 5 к решению Совета депутатов Адашевского сельского поселения "Об исполнении бюджета Адашевского сельского поселения Кадошкинского муниципального района Республики Мордовия за 2022 год"
A2: ИСТОЧНИКИ ВНУТРЕННЕГО ФИНАНСИРОВАНИЯ ДЕФИЦИТА БЮДЖЕТА АДАШЕВСКОГО СЕЛЬСКОГО ПОСЕЛЕНИЯ КАДОШКИНСКОГО МУНИЦИПАЛЬНОГО РАЙОНА РЕСПУБЛИКИ МОРДОВИЯ НА 2022 ГОД
A4: Код | B4: Наименование кода группы, подгруппы, статьи, вида источника финансирования дефицитов бюджетов, кода классификации операций сектора государственного управления, относящихся к источникам финансирования дефицитов бюджетов Российской Федерации | C4: Сумма (тыс. руб.)
C5: План 2022 год | D5: Исполнение 2022 год | E5: % исполнения
A6: 1 | B6: 2 | C6: 3 | D6: 4 | E6: 5
A7: 000 01 00 00 00 00 0000 000 | B7: ИСТОЧНИКИ ВНУТРЕННЕГО ФИНАНСИРОВАНИЯ ДЕФИЦИТОВ БЮДЖЕТОВ | C7: =C8+C11+C15 -> 41 | D7: =D8+D11+D15 -> -77.6 | E7: =D7/C7*100 -> -189.26829
A8: 000 01 02 00 00 00 0000 000 | B8: Кредиты кредитных организаций в валюте Российской Федерации | C8: =SUM(C9) -> 0 | D8: =SUM(D9) -> 0
A9: 000 01 02 00 00 00 0000 700 | B9: Получение кредитов от кредитных организаций в валюте Российской Федерации | C9: =SUM(C10) -> 0 | D9: =SUM(D10) -> 0
A10: 000 01 02 00 00 10 0000 710 | B10: Получение кредитов от кредитных организаций бюджетами поселений в валюте Российской Федерации | C10: 0 | D10: 0
A11: 000 01 03 00 00 00 0000 000 | B11: Бюджетные кредиты от других бюджетов бюджетной системы Российской Федерации | C11: =C12 -> 0 | D11: =D12 -> 0
A12: 000 01 03 01 00 00 0000 000 | B12: Бюджетные кредиты от других бюджетов бюджетной системы Российской Федерации в валюте Российской Федерации | C12: =C13 -> 0 | D12: =D13 -> 0
A13: 000 01 03 01 00 10 0000 800 | B13: Погашение бюджетных кредитов, полученных от других бюджетов бюджетной системы Российской Федерации в валюте Российской Федерации | C13: =SUM(C14) -> 0 | D13: =SUM(D14) -> 0
A14: 000 01 03 01 00 10 0000 810 | B14: Погашение бюджетами сельских поселений кредитов от других бюджетов бюджетной системы Российской Федерации в валюте Российской Федерации | C14: 0 | D14: 0
A15: 000 01 05 00 00 00 0000 000 | B15: Изменения остатков средств на счетах по учету средств бюджетов | C15: =C18+C19 -> 41 | D15: =D18+D19 -> -77.6 | E15: =D15/C15*100 -> -189.26829
A16: 000 01 05 02 00 00 0000 500 | B16: Увеличение прочих остатков средств бюджетов | C16: =SUM(C17) -> -1521.9 | D16: =SUM(D17) -> -1461.4 | E16: =D16/C16*100 -> 96.024706
A17: 000 01 05 02 01 00 0000 510 | B17: Увеличение прочих остатков денежных средств бюджетов | C17: =SUM(C18) -> -1521.9 | D17: =SUM(D18) -> -1461.4 | E17: =D17/C17*100 -> 96.024706
A18: 000 01 05 02 01 10 0000 510 | B18: Увеличение прочих остатков денежных средств бюджетов сельских поселений | C18: =-('Прил 1'!C7+C10) -> -1521.9 | D18: =-('Прил 1'!D7+D10) -> -1461.4 | E18: =D18/C18*100 -> 96.024706
A19: 000 01 05 02 00 00 0000 600 | B19: Уменьшение прочих остатков средств бюджетов | C19: =C20 -> 1562.9 | D19: =D20 -> 1383.8 | E19: =D19/C19*100 -> 88.540534
A20: 000 01 05 02 01 00 0000 610 | B20: Уменьшение прочих остатков денежных средств бюджетов | C20: =C21 -> 1562.9 | D20: =D21 -> 1383.8 | E20: =D20/C20*100 -> 88.540534
A21: 000 01 05 02 01 10 0000 610 | B21: Уменьшение прочих остатков денежных средств бюджетов сельских поселений | C21: ='Прил 2'!J7-'Прил 5'!C14 -> 1562.9 | D21: ='Прил 2'!K7-'Прил 5'!D14 -> 1383.8 | E21: =D21/C21*100 -> 88.540534
