Workbook
Name _1Excel_BuiltIn_Print_Area_1_1_1: 'Прил 1'!$A$1:$C$31
Name _2Excel_BuiltIn_Print_Area_7_1_1: #REF!
Name _2Excel_BuiltIn_Print_Area_7_1_1: #REF!
Name _Toc105952698: 'Прил 3 '!$A$2
Name _Toc105952698: #REF!
Name Excel_BuiltIn_Print_Area_1: 'Прил 1'!$A$1:$C$31
Name Excel_BuiltIn_Print_Area_1_1: 'Прил 1'!$A$1:$C$31
Name Excel_BuiltIn_Print_Area_2: #REF!
Name Excel_BuiltIn_Print_Area_2: #REF!
Name Excel_BuiltIn_Print_Area_3: #REF!
Name Excel_BuiltIn_Print_Area_3_1: #REF!
Name Excel_BuiltIn_Print_Area_3_1: #REF!
Name Excel_BuiltIn_Print_Area_4: #REF!
Name Excel_BuiltIn_Print_Area_4: #REF!
Name Excel_BuiltIn_Print_Area_5: 'Прил 3 '!$A$1:$I$43
Name Excel_BuiltIn_Print_Area_5: #REF!
Name Excel_BuiltIn_Print_Area_5_1: 'Прил 3 '!$A$1:$I$43
Name Excel_BuiltIn_Print_Area_5_1: #REF!
Name Excel_BuiltIn_Print_Area_6: 'Прил 2'!$A$1:$G$44
Name Excel_BuiltIn_Print_Area_6_1: 'Прил 2'!$A$1:$G$44
Name Excel_BuiltIn_Print_Area_7: #REF!
Name Excel_BuiltIn_Print_Area_7: #REF!
Name Excel_BuiltIn_Print_Area_7_1: #REF!
Name Excel_BuiltIn_Print_Area_7_1: #REF!

Sheet Прил 1
C1: Приложение 1 к решению Совета депутатов Паевского сельского поселения "О бюджете Паевского сельского поселения Кадошкинского муниципального района Республики Мордовия на 2023 год и на плановый период 2024 и 2025 годов"
A2: ДОХОДЫ БЮДЖЕТА ПАЕВСКОГО СЕЛЬСКОГО ПОСЕЛЕНИЯ КАДОШКИНСКОГО МУНИЦИПАЛЬНОГО РАЙОНА РЕСПУБЛИКИ МОРДОВИЯ
C3: (тыс.рублей)
A4: Код бюджетной классификации доходов бюджета | B4: Наименование доходов | C4: Сумма
C5: 2023 год | D5: 2024 год | E5: 2025 год
A6: 1 | B6: 2 | C6: 3 | D6: 4 | E6: 5
B7: ВСЕГО ДОХОДОВ | C7: =SUM(C8+C21) -> 2016.8 | D7: =SUM(D8+D21) -> 1178.98 | E7: =SUM(E8+E21) -> 1209.48
A8: 00010000000000000000 | B8: НАЛОГОВЫЕ И НЕНАЛОГОВЫЕ ДОХОДЫ | C8: =SUM(C9+C12+C14+C16+C19) -> 551.4 | D8: =SUM(D9+D12+D14+D16+D19) -> 561.88 | E8: =SUM(E9+E12+E14+E16+E19) -> 572.68
A9: 00010100000000000000 | B9: НАЛОГИ НА ПРИБЫЛЬ, ДОХОДЫ | C9: =SUM(C10) -> 65.7 | D9: =SUM(D10) -> 71.6 | E9: =SUM(E10) -> 76.64
A10: 00010102000010000110 | B10: Налог на доходы физических лиц | C10: =SUM(C11) -> 65.7 | D10: =SUM(D11) -> 71.6 | E10: =SUM(E11) -> 76.64
A11: 18210102010010000110 | B11: Налог на доходы физических лиц с доходов, источником которых является налоговый агент, за исключением доходов, в отношении которых исчисление и уплата налога осуществляются в соответствии со статьями 227, 2271 и 228 Налогового кодекса Российской Федерации | C11: 65.7 | D11: 71.6 | E11: 76.64
A12: 00010500000000000000 | B12: НАЛОГИ НА СОВОКУПНЫЙ ДОХОД | C12: =SUM(C13) -> 12.1 | D12: =SUM(D13) -> 12.64 | E12: =SUM(E13) -> 13.5
A13: 18210503010010000110 | B13: Единый сельскохозяйственный налог | C13: 12.1 | D13: 12.64 | E13: 13.5
A14: 00010600000000000000 | B14: НАЛОГИ НА ИМУЩЕСТВО | C14: =SUM(C15) -> 77 | D14: =SUM(D15) -> 77 | E14: =SUM(E15) -> 78
A15: 18210601030100000110 | B15: Налог на имущество физических лиц, взимаемый по ставкам, применяемым к объектам налогообложения, расположенным в границах сельских поселений | C15: 77 | D15: 77 | E15: 78
A16: 00010606000000000110 | B16: Земельный налог | C16: =SUM(C17+C18) -> 351.3 | D16: =SUM(D17+D18) -> 353.34 | E16: =SUM(E17+E18) -> 355.34
A17: 18210606033100000110 | B17: Земельный налог с организаций, обладающих земельным участком, расположенным в границах сельских поселений | C17: 123 | D17: 123 | E17: 123
A18: 18210606043100000110 | B18: Земельный налог с физических лиц, обладающих земельным участком, расположенным в границах сельских поселений | C18: 228.3 | D18: 230.34 | E18: 232.34
A19: 00011100000000000000 | B19: ДОХОДЫ ОТ ИСПОЛЬЗОВАНИЯ ИМУЩЕСТВА, НАХОДЯЩЕГОСЯ В ГОСУДАРСТВЕННОЙ И МУНИЦИПАЛЬНОЙ СОБСТВЕННОСТИ | C19: =SUM(C20) -> 45.3 | D19: =SUM(D20) -> 47.3 | E19: =SUM(E20) -> 49.2
A20: 91811105035100000120 | B20: Доходы от сдачи в аренду имущества, находящегося в оперативном управлении органов управления поселений и созданных ими учреждений (за исключением имущества муниципальных бюджетных и автономных учреждений) | C20: 45.3 | D20: 47.3 | E20: 49.2
A21: 00020200000000000000 | B21: БЕЗВОЗМЕЗДНЫЕ ПОСТУПЛЕНИЯ ОТ ДРУГИХ БЮДЖЕТОВ БЮДЖЕТНОЙ СИСТЕМЫ РОССИЙСКОЙ ФЕДЕРАЦИИ | C21: =SUM(C27+C30+C22+C25) -> 1465.4 | D21: =SUM(D27+D30+D22) -> 617.1 | E21: =SUM(E27+E30+E22) -> 636.8
A22: 00020210000000000150 | B22: Дотации бюджетам бюджетной системы Российской Федерации | C22: =C23+C24 -> 454.7 | D22: =D23+D24 -> 88.7 | E22: =E23+E24 -> 88.7
A23: 91820215001100000150 | B23: Дотации бюджетам сельских поселений на выравнивание бюджетной обеспеченности | C23: 73.8 | D23: 88.7 | E23: 88.7
A24: 91820215002100000150 | B24: Дотации бюджетам сельских поселений на поддержку мер по обеспечению сбалансированности бюджетов | C24: 380.9 | D24: 0 | E24: 0
A25: 00020220000000000150 | B25: Субсидии бюджетам бюджетной системы Российской Федерации (межбюджетные субсидии) | C25: =C26 -> 509.3 | D25: =D26 -> 0 | E25: =E26 -> 0
A26: 91820229999100000150 | B26: Прочие субсидии бюджетам сельских поселений | C26: =400+109.3 -> 509.3 | D26: 0 | E26: 0
A27: 00020230000000000150 | B27: Субвенции бюджетам бюджетной системы Российской Федерации | C27: =SUM(C28+C29) -> 109.6 | D27: =SUM(D28+D29) -> 114.7 | E27: =SUM(E28+E29) -> 119
A28: 91820230024100000150 | B28: Субвенции на осуществление государственных полномочий Республики Мордовия по определению перечня должностных лиц, уполномоченных составлять протоколы об административных правонарушениях, предусмотренных Законом Республики Мордовия от 15 июня 2015 года № 38-З "Об административной ответственности на территории Республики Мордовия" | C28: 0.3 | D28: 0.3 | E28: 0.3
A29: 91820235118100000150 | B29: Субвенции бюджетам сельских поселений на осуществление первичного воинского учета на территориях, где отсутствуют военные комиссариаты | C29: 109.3 | D29: 114.4 | E29: 118.7
A30: 00020240000000000150 | B30: Иные межбюджетные трансферты | C30: =SUM(C31) -> 391.8 | D30: =SUM(D31) -> 413.7 | E30: =SUM(E31) -> 429.1
A31: 91820240014100000150 | B31: Межбюджетные трансферты, передаваемые бюджетам сельских поселений из бюджетов муниципальных районов на осуществление части полномочий по решению вопросов местного значения в соответствии с заключенными соглашениями | C31: =361.8+30 -> 391.8 | D31: =383.7+30 -> 413.7 | E31: =399.1+30 -> 429.1

Sheet Прил 2
J1: Приложение 2 к решению Совета депутатов Паевского сельского поселения "О бюджете Паевского сельского поселения Кадошкинского муниципального района Республики Мордовия на 2023 год и на плановый период 2024 и 2025 годов"
A2: ВЕДОМСТВЕННАЯ СТРУКТУРА РАСХОДОВ БЮДЖЕТА ПАЕВСКОГО СЕЛЬСКОГО ПОСЕЛЕНИЯ КАДОШКИНСКОГО МУНИЦИПАЛЬНОГО РАЙОНА РЕСПУБЛИКИ МОРДОВИЯ НА 2023 ГОД И НА ПЛАНОВЫЙ ПЕРИОД 2024 И 2025 ГОДОВ
L3: (тыс. рублей)
A4: Наименование | B4: Адм | C4: Рз | D4: Прз | E4: Цср | I4: Вр | J4: Сумма
J5: 2023 год | K5: 2024 год | L5: 2025 год
A6: 1 | B6: 2 | C6: 3 | D6: 4 | E6: 5 | F6: 6 | G6: 7 | H6: 8 | I6: 9 | J6: 10 | K6: 11 | L6: 12
A7: ВСЕГО | J7: =J8 -> 2072.6772 | K7: =K8 -> 1108.6 | L7: =L8 -> 1115.7
A8: Администрация Паевского сельского поселения Кадошкинского муниципального района Республики Мордовия | B8: 918 | J8: =J9+J58+J73+J88+J109+J116+J67+J123 -> 2072.6772 | K8: =K9+K58+K73+K88+K109+K116+K67+K123 -> 1108.6 | L8: =L9+L58+L73+L88+L109+L116+L67+L123 -> 1115.7
A9: Общегосударственные вопросы | B9: 918 | C9: 01 | J9: =J10+J19+J39+J45 -> 1132.44 | K9: =K10+K19+K39+K45 -> 448.8 | L9: =L10+L19+L39+L45 -> 386.2
A10: Функционирование высшего должностного лица субъекта Российской Федерации и муниципального образования | B10: 918 | C10: 01 | D10: 02 | J10: =J11 -> 404 | K10: =K11 -> 157.5 | L10: =L11 -> 134.3
A11: Обеспечение деятельности администрации | B11: 918 | C11: 01 | D11: 02 | E11: 65 | J11: =J12 -> 404 | K11: =K12 -> 157.5 | L11: =L12 -> 134.3
A12: Высшее должностное лицо | B12: 918 | C12: 01 | D12: 02 | E12: 65 | F12: 1 | J12: =J13+J16 -> 404 | K12: =K13 -> 157.5 | L12: =L13 -> 134.3
A13: Расходы на выплаты по оплате труда высшего должностного лица | B13: 918 | C13: 01 | D13: 02 | E13: 65 | F13: 1 | G13: 00 | H13: 41150 | J13: =J14 -> 254 | K13: =K14 -> 157.5 | L13: =L14 -> 134.3
A14: Расходы на выплаты персоналу в целях обеспечения выполнения функций государственными (муниципальными) органами, казенными учреждениями, органами управления государственными внебюджетными фондами | B14: 918 | C14: 01 | D14: 02 | E14: 65 | F14: 1 | G14: 00 | H14: 41150 | I14: 100 | J14: =J15 -> 254 | K14: =K15 -> 157.5 | L14: =L15 -> 134.3
A15: Расходы на выплаты персоналу государственных (муниципальных) органов | B15: 918 | C15: 01 | D15: 02 | E15: 65 | F15: 1 | G15: 00 | H15: 41150 | I15: 120 | J15: 254 | K15: 157.5 | L15: 134.3
A16: Субсидии на софинансирование расходных обязательств по финансовому обеспечению деятельности органов местного самоуправления и муниципальных учреждений | B16: 918 | C16: 01 | D16: 02 | E16: 65 | F16: 1 | G16: 00 | H16: 44205 | J16: =J17 -> 150 | K16: =K17 -> 0 | L16: =L17 -> 0
A17: Расходы на выплаты персоналу в целях обеспечения выполнения функций государственными (муниципальными) органами, казенными учреждениями, органами управления государственными внебюджетными фондами | B17: 918 | C17: 01 | D17: 02 | E17: 65 | F17: 1 | G17: 00 | H17: 44205 | I17: 100 | J17: =J18 -> 150 | K17: =K18 -> 0 | L17: =L18 -> 0
A18: Расходы на выплаты персоналу государственных (муниципальных) органов | B18: 918 | C18: 01 | D18: 02 | E18: 65 | F18: 1 | G18: 00 | H18: 44205 | I18: 120 | J18: 150 | K18: 0 | L18: 0
A19: Функционирование Правительства Российской Федерации, высших органов исполнительной власти субъектов Российской Федерации, местных администраций | B19: 918 | C19: 01 | D19: 04 | J19: =J20+J34 -> 720.44 | K19: =K20+K34 -> 283.8 | L19: =L20+L34 -> 244.9
A20: Обеспечение деятельности администрации | B20: 918 | C20: 01 | D20: 04 | E20: 65 | J20: =J21 -> 720.14 | K20: =K21 -> 283.5 | L20: =L21 -> 244.6
A21: Непрограммные расходы в рамках обеспечения деятельности администрации | B21: 918 | C21: 01 | D21: 04 | E21: 65 | F21: 2 | J21: =J23+J25+J31 -> 720.14 | K21: =K23+K25 -> 283.5 | L21: =L23+L25 -> 244.6
A22: Расходы на выплаты по оплате труда работников органов местного самоуправления | B22: 918 | C22: 01 | D22: 04 | E22: 65 | F22: 2 | G22: 00 | H22: 41110 | J22: =J23 -> 291.6 | K22: =K23 -> 220.4 | L22: =L23 -> 190.2
A23: Расходы на выплаты персоналу в целях обеспечения выполнения функций государственными (муниципальными) органами, казенными учреждениями, органами управления государственными внебюджетными фондами | B23: 918 | C23: 01 | D23: 04 | E23: 65 | F23: 2 | G23: 00 | H23: 41110 | I23: 100 | J23: =J24 -> 291.6 | K23: =K24 -> 220.4 | L23: =L24 -> 190.2
A24: Расходы на выплаты персоналу государственных (муниципальных) органов | B24: 918 | C24: 01 | D24: 04 | E24: 65 | F24: 2 | G24: 00 | H24: 41110 | I24: 120 | J24: 291.6 | K24: 220.4 | L24: 190.2
A25: Расходы на обеспечение функций органов местного самоуправления | B25: 918 | C25: 01 | D25: 04 | E25: 65 | F25: 2 | G25: 00 | H25: 41120 | J25: =J26+J28 -> 174.5 | K25: =K26+K28 -> 63.1 | L25: =L26+L28 -> 54.4
A26: Закупка товаров, работ и услуг для обеспечения государственных (муниципальных) нужд | B26: 918 | C26: 01 | D26: 04 | E26: 65 | F26: 2 | G26: 00 | H26: 41120 | I26: 200 | J26: =J27 -> 144.5 | K26: =K27 -> 37.3 | L26: =L27 -> 28.6
A27: Иные закупки товаров, работ и услуг для обеспечения государственных (муниципальных) нужд | B27: 918 | C27: 01 | D27: 04 | E27: 65 | F27: 2 | G27: 00 | H27: 41120 | I27: 240 | J27: 144.5 | K27: 37.3 | L27: 28.6
A28: Иные бюджетные ассигнования | B28: 918 | C28: 01 | D28: 04 | E28: 65 | F28: 2 | G28: 00 | H28: 41120 | I28: 800 | J28: =J30+J29 -> 30 | K28: =K30 -> 25.8 | L28: =L30 -> 25.8
A29: Исполнение судебных актов | B29: 918 | C29: 01 | D29: 04 | E29: 65 | F29: 2 | G29: 00 | H29: 41120 | I29: 830 | J29: 1 | K29: 0 | L29: 0 | M29: +1
A30: Уплата налогов, сборов и иных платежей | B30: 918 | C30: 01 | D30: 04 | E30: 65 | F30: 2 | G30: 00 | H30: 41120 | I30: 850 | J30: =30-1 -> 29 | K30: 25.8 | L30: 25.8 | M30: -1
A31: Субсидии на софинансирование расходных обязательств по финансовому обеспечению деятельности органов местного самоуправления и муниципальных учреждений | B31: 918 | C31: 01 | D31: 04 | E31: 65 | F31: 2 | G31: 00 | H31: 44205 | J31: =J32 -> 254.04 | K31: =K32 -> 0 | L31: =L32 -> 0
A32: Расходы на выплаты персоналу в целях обеспечения выполнения функций государственными (муниципальными) органами, казенными учреждениями, органами управления государственными внебюджетными фондами | B32: 918 | C32: 01 | D32: 04 | E32: 65 | F32: 2 | G32: 00 | H32: 44205 | I32: 100 | J32: =J33 -> 254.04 | K32: =K33 -> 0 | L32: =L33 -> 0
A33: Расходы на выплаты персоналу государственных (муниципальных) органов | B33: 918 | C33: 01 | D33: 04 | E33: 65 | F33: 2 | G33: 00 | H33: 44205 | I33: 120 | J33: 254.04 | K33: 0 | L33: 0
A34: Непрограммные расходы главных распорядителей средств бюджета Паевского сельского поселения Кадошкинского муниципального района Республики Мордовия | B34: 918 | C34: 01 | D34: 04 | E34: 89 | J34: =J35 -> 0.3 | K34: =K35 -> 0.3 | L34: =L35 -> 0.3
A35: Непрограммные расходы в рамках обеспечения деятельности главных распорядителей средств бюджета Паевского сельского поселения Кадошкинского муниципального района Республики Мордовия | B35: 918 | C35: 01 | D35: 04 | E35: 89 | F35: 1 | J35: =J36 -> 0.3 | K35: =K36 -> 0.3 | L35: =L36 -> 0.3
A36: Осуществление государственных полномочий Республики Мордовия по определению перечня должностных лиц, уполномоченных составлять протоколы об административных правонарушениях, предусмотренных Законом Республики Мордовия от 15 июня 2015 года № 38-З "Об административной ответственности на территории Республики Мордовия" | B36: 918 | C36: 01 | D36: 04 | E36: 89 | F36: 1 | G36: 00 | H36: 77150 | J36: =J37 -> 0.3 | K36: =K37 -> 0.3 | L36: =L37 -> 0.3
A37: Закупка товаров, работ и услуг для обеспечения государственных (муниципальных) нужд | B37: 918 | C37: 01 | D37: 04 | E37: 89 | F37: 1 | G37: 00 | H37: 77150 | I37: 200 | J37: =J38 -> 0.3 | K37: =K38 -> 0.3 | L37: =L38 -> 0.3
A38: Иные закупки товаров, работ и услуг для обеспечения государственных (муниципальных) нужд | B38: 918 | C38: 01 | D38: 04 | E38: 89 | F38: 1 | G38: 00 | H38: 77150 | I38: 240 | J38: 0.3 | K38: 0.3 | L38: 0.3
A39: Резервные фонды | B39: 918 | C39: 01 | D39: 11 | J39: =J40 -> 5 | K39: =K40 -> 5 | L39: =L40 -> 5
A40: Непрограммные расходы главных распорядителей средств бюджета Паевского сельского поселения Кадошкинского муниципального района Республики Мордовия | B40: 918 | C40: 01 | D40: 11 | E40: 89 | J40: =J41 -> 5 | K40: =K41 -> 5 | L40: =L41 -> 5
...

Sheet Прил 3 
I1: Приложение 3 к решению Совета депутатов Паевского сельского поселения "О бюджете Паевского сельского поселения Кадошкинского муниципального района Республики Мордовия на 2023 год и на плановый период 2024 и 2025 годов"
A2: РАСПРЕДЕЛЕНИЕ БЮДЖЕТНЫХ АССИГНОВАНИЙ БЮДЖЕТА ПАЕВСКОГО СЕЛЬСКОГО ПОСЕЛЕНИЯ КАДОШКИНСКОГО МУНИЦИПАЛЬНОГО РАЙОНА РЕСПУБЛИКИ МОРДОВИЯ ПО РАЗДЕЛАМ, ПОДРАЗДЕЛАМ, ЦЕЛЕВЫМ СТАТЬЯМ (МУНИЦИПАЛЬНЫМ ПРОГРАММАМ И НЕПРОГРАММНЫМ НАПРАВЛЕНИЯМ ДЕЯТЕЛЬНОСТИ), ГРУППАМ И ПОДГРУППАМ ВИДОВ РАСХОДОВ КЛАССИФИКАЦИИ РАСХОДОВ БЮДЖЕТОВ НА 2023 ГОД И НА ПЛАНОВЫЙ ПЕРИОД 2024 И 2025 ГОДОВ
K3: (тыс. рублей)
A4: Наименование | B4: Рз | C4: Прз | D4: Цср | H4: Вр | I4: Сумма
I5: 2023 год | J5: 2024 год | K5: 2025 год
A6: 1 | B6: 2 | C6: 3 | D6: 4 | E6: 5 | F6: 6 | G6: 7 | H6: 8 | I6: 9 | J6: 10 | K6: 11
A7: ВСЕГО | I7: =I8+I57+I72+I87+I108+I115+I66 -> 2072.6772 | J7: =J8+J57+J72+J87+J108+J115+J126+J66 -> 1108.6 | K7: =K8+K57+K72+K87+K108+K115+K126 -> 1115.7
A8: Общегосударственные вопросы | B8: 01 | I8: =I9+I18+I38+I44 -> 1132.44 | J8: =J9+J18+J38+J44 -> 448.8 | K8: =K9+K18+K38+K44 -> 386.2
A9: Функционирование высшего должностного лица субъекта Российской Федерации и муниципального образования | B9: 01 | C9: 02 | I9: =I10 -> 404 | J9: =J10 -> 157.5 | K9: =K10 -> 134.3
A10: Обеспечение деятельности администрации | B10: 01 | C10: 02 | D10: 65 | I10: =I11 -> 404 | J10: =J11 -> 157.5 | K10: =K11 -> 134.3
A11: Высшее должностное лицо | B11: 01 | C11: 02 | D11: 65 | E11: 1 | I11: =I12+I15 -> 404 | J11: =J12 -> 157.5 | K11: =K12 -> 134.3
A12: Расходы на выплаты по оплате труда высшего должностного лица | B12: 01 | C12: 02 | D12: 65 | E12: 1 | F12: 00 | G12: 41150 | I12: =I13 -> 254 | J12: =J13 -> 157.5 | K12: =K13 -> 134.3
A13: Расходы на выплаты персоналу в целях обеспечения выполнения функций государственными (муниципальными) органами, казенными учреждениями, органами управления государственными внебюджетными фондами | B13: 01 | C13: 02 | D13: 65 | E13: 1 | F13: 00 | G13: 41150 | H13: 100 | I13: =I14 -> 254 | J13: =J14 -> 157.5 | K13: =K14 -> 134.3
A14: Расходы на выплаты персоналу государственных (муниципальных) органов | B14: 01 | C14: 02 | D14: 65 | E14: 1 | F14: 00 | G14: 41150 | H14: 120 | I14: ='Прил 2'!J15 -> 254 | J14: ='Прил 2'!K15 -> 157.5 | K14: ='Прил 2'!L15 -> 134.3
A15: Субсидии на софинансирование расходных обязательств по финансовому обеспечению деятельности органов местного самоуправления и муниципальных учреждений | B15: 01 | C15: 02 | D15: 65 | E15: 1 | F15: 00 | G15: 44205 | I15: =I16 -> 150 | J15: =J16 -> 0 | K15: =K16 -> 0
A16: Расходы на выплаты персоналу в целях обеспечения выполнения функций государственными (муниципальными) органами, казенными учреждениями, органами управления государственными внебюджетными фондами | B16: 01 | C16: 02 | D16: 65 | E16: 1 | F16: 00 | G16: 44205 | H16: 100 | I16: =I17 -> 150 | J16: =J17 -> 0 | K16: =K17 -> 0
A17: Расходы на выплаты персоналу государственных (муниципальных) органов | B17: 01 | C17: 02 | D17: 65 | E17: 1 | F17: 00 | G17: 44205 | H17: 120 | I17: ='Прил 2'!J18 -> 150 | J17: ='Прил 2'!K18 -> 0 | K17: ='Прил 2'!L18 -> 0
A18: Функционирование Правительства Российской Федерации, высших органов исполнительной власти субъектов Российской Федерации, местных администраций | B18: 01 | C18: 04 | I18: =I19+I33 -> 720.44 | J18: =J19+J33 -> 283.8 | K18: =K19+K33 -> 244.9
A19: Обеспечение деятельности администрации | B19: 01 | C19: 04 | D19: 65 | I19: =I20 -> 720.14 | J19: =J20 -> 283.5 | K19: =K20 -> 244.6
A20: Непрограммные расходы в рамках обеспечения деятельности администрации | B20: 01 | C20: 04 | D20: 65 | E20: 2 | I20: =I21+I24+I30 -> 720.14 | J20: =J21+J24 -> 283.5 | K20: =K21+K24 -> 244.6
A21: Расходы на выплаты по оплате труда работников органов местного самоуправления | B21: 01 | C21: 04 | D21: 65 | E21: 2 | F21: 00 | G21: 41110 | I21: =I22 -> 291.6 | J21: =J22 -> 220.4 | K21: =K22 -> 190.2
A22: Расходы на выплаты персоналу в целях обеспечения выполнения функций государственными (муниципальными) органами, казенными учреждениями, органами управления государственными внебюджетными фондами | B22: 01 | C22: 04 | D22: 65 | E22: 2 | F22: 00 | G22: 41110 | H22: 100 | I22: =I23 -> 291.6 | J22: =J23 -> 220.4 | K22: =K23 -> 190.2
A23: Расходы на выплаты персоналу государственных (муниципальных) органов | B23: 01 | C23: 04 | D23: 65 | E23: 2 | F23: 00 | G23: 41110 | H23: 120 | I23: ='Прил 2'!J24 -> 291.6 | J23: ='Прил 2'!K24 -> 220.4 | K23: ='Прил 2'!L24 -> 190.2
A24: Расходы на обеспечение функций органов местного самоуправления | B24: 01 | C24: 04 | D24: 65 | E24: 2 | F24: 00 | G24: 41120 | I24: =I25+I27 -> 174.5 | J24: =J25+J27 -> 63.1 | K24: =K25+K27 -> 54.4
A25: Закупка товаров, работ и услуг для обеспечения государственных (муниципальных) нужд | B25: 01 | C25: 04 | D25: 65 | E25: 2 | F25: 00 | G25: 41120 | H25: 200 | I25: =I26 -> 144.5 | J25: =J26 -> 37.3 | K25: =K26 -> 28.6
A26: Иные закупки товаров, работ и услуг для обеспечения государственных (муниципальных) нужд | B26: 01 | C26: 04 | D26: 65 | E26: 2 | F26: 00 | G26: 41120 | H26: 240 | I26: ='Прил 2'!J27 -> 144.5 | J26: ='Прил 2'!K27 -> 37.3 | K26: ='Прил 2'!L27 -> 28.6
A27: Иные бюджетные ассигнования | B27: 01 | C27: 04 | D27: 66 | E27: 2 | F27: 00 | G27: 41120 | H27: 800 | I27: =I29+I28 -> 30 | J27: =J29 -> 25.8 | K27: =K29 -> 25.8
A28: Исполнение судебных актов | B28: 01 | C28: 04 | D28: 65 | E28: 2 | F28: 00 | G28: 41120 | H28: 830 | I28: ='Прил 2'!J29 -> 1 | J28: ='Прил 2'!K29 -> 0 | K28: ='Прил 2'!L29 -> 0
A29: Уплата налогов, сборов и иных платежей | B29: 01 | C29: 04 | D29: 66 | E29: 2 | F29: 00 | G29: 41120 | H29: 850 | I29: ='Прил 2'!J30 -> 29 | J29: ='Прил 2'!K30 -> 25.8 | K29: ='Прил 2'!L30 -> 25.8
A30: Субсидии на софинансирование расходных обязательств по финансовому обеспечению деятельности органов местного самоуправления и муниципальных учреждений | B30: 01 | C30: 04 | D30: 65 | E30: 2 | F30: 00 | G30: 44205 | I30: =I31 -> 254.04 | J30: =J31 -> 0 | K30: =K31 -> 0
A31: Расходы на выплаты персоналу в целях обеспечения выполнения функций государственными (муниципальными) органами, казенными учреждениями, органами управления государственными внебюджетными фондами | B31: 01 | C31: 04 | D31: 65 | E31: 2 | F31: 00 | G31: 44205 | H31: 100 | I31: =I32 -> 254.04 | J31: =J32 -> 0 | K31: =K32 -> 0
A32: Расходы на выплаты персоналу государственных (муниципальных) органов | B32: 01 | C32: 04 | D32: 65 | E32: 2 | F32: 00 | G32: 44205 | H32: 120 | I32: ='Прил 2'!J33 -> 254.04 | J32: ='Прил 2'!K33 -> 0 | K32: ='Прил 2'!L33 -> 0
A33: Непрограммные расходы главных распорядителей средств бюджета Паевского сельского поселения Кадошкинского муниципального района Республики Мордовия | B33: 01 | C33: 04 | D33: 89 | I33: =I34 -> 0.3 | J33: =J34 -> 0.3 | K33: =K34 -> 0.3
A34: Непрограммные расходы в рамках обеспечения деятельности главных распорядителей средств бюджета Паевского сельского поселения Кадошкинского муниципального района Республики Мордовия | B34: 01 | C34: 04 | D34: 89 | E34: 1 | I34: =I35 -> 0.3 | J34: =J35 -> 0.3 | K34: =K35 -> 0.3
A35: Осуществление государственных полномочий Республики Мордовия по определению перечня должностных лиц, уполномоченных составлять протоколы об административных правонарушениях, предусмотренных Законом Республики Мордовия от 15 июня 2015 года № 38-З "Об административной ответственности на территории Республики Мордовия" | B35: 01 | C35: 04 | D35: 89 | E35: 1 | F35: 00 | G35: 77150 | I35: =I36 -> 0.3 | J35: =J36 -> 0.3 | K35: =K36 -> 0.3
A36: Закупка товаров, работ и услуг для обеспечения государственных (муниципальных) нужд | B36: 01 | C36: 04 | D36: 89 | E36: 1 | F36: 00 | G36: 77150 | H36: 200 | I36: =I37 -> 0.3 | J36: =J37 -> 0.3 | K36: =K37 -> 0.3
A37: Иные закупки товаров, работ и услуг для обеспечения государственных (муниципальных) нужд | B37: 01 | C37: 04 | D37: 89 | E37: 1 | F37: 00 | G37: 77150 | H37: 240 | I37: ='Прил 2'!J38 -> 0.3 | J37: ='Прил 2'!K38 -> 0.3 | K37: ='Прил 2'!L38 -> 0.3
A38: Резервные фонды | B38: 01 | C38: 11 | I38: =I39 -> 5 | J38: =J39 -> 5 | K38: =K39 -> 5
A39: Непрограммные расходы главных распорядителей средств бюджета Паевского сельского поселения Кадошкинского муниципального района Республики Мордовия | B39: 01 | C39: 11 | D39: 89 | I39: =I40 -> 5 | J39: =J40 -> 5 | K39: =K40 -> 5
A40: Непрограммные расходы в рамках обеспечения деятельности главных распорядителей средств бюджета Паевского сельского поселения Кадошкинского муниципального района Республики Мордовия | B40: 01 | C40: 11 | D40: 89 | E40: 1 | I40: =I41 -> 5 | J40: =J41 -> 5 | K40: =K41 -> 5
...

Sheet Прил 4
J1: Приложение 4 к решению Совета депутатов Паевского сельского поселения "О бюджете Паевского сельского поселения Кадошкинского муниципального района Республики Мордовия на 2023 год и на плановый период 2024 и 2025 годов"
A2: РАСПРЕДЕЛЕНИЕ БЮДЖЕТНЫХ АССИГНОВАНИЙ БЮДЖЕТА ПАЕВСКОГО СЕЛЬСКОГО ПОСЕЛЕНИЯ КАДОШКИНСКОГО МУНИЦИПАЛЬНОГО РАЙОНА РЕСПУБЛИКИ МОРДОВИЯ ПО ЦЕЛЕВЫМ СТАТЬЯМ (МУНИЦИПАЛЬНЫМ ПРОГРАММАМ И НЕПРОГРАММНЫМ НАПРАВЛЕНИЯМ ДЕЯТЕЛЬНОСТИ), ГРУППАМ И ПОДГРУППАМ ВИДОВ РАСХОДОВ, РАЗДЕЛАМ И ПОДРАЗДЕЛАМ КЛАССИФИКАЦИИ РАСХОДОВ БЮДЖЕТОВ НА 2023 ГОД НА ПЛАНОВЫЙ ПЕРИОД 2024 И 2025 ГОДОВ
L3: (тыс. рублей)
A4: Наименование | B4: Цср | F4: ВР | G4: Рз | H4: Прз | I4: Адм | J4: Сумма
J5: 2023 год | K5: 2024 год | L5: 2025 год
A6: 1 | B6: 2 | C6: 3 | D6: 4 | E6: 5 | F6: 6 | G6: 7 | H6: 8 | I6: 9 | J6: 10 | K6: 11 | L6: 12
A7: ВСЕГО | J7: =J58+J100+J22+J8+J44+J51+J15+J30+J37 -> 2072.6772 | K7: =K58+K100+K22+K8+K44+K51+K15+K30+K37 -> 1108.6 | L7: =L58+L100+L22+L8+L44+L51+L15+L30+L37 -> 1115.7
A8: Муниципальная программа "Противопожарная безопасность на территории Паевского сельского поселения на 2022-2023г.г." | B8: 08 | J8: =J9 -> 0.5 | K8: =K9 -> 0 | L8: =L9 -> 0
A9: Мероприятия по обеспечению пожарной безопасности | B9: 08 | C9: 0 | D9: 00 | E9: 42120 | J9: =J10 -> 0.5 | K9: =K10 -> 0 | L9: =L10 -> 0
A10: Закупка товаров, работ и услуг для обеспечения государственных (муниципальных) нужд | B10: 08 | C10: 0 | D10: 00 | E10: 42120 | F10: 200 | J10: =J11 -> 0.5 | K10: =K11 -> 0 | L10: =L11 -> 0
A11: Иные закупки товаров, работ и услуг для обеспечения государственных (муниципальных) нужд | B11: 08 | C11: 0 | D11: 00 | E11: 42120 | F11: 240 | J11: =J12 -> 0.5 | K11: =K12 -> 0 | L11: =L12 -> 0
A12: Общегосударственные вопросы | B12: 08 | C12: 0 | D12: 00 | E12: 42120 | F12: 240 | G12: 01 | J12: =J13 -> 0.5 | K12: =K13 -> 0 | L12: =L13 -> 0
A13: Другие общегосударственные вопросы | B13: 08 | C13: 0 | D13: 00 | E13: 42120 | F13: 240 | G13: 01 | H13: 13 | J13: =J14 -> 0.5 | K13: =K14 -> 0 | L13: =L14 -> 0
A14: Администрация Паевского сельского поселения Кадошкинского муниципального района Республики Мордовия | B14: 08 | C14: 0 | D14: 00 | E14: 42120 | F14: 240 | G14: 01 | H14: 13 | I14: 918 | J14: ='Прил 2'!J49 -> 0.5 | K14: ='Прил 2'!K49 -> 0 | L14: ='Прил 2'!L49 -> 0
A15: Муниципальная программа «Использование и охрана земель на территории Паевского сельского поселения Кадошкинского муниципального района Республики Мордовия на 2023-2025 годы» | B15: 11 | J15: =J16 -> 2 | K15: =K16 -> 2 | L15: =L16 -> 2
A16: Мероприятия, связанные с муниципальным управлением | B16: 11 | C16: 0 | D16: 00 | E16: 41210 | J16: =J17 -> 2 | K16: =K17 -> 2 | L16: =L17 -> 2
A17: Закупка товаров, работ и услуг для обеспечения государственных (муниципальных) нужд | B17: 11 | C17: 0 | D17: 00 | E17: 41210 | F17: 200 | J17: =J18 -> 2 | K17: =K18 -> 2 | L17: =L18 -> 2
A18: Иные закупки товаров, работ и услуг для обеспечения государственных (муниципальных) нужд | B18: 11 | C18: 0 | D18: 00 | E18: 41210 | F18: 240 | J18: =J19 -> 2 | K18: =K19 -> 2 | L18: =L19 -> 2
A19: Общегосударственные вопросы | B19: 11 | C19: 0 | D19: 00 | E19: 41210 | F19: 240 | G19: 01 | J19: =J20 -> 2 | K19: =K20 -> 2 | L19: =L20 -> 2
A20: Другие общегосударственные вопросы | B20: 11 | C20: 0 | D20: 00 | E20: 41210 | F20: 240 | G20: 01 | H20: 13 | J20: =J21 -> 2 | K20: =K21 -> 2 | L20: =L21 -> 2
A21: Администрация Паевского сельского поселения Кадошкинского муниципального района Республики Мордовия | B21: 11 | C21: 0 | D21: 00 | E21: 41210 | F21: 240 | G21: 01 | H21: 13 | I21: 918 | J21: ='Прил 2'!J50 -> 2 | K21: ='Прил 2'!K50 -> 2 | L21: ='Прил 2'!L50 -> 2
A22: Муниципальная программа "Энергосбережение и повышение энергетической эффективности на территории Паевского сельского поселения Кадошкинского муниципального района Республики Мордовия на 2023 – 2025 годы " | B22: 12 | J22: =J23 -> 115 | K22: =K23 -> 0 | L22: =L23 -> 0
A23: Основное мероприятие "Оформление прав собственности на бесхозяйные объекты инженерной инфраструктуры" | B23: 12 | C23: 0 | D23: 01 | J23: =J24 -> 115 | K23: =K24 -> 0 | L23: =L24 -> 0
A24: Оформление прав собственности на бесхозяйные объекты инженерной инфраструктуры | B24: 12 | C24: 0 | D24: 01 | E24: S6140 | J24: =J25 -> 115 | K24: =K25 -> 0 | L24: =L25 -> 0
A25: Закупка товаров, работ и услуг для обеспечения государственных (муниципальных) нужд | B25: 12 | C25: 0 | D25: 01 | E25: S6140 | F25: 200 | J25: =J26 -> 115 | K25: =K26 -> 0 | L25: =L26 -> 0
A26: Иные закупки товаров, работ и услуг для обеспечения государственных (муниципальных) нужд | B26: 12 | C26: 0 | D26: 01 | E26: S6140 | F26: 240 | J26: =J27 -> 115 | K26: =K27 -> 0 | L26: =L27 -> 0
A27: Жилищно-коммунальное хозяйство | B27: 12 | C27: 0 | D27: 01 | E27: S6140 | F27: 240 | G27: 05 | J27: =J28 -> 115 | K27: =K28 -> 0 | L27: =L28 -> 0
A28: Коммунальное хозяйство | B28: 12 | C28: 0 | D28: 01 | E28: S6140 | F28: 240 | G28: 05 | H28: 02 | J28: =J29 -> 115 | K28: =K29 -> 0 | L28: =L29 -> 0
A29: Администрация Паевского сельского поселения Кадошкинского муниципального района Республики Мордовия | B29: 12 | C29: 0 | D29: 01 | E29: S6140 | F29: 240 | G29: 05 | H29: 02 | I29: 918 | J29: ='Прил 2'!J94 -> 115 | K29: ='Прил 2'!K94 -> 0 | L29: ='Прил 2'!L94 -> 0
A30: Программа «Комплексное развитие транспортной инфраструктуры Паевского сельского поселения Кадошкинского муниципального района Республики Мордовия на 2018 – 2030 годы» | B30: 13 | J30: =J31 -> 295.2 | K30: =K31 -> 306.7 | L30: =L31 -> 300.9
A31: Иные межбюджетные трансферты на осуществление полномочий по дорожной деятельности в отношении автомобильных дорог местного значения в границах населенных пунктов поселения и обеспечению безопасности дорожного движения на них, включая создание и обеспечение функционирования парковок (парковочных мест), осуществлению муниципального контроля за сохранностью автомобильных дорог местного значения в границах населенных пунктов поселения, организации дорожного движения, а также осуществлению иных полномочий в области использования автомобильных дорог и осуществления дорожной деятельности в соответствии с законодательством Российской Федерации | B31: 13 | C31: 0 | D31: 01 | E31: 44102 | J31: =J32 -> 295.2 | K31: =K32 -> 306.7 | L31: =L32 -> 300.9
A32: Иные закупки товаров, работ и услуг для обеспечения государственных (муниципальных) нужд | B32: 13 | C32: 0 | D32: 01 | E32: 44102 | F32: 200 | J32: =J33 -> 295.2 | K32: =K33 -> 306.7 | L32: =L33 -> 300.9
A33: Прочая закупка товаров, работ и услуг | B33: 13 | C33: 0 | D33: 01 | E33: 44102 | F33: 240 | J33: =J34 -> 295.2 | K33: =K34 -> 306.7 | L33: =L34 -> 300.9
A34: Национальная экономика | B34: 13 | C34: 0 | D34: 01 | E34: 44102 | F34: 240 | G34: 04 | J34: =J35 -> 295.2 | K34: =K35 -> 306.7 | L34: =L35 -> 300.9
A35: Дорожное хозяйство (дорожные фонды) | B35: 13 | C35: 0 | D35: 01 | E35: 44102 | F35: 240 | G35: 04 | H35: 09 | J35: =J36 -> 295.2 | K35: =K36 -> 306.7 | L35: =L36 -> 300.9
A36: Администрация Паевского сельского поселения Кадошкинского муниципального района Республики Мордовия | B36: 13 | C36: 0 | D36: 01 | E36: 44102 | F36: 240 | G36: 04 | H36: 09 | I36: 918 | J36: ='Прил 2'!J78 -> 295.2 | K36: ='Прил 2'!K78 -> 306.7 | L36: ='Прил 2'!L78 -> 300.9
A37: Муниципальная программа «Оформление в собственность автомобильных дорог общего пользования местного значения в границах населенных пунктов на территории Паевского сельского поселения Кадошкинского муниципального района Республики Мордовия в 2023-2025 годах» | B37: 14 | J37: =J38 -> 66.6 | K37: =K38 -> 77 | L37: =L38 -> 98.2
A38: Иные межбюджетные трансферты на осуществление полномочий по дорожной деятельности в отношении автомобильных дорог местного значения в границах населенных пунктов поселения и обеспечению безопасности дорожного движения на них, включая создание и обеспечение функционирования парковок (парковочных мест), осуществлению муниципального контроля за сохранностью автомобильных дорог местного значения в границах населенных пунктов поселения, организации дорожного движения, а также осуществлению иных полномочий в области использования автомобильных дорог и осуществления дорожной деятельности в соответствии с законодательством Российской Федерации | B38: 14 | C38: 0 | D38: 01 | E38: 44102 | J38: =J39 -> 66.6 | K38: =K39 -> 77 | L38: =L39 -> 98.2
A39: Закупка товаров, работ и услуг для обеспечения государственных (муниципальных) нужд | B39: 14 | C39: 0 | D39: 01 | E39: 44102 | F39: 200 | J39: =J40 -> 66.6 | K39: =K40 -> 77 | L39: =L40 -> 98.2
A40: Иные закупки товаров, работ и услуг для обеспечения государственных (муниципальных) нужд | B40: 14 | C40: 0 | D40: 01 | E40: 44102 | F40: 240 | J40: =J41 -> 66.6 | K40: =K41 -> 77 | L40: =L41 -> 98.2
...

Sheet Прил 5
C1: Приложение 5 к решению Совета депутатов Паевского сельского поселения "О бюджете Паевского сельского поселения Кадошкинского муниципального района Республики Мордовия на 2023 год и на плановый период 2024 и 2025 годов"
A2: ИСТОЧНИКИ ВНУТРЕННЕГО ФИНАНСИРОВАНИЯ ДЕФИЦИТА БЮДЖЕТА ПАЕВСКОГО СЕЛЬСКОГО ПОСЕЛЕНИЯ КАДОШКИНСКОГО МУНИЦИПАЛЬНОГО РАЙОНА РЕСПУБЛИКИ МОРДОВИЯ НА 2023 ГОД И НА ПЛАНОВЫЙ ПЕРИОД 2024 И 2025 ГОДОВ
E3: (тыс.руб.)
A4: Код | B4: Наименование кода группы, подгруппы, статьи, вида источника финансирования дефицитов бюджетов, кода классификации операций сектора государственного управления, относящихся к источникам финансирования дефицитов бюджетов Российской Федерации | C4: Сумма (тыс. руб.)
C5: 2023 год | D5: 2024 год | E5: 2025 год
A6: 000 01 00 00 00 00 0000 000 | B6: ИСТОЧНИКИ ВНУТРЕННЕГО ФИНАНСИРОВАНИЯ ДЕФИЦИТОВ БЮДЖЕТОВ | C6: =C7+C10+C14 -> 55.87718 | D6: =D7+D10+D14 -> -70.38 | E6: =E7+E10+E14 -> -93.78
A7: 000 01 02 00 00 00 0000 000 | B7: Кредиты кредитных организаций в валюте Российской Федерации | C7: =SUM(C8) -> 0 | D7: =SUM(D8) -> 0 | E7: =SUM(E8) -> 0
A8: 000 01 02 00 00 00 0000 700 | B8: Получение кредитов от кредитных организаций в валюте Российской Федерации | C8: =SUM(C9) -> 0 | D8: =SUM(D9) -> 0 | E8: =SUM(E9) -> 0
A9: 000 01 02 00 00 10 0000 710 | B9: Получение кредитов от кредитных организаций бюджетами сельских поселений в валюте Российской Федерации | C9: 0 | D9: 0 | E9: 0
A10: 000 01 03 00 00 00 0000 000 | B10: Бюджетные кредиты из других бюджетов бюджетной системы Российской Федерации | C10: =C11 -> -70.4 | D10: =D11 -> -70.4 | E10: =E11 -> -93.8
A11: 000 01 03 01 00 00 0000 800 | B11: Погашение бюджетных кредитов, полученных из других бюджетов бюджетной системы Российской Федерации в валюте Российской Федерации | C11: =C12 -> -70.4 | D11: =D12 -> -70.4 | E11: =E12 -> -93.8
A12: 000 01 03 01 00 10 0000 800 | B12: Погашение бюджетных кредитов, полученных из других бюджетов бюджетной системы Российской Федерации в валюте Российской Федерации | C12: =SUM(C13) -> -70.4 | D12: =SUM(D13) -> -70.4 | E12: =SUM(E13) -> -93.8
A13: 000 01 03 01 00 10 0000 810 | B13: Погашение бюджетами сельских поселений кредитов из других бюджетов бюджетной системы Российской Федерации в валюте Российской Федерации | C13: ='Прил 6'!C15 -> -70.4 | D13: ='Прил 6'!D15 -> -70.4 | E13: ='Прил 6'!E15 -> -93.8
A14: 000 01 05 00 00 00 0000 000 | B14: Изменение остатков средств на счетах по учету средств бюджетов | C14: =C15+C18 -> 126.27718 | D14: =D15+D18 -> 0.02 | E14: =E15+E18 -> 0.02
A15: 000 01 05 02 00 00 0000 500 | B15: Увеличение прочих остатков средств бюджетов | C15: =SUM(C16) -> -2016.8 | D15: =SUM(D16) -> -1178.98 | E15: =SUM(E16) -> -1209.48
A16: 000 01 05 02 01 00 0000 510 | B16: Увеличение прочих остатков денежных средств бюджетов | C16: =SUM(C17) -> -2016.8 | D16: =SUM(D17) -> -1178.98 | E16: =SUM(E17) -> -1209.48
A17: 000 01 05 02 01 10 0000 510 | B17: Увеличение прочих остатков денежных средств бюджетов сельских поселений | C17: =-('Прил 1'!C7+C9) -> -2016.8 | D17: =-('Прил 1'!D7+D9) -> -1178.98 | E17: =-('Прил 1'!E7+E9) -> -1209.48
A18: 000 01 05 02 00 00 0000 600 | B18: Уменьшение прочих остатков средств бюджетов | C18: =C19 -> 2143.0772 | D18: =D19 -> 1179 | E18: =E19 -> 1209.5
A19: 000 01 05 02 01 00 0000 610 | B19: Уменьшение прочих остатков денежных средств бюджетов | C19: =C20 -> 2143.0772 | D19: =D20 -> 1179 | E19: =E20 -> 1209.5
A20: 000 01 05 02 01 10 0000 610 | B20: Уменьшение прочих остатков денежных средств бюджетов сельских поселений | C20: ='Прил 2'!J7-C13 -> 2143.0772 | D20: ='Прил 2'!K7-D13 -> 1179 | E20: ='Прил 2'!L7-E13 -> 1209.5

Sheet Прил 6
C1: Приложение 6 к решению Совета депутатов Паевского сельского поселения "О бюджете Паевского сельского поселения Кадошкинского муниципального района Республики Мордовия на 20223год и на плановый период 2024 и 2025 годов"
A2: ПРОГРАММА МУНИЦИПАЛЬНЫХ ВНУТРЕННИХ ЗАИМСТВОВАНИЙ ПАЕВСКОГО СЕЛЬСКОГО ПОСЕЛЕНИЯ КАДОШКИНСКОГО МУНИЦИПАЛЬНОГО РАЙОНА РЕСПУБЛИКИ МОРДОВИЯ НА 2023 ГОД И НА ПЛАНОВЫЙ ПЕРИОД 2024 И 2025 ГОДОВ
A5: № п/п | B5: Виды заимствований | C5: Сумма (тыс.руб.)
C6: 2023 год | D6: 2024 год | E6: 2025 год
A7: 1 | B7: 2 | C7: 3 | D7: 4 | E7: 5
A8: I | B8: Кредиты кредитных организаций в валюте Российской Федерации | C8: =C10 -> 0 | D8: =D10 -> 0 | E8: =E10 -> 0
B9: в том числе:
A10: 1 | B10: Объем привлечения
A11: 2 | B11: Объем средств, напрвляемых на погашение основной суммы долга
A12: II | B12: Бюджетные кредиты от других бюджетов бюджетной системы Российской Федерации | C12: =C15 -> -70.4 | D12: =D15 -> -70.4 | E12: =E15 -> -93.8
B13: в том числе
A14: 1 | B14: Объем привлечения
A15: 2 | B15: Объем средств, напрвляемых на погашение основной суммы долга | C15: -70.4 | D15: -70.4 | E15: -93.8
B16: ВСЕГО | C16: =C10+C15 -> -70.4 | D16: =D10+D15 -> -70.4 | E16: =E10+E15 -> -93.8
