Workbook
Name _1Excel_BuiltIn_Print_Area_1_1_1: 'Прил 1'!$A$1:$C$30
Name _2Excel_BuiltIn_Print_Area_7_1_1: #REF!
Name _2Excel_BuiltIn_Print_Area_7_1_1: #REF!
Name _Toc105952698: 'Прил 3 '!$A$2
Name _Toc105952698: #REF!
Name Excel_BuiltIn_Print_Area_1: 'Прил 1'!$A$1:$C$30
Name Excel_BuiltIn_Print_Area_1_1: 'Прил 1'!$A$1:$C$30
Name Excel_BuiltIn_Print_Area_2: #REF!
Name Excel_BuiltIn_Print_Area_2: #REF!
Name Excel_BuiltIn_Print_Area_3: #REF!
Name Excel_BuiltIn_Print_Area_3_1: #REF!
Name Excel_BuiltIn_Print_Area_3_1: #REF!
Name Excel_BuiltIn_Print_Area_4: #REF!
Name Excel_BuiltIn_Print_Area_4: #REF!
Name Excel_BuiltIn_Print_Area_5: 'Прил 3 '!$A$1:$I$44
Name Excel_BuiltIn_Print_Area_5: #REF!
Name Excel_BuiltIn_Print_Area_5_1: 'Прил 3 '!$A$1:$I$44
Name Excel_BuiltIn_Print_Area_5_1: #REF!
Name Excel_BuiltIn_Print_Area_6: 'Прил 2'!$A$1:$G$45
Name Excel_BuiltIn_Print_Area_6_1: 'Прил 2'!$A$1:$G$45
Name Excel_BuiltIn_Print_Area_7: #REF!
Name Excel_BuiltIn_Print_Area_7: #REF!
Name Excel_BuiltIn_Print_Area_7_1: #REF!
Name Excel_BuiltIn_Print_Area_7_1: #REF!

Sheet Прил 1
C1: Приложение 1 к решению Совета депутатов Пушкинского сельского поселения "О бюджете Пушкинского сельского поселения Кадошкинского муниципального района Республики Мордовия на 2023 год и на плановый период 2024 и 2025 годов"
A2: ДОХОДЫ БЮДЖЕТА ПУШКИНСКОГО СЕЛЬСКОГО ПОСЕЛЕНИЯ КАДОШКИНСКОГО МУНИЦИПАЛЬНОГО РАЙОНА РЕСПУБЛИКИ МОРДОВИЯ
C3: (тыс.рублей)
A4: Код бюджетной классификации доходов бюджета | B4: Наименование доходов | C4: Сумма
C5: 2023 год | D5: 2024 год | E5: 2025 год
A6: 1 | B6: 2 | C6: 3 | D6: 4 | E6: 5
B7: ВСЕГО ДОХОДОВ | C7: =C8+C21+C32 -> 2758.687 | D7: =SUM(D8+D21) -> 1475.5 | E7: =SUM(E8+E21) -> 1375.8
A8: 00010000000000000000 | B8: НАЛОГОВЫЕ И НЕНАЛОГОВЫЕ ДОХОДЫ | C8: =C9+C12+C14+C19+C17 -> 961.4 | D8: =D9+D12+D14+D19 -> 728.9 | E8: =E9+E12+E14+E19 -> 577.4
A9: 00010100000000000000 | B9: НАЛОГИ НА ПРИБЫЛЬ, ДОХОДЫ | C9: =SUM(C10) -> 30 | D9: =SUM(D10) -> 32.7 | E9: =SUM(E10) -> 35
A10: 00010102000010000110 | B10: Налог на доходы физических лиц | C10: =SUM(C11) -> 30 | D10: =SUM(D11) -> 32.7 | E10: =SUM(E11) -> 35
A11: 18210102010010000110 | B11: Налог на доходы физических лиц с доходов, источником которых является налоговый агент, за исключением доходов, в отношении которых исчисление и уплата налога осуществляются в соответствии со статьями 227, 2271 и 228 Налогового кодекса Российской Федерации | C11: 30 | D11: 32.7 | E11: 35
A12: 00010600000000000000 | B12: НАЛОГИ НА ИМУЩЕСТВО | C12: =SUM(C13) -> 45 | D12: =SUM(D13) -> 45 | E12: =SUM(E13) -> 46
A13: 18210601030100000110 | B13: Налог на имущество физических лиц, взимаемый по ставкам, применяемым к объектам налогообложения, расположенным в границах сельских поселений | C13: 45 | D13: 45 | E13: 46
A14: 00010606000000000110 | B14: Земельный налог | C14: =SUM(C15+C16) -> 492.4 | D14: =SUM(D15+D16) -> 494.4 | E14: =SUM(E15+E16) -> 496.4
A15: 18210606033100000110 | B15: Земельный налог с организаций, обладающих земельным участком, расположенным в границах сельских поселений | C15: 355 | D15: 355 | E15: 355
A16: 18210606043100000110 | B16: Земельный налог с физических лиц, обладающих земельным участком, расположенным в границах сельских поселений | C16: 137.4 | D16: 139.4 | E16: 141.4
A17: 00011100000000000000 | B17: ДОХОДЫ ОТ ИСПОЛЬЗОВАНИЯ ИМУЩЕСТВА, НАХОДЯЩЕГОСЯ В ГОСУДАРСТВЕННОЙ И МУНИЦИПАЛЬНОЙ СОБСТВЕННОСТИ | C17: =C18 -> 99 | D17: =D18 -> 0 | E17: =E18 -> 0
A18: 91911105025100000120 | B18: Доходы, получаемые в виде арендной платы, а также средства от продажи права на заключение договоров аренды за земли, находящиеся в собственности сельских поселений (за исключением земельных участков муниципальных бюджетных и автономных учреждений) | C18: 99 | D18: 0 | E18: 0
A19: 00011400000000000000 | B19: ДОХОДЫ ОТ ПРОДАЖИ МАТЕРИАЛЬНЫХ И НЕМАТЕРИАЛЬНЫХ АКТИВОВ | C19: =SUM(C20) -> 295 | D19: =SUM(D20) -> 156.8 | E19: =SUM(E20) -> 0
A20: 91911406025100000430 | B20: Доходы от продажи земельных участков, находящихся в собственности сельских поселений (за исключением земельных участков муниципальных бюджетных и автономных учреждений) | C20: =150+145 -> 295 | D20: 156.8 | E20: 0
A21: 00020200000000000000 | B21: БЕЗВОЗМЕЗДНЫЕ ПОСТУПЛЕНИЯ ОТ ДРУГИХ БЮДЖЕТОВ БЮДЖЕТНОЙ СИСТЕМЫ РОССИЙСКОЙ ФЕДЕРАЦИИ | C21: =C22+C24+C26+C29 -> 1782.287 | D21: =D22+D24+D26+D29 -> 746.6 | E21: =E22+E24+E26+E29 -> 798.4
A22: 00020210000000000150 | B22: Дотации бюджетам бюджетной системы Российской Федерации | C22: =C23 -> 359.4 | D22: =D23 -> 0 | E22: =E23 -> 0
A23: 91920215002100000150 | B23: Дотации бюджетам сельских поселений на поддержку мер по обеспечению сбалансированности бюджетов | C23: 359.4 | D23: 0 | E23: 0
A24: 00020220000000000150 | B24: Субсидии бюджетам бюджетной системы Российской Федерации (межбюджетные субсидии) | C24: =C25 -> 283.85 | D24: =D25 -> 0 | E24: =E25 -> 0
A25: 91920229999100000150 | B25: Прочие субсидии бюджетам сельских поселений | C25: =145.7+43.2-6.75+101.7 -> 283.85 | D25: 0 | E25: 0
A26: 00020230000000000150 | B26: Субвенции бюджетам бюджетной системы Российской Федерации | C26: =SUM(C27+C28) -> 109.6 | D26: =SUM(D27+D28) -> 114.7 | E26: =SUM(E27+E28) -> 119
A27: 91920230024100000150 | B27: Субвенции на осуществление государственных полномочий Республики Мордовия по определению перечня должностных лиц, уполномоченных составлять протоколы об административных правонарушениях, предусмотренных Законом Республики Мордовия от 15 июня 2015 года № 38-З "Об административной ответственности на территории Республики Мордовия" | C27: 0.3 | D27: 0.3 | E27: 0.3
A28: 91920235118100000150 | B28: Субвенции бюджетам сельских поселений на осуществление первичного воинского учета на территориях, где отсутствуют военные комиссариаты | C28: 109.3 | D28: 114.4 | E28: 118.7
A29: 00020240000000000150 | B29: Иные межбюджетные трансферты | C29: =C30+C31 -> 1029.437 | D29: =D30+D31 -> 631.9 | E29: =E30+E31 -> 679.4
A30: 91920240014100000150 | B30: Межбюджетные трансферты, передаваемые бюджетам сельских поселений из бюджетов муниципальных районов на осуществление части полномочий по решению вопросов местного значения в соответствии с заключенными соглашениями | C30: =537.2+30+250+95+80 -> 992.2 | D30: =569.8+30+32.1 -> 631.9 | E30: =592.6+30+56.8 -> 679.4
A31: 91920249999100000150 | B31: Прочие межбюджетные трансферты, передаваемые бюджетам сельских поселений | C31: 37.237 | D31: 0 | E31: 0
A32: 00020700000000000000 | B32: ПРОЧИЕ БЕЗВОЗМЕЗДНЫЕ ПОСТУПЛЕНИЯ | C32: =C33 -> 15 | D32: =D33 -> 0 | E32: =E33 -> 0
A33: 91920705030100000150 | B33: Прочие безвозмездные поступления в бюджеты сельских поселений | C33: 15 | D33: 0 | E33: 0

Sheet Прил 2
J1: Приложение 2 к решению Совета депутатов Пушкинского сельского поселения "О бюджете Пушкинского сельского поселения Кадошкинского муниципального района Республики Мордовия на 2023год и на плановый период 2024 и 2025 годов"
A2: ВЕДОМСТВЕННАЯ СТРУКТУРА РАСХОДОВ БЮДЖЕТА ПУШКИНСКОГО СЕЛЬСКОГО ПОСЕЛЕНИЯ КАДОШКИНСКОГО МУНИЦИПАЛЬНОГО РАЙОНА РЕСПУБЛИКИ МОРДОВИЯ НА 2023 ГОД И НА ПЛАНОВЫЙ ПЕРИОД 2024 И 2025 ГОДОВ
L3: (тыс. рублей)
A4: Наименование | B4: Адм | C4: Рз | D4: Прз | E4: Цср | I4: Вр | J4: Сумма
J5: 2023 год | K5: 2024 год | L5: 2025 год
A6: 1 | B6: 2 | C6: 3 | D6: 4 | E6: 5 | F6: 6 | G6: 7 | H6: 8 | I6: 9 | J6: 10 | K6: 11 | L6: 12
A7: ВСЕГО | J7: =J8 -> 3058.658 | K7: =K8 -> 1475.492 | L7: =L8 -> 1375.8
A8: Администрация Пушкинского сельского поселения Кадошкинского муниципального района Республики Мордовия | B8: 919 | J8: =J9+J60+J87+J103+J124+J131+J69 -> 3058.658 | K8: =K9+K60+K87+K103+K124+K131+K144+K69 -> 1475.492 | L8: =L9+L60+L87+L103+L124+L131+L144+L69 -> 1375.8
A9: Общегосударственные вопросы | B9: 919 | C9: 01 | J9: =J10+J19+J40+J46 -> 1314.749 | K9: =K10+K19+K40+K46 -> 420.6 | L9: =L10+L19+L40+L46 -> 268.5
A10: Функционирование высшего должностного лица субъекта Российской Федерации и муниципального образования | B10: 919 | C10: 01 | D10: 02 | J10: =J11 -> 446.9 | K10: =K11 -> 175.9 | L10: =L11 -> 99.5
A11: Обеспечение деятельности администрации | B11: 919 | C11: 01 | D11: 02 | E11: 65 | J11: =J12 -> 446.9 | K11: =K12 -> 175.9 | L11: =L12 -> 99.5
A12: Высшее должностное лицо | B12: 919 | C12: 01 | D12: 02 | E12: 65 | F12: 1 | J12: =J13+J16 -> 446.9 | K12: =K13+K16 -> 175.9 | L12: =L13+L16 -> 99.5
A13: Расходы на выплаты по оплате труда высшего должностного лица | B13: 919 | C13: 01 | D13: 02 | E13: 65 | F13: 1 | G13: 00 | H13: 41150 | J13: =J14 -> 352.9 | K13: =K14 -> 175.9 | L13: =L14 -> 99.5
A14: Расходы на выплаты персоналу в целях обеспечения выполнения функций государственными (муниципальными) органами, казенными учреждениями, органами управления государственными внебюджетными фондами | B14: 919 | C14: 01 | D14: 02 | E14: 65 | F14: 1 | G14: 00 | H14: 41150 | I14: 100 | J14: =J15 -> 352.9 | K14: =K15 -> 175.9 | L14: =L15 -> 99.5
A15: Расходы на выплаты персоналу государственных (муниципальных) органов | B15: 919 | C15: 01 | D15: 02 | E15: 65 | F15: 1 | G15: 00 | H15: 41150 | I15: 120 | J15: =292.8+60-0.9-10-10+47-6-20 -> 352.9 | K15: =176.4-0.5 -> 175.9 | L15: =100-0.5 -> 99.5
A16: Субсидии на софинансирование расходных обязательств по финансовому обеспечению деятельности органов местного самоуправления и муниципальных учреждений | B16: 919 | C16: 01 | D16: 02 | E16: 65 | F16: 1 | G16: 00 | H16: 44205 | J16: =J17 -> 94 | K16: =K17 -> 0 | L16: =L17 -> 0
A17: Расходы на выплаты персоналу в целях обеспечения выполнения функций государственными (муниципальными) органами, казенными учреждениями, органами управления государственными внебюджетными фондами | B17: 919 | C17: 01 | D17: 02 | E17: 65 | F17: 1 | G17: 00 | H17: 44205 | I17: 100 | J17: =J18 -> 94 | K17: =K18 -> 0 | L17: =L18 -> 0
A18: Расходы на выплаты персоналу государственных (муниципальных) органов | B18: 919 | C18: 01 | D18: 02 | E18: 65 | F18: 1 | G18: 00 | H18: 44205 | I18: 120 | J18: =44+50 -> 94 | K18: 0 | L18: 0
A19: Функционирование Правительства Российской Федерации, высших органов исполнительной власти субъектов Российской Федерации, местных администраций | B19: 919 | C19: 01 | D19: 04 | J19: =J20+J35 -> 850.721 | K19: =K20+K35 -> 237.2 | L19: =L20+L35 -> 161.5
A20: Обеспечение деятельности администрации | B20: 919 | C20: 01 | D20: 04 | E20: 65 | J20: =J21 -> 850.421 | K20: =K21 -> 236.9 | L20: =L21 -> 161.2
A21: Непрограммные расходы в рамках обеспечения деятельности администрации | B21: 919 | C21: 01 | D21: 04 | E21: 65 | F21: 2 | J21: =J23+J25+J30 -> 850.421 | K21: =K23+K25 -> 236.9 | L21: =L23+L25 -> 161.2
A22: Расходы на выплаты по оплате труда работников органов местного самоуправления | B22: 919 | C22: 01 | D22: 04 | E22: 65 | F22: 2 | G22: 00 | H22: 41110 | J22: =J23 -> 358.023 | K22: =K23 -> 204.4 | L22: =L23 -> 130
A23: Расходы на выплаты персоналу в целях обеспечения выполнения функций государственными (муниципальными) органами, казенными учреждениями, органами управления государственными внебюджетными фондами | B23: 919 | C23: 01 | D23: 04 | E23: 65 | F23: 2 | G23: 00 | H23: 41110 | I23: 100 | J23: =J24 -> 358.023 | K23: =K24 -> 204.4 | L23: =L24 -> 130
A24: Расходы на выплаты персоналу государственных (муниципальных) органов | B24: 919 | C24: 01 | D24: 04 | E24: 65 | F24: 2 | G24: 00 | H24: 41110 | I24: 120 | J24: =274.3+60+1.75+40-1.027-17 -> 358.023 | K24: 204.4 | L24: 130 | M24: -17
A25: Расходы на обеспечение функций органов местного самоуправления | B25: 919 | C25: 01 | D25: 04 | E25: 65 | F25: 2 | G25: 00 | H25: 41120 | J25: =J26+J28 -> 336.5 | K25: =K26+K28 -> 32.5 | L25: =L26+L28 -> 31.2
A26: Закупка товаров, работ и услуг для обеспечения государственных (муниципальных) нужд | B26: 919 | C26: 01 | D26: 04 | E26: 65 | F26: 2 | G26: 00 | H26: 41120 | I26: 200 | J26: =J27 -> 301 | K26: =K27 -> 20.5 | L26: =L27 -> 19.2
A27: Иные закупки товаров, работ и услуг для обеспечения государственных (муниципальных) нужд | B27: 919 | C27: 01 | D27: 04 | E27: 65 | F27: 2 | G27: 00 | H27: 41120 | I27: 240 | J27: =94+50+30+10+59+6+15+20+17 -> 301 | K27: 20.5 | L27: 19.2 | M27: +17
A28: Иные бюджетные ассигнования | B28: 919 | C28: 01 | D28: 04 | E28: 65 | F28: 2 | G28: 00 | H28: 41120 | I28: 800 | J28: =J29 -> 35.5 | K28: =K29 -> 12 | L28: =L29 -> 12
A29: Уплата налогов, сборов и иных платежей | B29: 919 | C29: 01 | D29: 04 | E29: 65 | F29: 2 | G29: 00 | H29: 41120 | I29: 850 | J29: 35.5 | K29: 12 | L29: 12
A30: Субсидии на софинансирование расходных обязательств по финансовому обеспечению деятельности органов местного самоуправления и муниципальных учреждений | B30: 919 | C30: 01 | D30: 04 | E30: 65 | F30: 2 | G30: 00 | H30: 44205 | J30: =J31+J33 -> 155.898 | K30: =K31+K33 -> 0 | L30: =L31+L33 -> 0
A31: Расходы на выплаты персоналу в целях обеспечения выполнения функций государственными (муниципальными) органами, казенными учреждениями, органами управления государственными внебюджетными фондами | B31: 919 | C31: 01 | D31: 04 | E31: 65 | F31: 2 | G31: 00 | H31: 44205 | I31: 100 | J31: =J32 -> 149.898 | K31: =K32 -> 0 | L31: =L32 -> 0
A32: Расходы на выплаты персоналу государственных (муниципальных) органов | B32: 919 | C32: 01 | D32: 04 | E32: 65 | F32: 2 | G32: 00 | H32: 44205 | I32: 120 | J32: =103.171+46.727 -> 149.898 | K32: 0 | L32: 0
A33: Иные бюджетные ассигнования | B33: 919 | C33: 01 | D33: 04 | E33: 65 | F33: 2 | G33: 00 | H33: 44205 | I33: 800 | J33: =J34 -> 6 | K33: =K34 -> 0 | L33: =L34 -> 0
A34: Уплата налогов, сборов и иных платежей | B34: 919 | C34: 01 | D34: 04 | E34: 65 | F34: 2 | G34: 00 | H34: 44205 | I34: 850 | J34: 6 | K34: 0 | L34: 0
A35: Непрограммные расходы главных распорядителей средств бюджета Пушкинского сельского поселения Кадошкинского муниципального района Республики Мордовия | B35: 919 | C35: 01 | D35: 04 | E35: 89 | J35: =J36 -> 0.3 | K35: =K36 -> 0.3 | L35: =L36 -> 0.3
A36: Непрограммные расходы в рамках обеспечения деятельности главных распорядителей средств бюджета Пушкинского сельского поселения Кадошкинского муниципального района Республики Мордовия | B36: 919 | C36: 01 | D36: 04 | E36: 89 | F36: 1 | J36: =J37 -> 0.3 | K36: =K37 -> 0.3 | L36: =L37 -> 0.3
A37: Осуществление государственных полномочий Республики Мордовия по определению перечня должностных лиц, уполномоченных составлять протоколы об административных правонарушениях, предусмотренных Законом Республики Мордовия от 15 июня 2015 года № 38-З "Об административной ответственности на территории Республики Мордовия" | B37: 919 | C37: 01 | D37: 04 | E37: 89 | F37: 1 | G37: 00 | H37: 77150 | J37: =J38 -> 0.3 | K37: =K38 -> 0.3 | L37: =L38 -> 0.3
A38: Закупка товаров, работ и услуг для обеспечения государственных (муниципальных) нужд | B38: 919 | C38: 01 | D38: 04 | E38: 89 | F38: 1 | G38: 00 | H38: 77150 | I38: 200 | J38: =J39 -> 0.3 | K38: =K39 -> 0.3 | L38: =L39 -> 0.3
A39: Иные закупки товаров, работ и услуг для обеспечения государственных (муниципальных) нужд | B39: 919 | C39: 01 | D39: 04 | E39: 89 | F39: 1 | G39: 00 | H39: 77150 | I39: 240 | J39: 0.3 | K39: 0.3 | L39: 0.3
A40: Резервные фонды | B40: 919 | C40: 01 | D40: 11 | J40: =J41 -> 4.628 | K40: =K41 -> 5 | L40: =L41 -> 5
...

Sheet Прил 3 
I1: Приложение 3 к решению Совета депутатов Пушкинского сельского поселения "О бюджете Пушкинского сельского поселения Кадошкинского муниципального района Республики Мордовия на 2023 год и на плановый период 2024 и 2025 годов"
A2: РАСПРЕДЕЛЕНИЕ БЮДЖЕТНЫХ АССИГНОВАНИЙ БЮДЖЕТА ПУШКИНСКОГО СЕЛЬСКОГО ПОСЕЛЕНИЯ КАДОШКИНСКОГО МУНИЦИПАЛЬНОГО РАЙОНА РЕСПУБЛИКИ МОРДОВИЯ ПО РАЗДЕЛАМ, ПОДРАЗДЕЛАМ, ЦЕЛЕВЫМ СТАТЬЯМ (МУНИЦИПАЛЬНЫМ ПРОГРАММАМ И НЕПРОГРАММНЫМ НАПРАВЛЕНИЯМ ДЕЯТЕЛЬНОСТИ), ГРУППАМ И ПОДГРУППАМ ВИДОВ РАСХОДОВ КЛАССИФИКАЦИИ РАСХОДОВ БЮДЖЕТОВ НА 2023 ГОД И НА ПЛАНОВЫЙ ПЕРИОД 2024 И 2025 ГОДОВ
K3: (тыс. рублей)
A4: Наименование | B4: Рз | C4: Прз | D4: Цср | H4: Вр | I4: Сумма
I5: 2023 год | J5: 2024 год | K5: 2025 год
A6: 1 | B6: 2 | C6: 3 | D6: 4 | E6: 5 | F6: 6 | G6: 7 | H6: 8 | I6: 9 | J6: 10 | K6: 11
A7: ВСЕГО | I7: =I8+I59+I86+I102+I123+I130+I68 -> 3058.658 | J7: =J8+J59+J86+J102+J123+J130+J143+J68 -> 1475.492 | K7: =K8+K59+K86+K102+K123+K130+K143+K68 -> 1375.8
A8: Общегосударственные вопросы | B8: 01 | I8: =I9+I18+I39+I45 -> 1314.749 | J8: =J9+J18+J39+J45 -> 420.6 | K8: =K9+K18+K39+K45 -> 268.5
A9: Функционирование высшего должностного лица субъекта Российской Федерации и муниципального образования | B9: 01 | C9: 02 | I9: =I10 -> 446.9 | J9: =J10 -> 175.9 | K9: =K10 -> 99.5
A10: Обеспечение деятельности администрации | B10: 01 | C10: 02 | D10: 65 | I10: =I11 -> 446.9 | J10: =J11 -> 175.9 | K10: =K11 -> 99.5
A11: Высшее должностное лицо | B11: 01 | C11: 02 | D11: 65 | E11: 1 | I11: =I12+I15 -> 446.9 | J11: =J12 -> 175.9 | K11: =K12 -> 99.5
A12: Расходы на выплаты по оплате труда высшего должностного лица | B12: 01 | C12: 02 | D12: 65 | E12: 1 | F12: 00 | G12: 41150 | I12: =I13 -> 352.9 | J12: =J13 -> 175.9 | K12: =K13 -> 99.5
A13: Расходы на выплаты персоналу в целях обеспечения выполнения функций государственными (муниципальными) органами, казенными учреждениями, органами управления государственными внебюджетными фондами | B13: 01 | C13: 02 | D13: 65 | E13: 1 | F13: 00 | G13: 41150 | H13: 100 | I13: =I14 -> 352.9 | J13: =J14 -> 175.9 | K13: =K14 -> 99.5
A14: Расходы на выплаты персоналу государственных (муниципальных) органов | B14: 01 | C14: 02 | D14: 65 | E14: 1 | F14: 00 | G14: 41150 | H14: 120 | I14: ='Прил 2'!J15 -> 352.9 | J14: ='Прил 2'!K15 -> 175.9 | K14: ='Прил 2'!L15 -> 99.5
A15: Субсидии на софинансирование расходных обязательств по финансовому обеспечению деятельности органов местного самоуправления и муниципальных учреждений | B15: 01 | C15: 02 | D15: 65 | E15: 1 | F15: 00 | G15: 44205 | I15: =I16 -> 94 | J15: =J16 -> 0 | K15: =K16 -> 0
A16: Расходы на выплаты персоналу в целях обеспечения выполнения функций государственными (муниципальными) органами, казенными учреждениями, органами управления государственными внебюджетными фондами | B16: 01 | C16: 02 | D16: 65 | E16: 1 | F16: 00 | G16: 44205 | H16: 100 | I16: =I17 -> 94 | J16: =J17 -> 0 | K16: =K17 -> 0
A17: Расходы на выплаты персоналу государственных (муниципальных) органов | B17: 01 | C17: 02 | D17: 65 | E17: 1 | F17: 00 | G17: 44205 | H17: 120 | I17: ='Прил 2'!J18 -> 94 | J17: ='Прил 2'!K18 -> 0 | K17: ='Прил 2'!L18 -> 0
A18: Функционирование Правительства Российской Федерации, высших органов исполнительной власти субъектов Российской Федерации, местных администраций | B18: 01 | C18: 04 | I18: =I19+I34 -> 850.721 | J18: =J19+J34 -> 237.2 | K18: =K19+K34 -> 161.5
A19: Обеспечение деятельности администрации | B19: 01 | C19: 04 | D19: 65 | I19: =I20 -> 850.421 | J19: =J20 -> 236.9 | K19: =K20 -> 161.2
A20: Непрограммные расходы в рамках обеспечения деятельности администрации | B20: 01 | C20: 04 | D20: 65 | E20: 2 | I20: =I21+I24+I29 -> 850.421 | J20: =J21+J24 -> 236.9 | K20: =K21+K24 -> 161.2
A21: Расходы на выплаты по оплате труда работников органов местного самоуправления | B21: 01 | C21: 04 | D21: 65 | E21: 2 | F21: 00 | G21: 41110 | I21: =I22 -> 358.023 | J21: =J22 -> 204.4 | K21: =K22 -> 130
A22: Расходы на выплаты персоналу в целях обеспечения выполнения функций государственными (муниципальными) органами, казенными учреждениями, органами управления государственными внебюджетными фондами | B22: 01 | C22: 04 | D22: 65 | E22: 2 | F22: 00 | G22: 41110 | H22: 100 | I22: =I23 -> 358.023 | J22: =J23 -> 204.4 | K22: =K23 -> 130
A23: Расходы на выплаты персоналу государственных (муниципальных) органов | B23: 01 | C23: 04 | D23: 65 | E23: 2 | F23: 00 | G23: 41110 | H23: 120 | I23: ='Прил 2'!J24 -> 358.023 | J23: ='Прил 2'!K24 -> 204.4 | K23: ='Прил 2'!L24 -> 130
A24: Расходы на обеспечение функций органов местного самоуправления | B24: 01 | C24: 04 | D24: 65 | E24: 2 | F24: 00 | G24: 41120 | I24: =I25+I27 -> 336.5 | J24: =J25+J27 -> 32.5 | K24: =K25+K27 -> 31.2
A25: Закупка товаров, работ и услуг для обеспечения государственных (муниципальных) нужд | B25: 01 | C25: 04 | D25: 65 | E25: 2 | F25: 00 | G25: 41120 | H25: 200 | I25: =I26 -> 301 | J25: =J26 -> 20.5 | K25: =K26 -> 19.2
A26: Иные закупки товаров, работ и услуг для обеспечения государственных (муниципальных) нужд | B26: 01 | C26: 04 | D26: 65 | E26: 2 | F26: 00 | G26: 41120 | H26: 240 | I26: ='Прил 2'!J27 -> 301 | J26: ='Прил 2'!K27 -> 20.5 | K26: ='Прил 2'!L27 -> 19.2
A27: Иные бюджетные ассигнования | B27: 01 | C27: 04 | D27: 66 | E27: 2 | F27: 00 | G27: 41120 | H27: 800 | I27: =I28 -> 35.5 | J27: =J28 -> 12 | K27: =K28 -> 12
A28: Уплата налогов, сборов и иных платежей | B28: 01 | C28: 04 | D28: 66 | E28: 2 | F28: 00 | G28: 41120 | H28: 850 | I28: ='Прил 2'!J29 -> 35.5 | J28: ='Прил 2'!K29 -> 12 | K28: ='Прил 2'!L29 -> 12
A29: Субсидии на софинансирование расходных обязательств по финансовому обеспечению деятельности органов местного самоуправления и муниципальных учреждений | B29: 01 | C29: 04 | D29: 65 | E29: 2 | F29: 00 | G29: 44205 | I29: =I32+I30 -> 155.898 | J29: =J30 -> 0 | K29: =K30 -> 0
A30: Расходы на выплаты персоналу в целях обеспечения выполнения функций государственными (муниципальными) органами, казенными учреждениями, органами управления государственными внебюджетными фондами | B30: 01 | C30: 04 | D30: 65 | E30: 2 | F30: 00 | G30: 44205 | H30: 100 | I30: =I31 -> 149.898 | J30: =J31 -> 0 | K30: =K31 -> 0
A31: Расходы на выплаты персоналу государственных (муниципальных) органов | B31: 01 | C31: 04 | D31: 65 | E31: 2 | F31: 00 | G31: 44205 | H31: 120 | I31: ='Прил 2'!J32 -> 149.898 | J31: ='Прил 2'!K32 -> 0 | K31: ='Прил 2'!L32 -> 0
A32: Иные бюджетные ассигнования | B32: 01 | C32: 04 | D32: 65 | E32: 2 | F32: 00 | G32: 44205 | H32: 800 | I32: =I33 -> 6 | J32: =J33 -> 0 | K32: =K33 -> 0
A33: Уплата налогов, сборов и иных платежей | B33: 01 | C33: 04 | D33: 65 | E33: 2 | F33: 00 | G33: 44205 | H33: 850 | I33: ='Прил 2'!J34 -> 6 | J33: ='Прил 2'!K34 -> 0 | K33: ='Прил 2'!L34 -> 0
A34: Непрограммные расходы главных распорядителей средств бюджета Пушкинского сельского поселения Кадошкинского муниципального района Республики Мордовия | B34: 01 | C34: 04 | D34: 89 | I34: =I35 -> 0.3 | J34: =J35 -> 0.3 | K34: =K35 -> 0.3
A35: Непрограммные расходы в рамках обеспечения деятельности главных распорядителей средств бюджета Пушкинского сельского поселения Кадошкинского муниципального района Республики Мордовия | B35: 01 | C35: 04 | D35: 89 | E35: 1 | I35: =I36 -> 0.3 | J35: =J36 -> 0.3 | K35: =K36 -> 0.3
A36: Осуществление государственных полномочий Республики Мордовия по определению перечня должностных лиц, уполномоченных составлять протоколы об административных правонарушениях, предусмотренных Законом Республики Мордовия от 15 июня 2015 года № 38-З "Об административной ответственности на территории Республики Мордовия" | B36: 01 | C36: 04 | D36: 89 | E36: 1 | F36: 00 | G36: 77150 | I36: =I37 -> 0.3 | J36: =J37 -> 0.3 | K36: =K37 -> 0.3
A37: Закупка товаров, работ и услуг для обеспечения государственных (муниципальных) нужд | B37: 01 | C37: 04 | D37: 89 | E37: 1 | F37: 00 | G37: 77150 | H37: 200 | I37: =I38 -> 0.3 | J37: =J38 -> 0.3 | K37: =K38 -> 0.3
A38: Иные закупки товаров, работ и услуг для обеспечения государственных (муниципальных) нужд | B38: 01 | C38: 04 | D38: 89 | E38: 1 | F38: 00 | G38: 77150 | H38: 240 | I38: ='Прил 2'!J39 -> 0.3 | J38: ='Прил 2'!K39 -> 0.3 | K38: ='Прил 2'!L39 -> 0.3
A39: Резервные фонды | B39: 01 | C39: 11 | I39: =I40 -> 4.628 | J39: =J40 -> 5 | K39: =K40 -> 5
A40: Непрограммные расходы главных распорядителей средств бюджета Пушкинского сельского поселения Кадошкинского муниципального района Республики Мордовия | B40: 01 | C40: 11 | D40: 89 | I40: =I41 -> 4.628 | J40: =J41 -> 5 | K40: =K41 -> 5
...

Sheet Прил 4
J1: Приложение 4 к решению Совета депутатов Пушкинского сельского поселения "О бюджете Пушкинского сельского поселения Кадошкинского муниципального района Республики Мордовия на 2023 год и на плановый период 2024 и 20254 годов"
A2: РАСПРЕДЕЛЕНИЕ БЮДЖЕТНЫХ АССИГНОВАНИЙ БЮДЖЕТА ПУШКИНСКОГО СЕЛЬСКОГО ПОСЕЛЕНИЯ КАДОШКИНСКОГО МУНИЦИПАЛЬНОГО РАЙОНА РЕСПУБЛИКИ МОРДОВИЯ ПО ЦЕЛЕВЫМ СТАТЬЯМ (МУНИЦИПАЛЬНЫМ ПРОГРАММАМ И НЕПРОГРАММНЫМ НАПРАВЛЕНИЯМ ДЕЯТЕЛЬНОСТИ), ГРУППАМ И ПОДГРУППАМ ВИДОВ РАСХОДОВ, РАЗДЕЛАМ И ПОДРАЗДЕЛАМ КЛАССИФИКАЦИИ РАСХОДОВ БЮДЖЕТОВ НА 2023 ГОД НА ПЛАНОВЫЙ ПЕРИОД 2024 И 2025 ГОДОВ
L3: (тыс. рублей)
A4: Наименование | B4: Цср | F4: ВР | G4: Рз | H4: Прз | I4: Адм | J4: Сумма
J5: 2023 год | K5: 2024 год | L5: 2025 год
A6: 1 | B6: 2 | C6: 3 | D6: 4 | E6: 5 | F6: 6 | G6: 7 | H6: 8 | I6: 9 | J6: 10 | K6: 11 | L6: 12
A7: ВСЕГО | J7: =J51+J94+J22+J30+J8+J15+J37+J44 -> 3058.658 | K7: =K51+K94+K22+K30+K8+K15+K37+K44 -> 1475.492 | L7: =L51+L94+L22+L30+L8+L15+L37+L44 -> 1375.8
A8: Муниципальная программа «Пожарная безопасность на территории Пушкинского сельского поселения Кадошкинского муниципального района Республики Мордовия на 2023-2025 годы» | B8: 08 | J8: =J9 -> 0.5 | K8: =K9 -> 0.5 | L8: =L9 -> 0.5
A9: Мероприятия по обеспечению пожарной безопасности | B9: 08 | C9: 0 | D9: 00 | E9: 42120 | J9: =J10 -> 0.5 | K9: =K10 -> 0.5 | L9: =L10 -> 0.5
A10: Закупка товаров, работ и услуг для обеспечения государственных (муниципальных) нужд | B10: 08 | C10: 0 | D10: 00 | E10: 42120 | F10: 200 | J10: =J11 -> 0.5 | K10: =K11 -> 0.5 | L10: =L11 -> 0.5
A11: Иные закупки товаров, работ и услуг для обеспечения государственных (муниципальных) нужд | B11: 08 | C11: 0 | D11: 00 | E11: 42120 | F11: 240 | J11: =J12 -> 0.5 | K11: =K12 -> 0.5 | L11: =L12 -> 0.5
A12: Общегосударственные вопросы | B12: 08 | C12: 0 | D12: 00 | E12: 42120 | F12: 240 | G12: 01 | J12: =J13 -> 0.5 | K12: =K13 -> 0.5 | L12: =L13 -> 0.5
A13: Другие общегосударственные вопросы | B13: 08 | C13: 0 | D13: 00 | E13: 42120 | F13: 240 | G13: 01 | H13: 13 | J13: =J14 -> 0.5 | K13: =K14 -> 0.5 | L13: =L14 -> 0.5
A14: Администрация Пушкинского сельского поселения Кадошкинского муниципального района Республики Мордовия | B14: 08 | C14: 0 | D14: 00 | E14: 42120 | F14: 240 | G14: 01 | H14: 12 | I14: 919 | J14: ='Прил 2'!J50 -> 0.5 | K14: ='Прил 2'!K50 -> 0.5 | L14: ='Прил 2'!L50 -> 0.5
A15: Муниципальная программа «Использование и охрана земель на территории Пушкинского сельского поселения Кадошкинского муниципального района Республики Мордовия на 2023-2025 годы» | B15: 11 | J15: =J16 -> 2 | K15: =K16 -> 2 | L15: =L16 -> 2
A16: Мероприятия, связанные с муниципальным управлением | B16: 11 | C16: 0 | D16: 00 | E16: 41210 | J16: =J17 -> 2 | K16: =K17 -> 2 | L16: =L17 -> 2
A17: Закупка товаров, работ и услуг для обеспечения государственных (муниципальных) нужд | B17: 11 | C17: 0 | D17: 00 | E17: 41210 | F17: 200 | J17: =J18 -> 2 | K17: =K18 -> 2 | L17: =L18 -> 2
A18: Иные закупки товаров, работ и услуг для обеспечения государственных (муниципальных) нужд | B18: 11 | C18: 0 | D18: 00 | E18: 41210 | F18: 240 | J18: =J19 -> 2 | K18: =K19 -> 2 | L18: =L19 -> 2
A19: Общегосударственные вопросы | B19: 11 | C19: 0 | D19: 00 | E19: 41210 | F19: 240 | G19: 01 | J19: =J20 -> 2 | K19: =K20 -> 2 | L19: =L20 -> 2
A20: Другие общегосударственные вопросы | B20: 11 | C20: 0 | D20: 00 | E20: 41210 | F20: 240 | G20: 01 | H20: 13 | J20: =J21 -> 2 | K20: =K21 -> 2 | L20: =L21 -> 2
A21: Администрация Пушкинского сельского поселения Кадошкинского муниципального района Республики Мордовия | B21: 11 | C21: 0 | D21: 00 | E21: 41210 | F21: 240 | G21: 01 | H21: 13 | I21: 919 | J21: ='Прил 2'!J51 -> 2 | K21: ='Прил 2'!K51 -> 2 | L21: ='Прил 2'!L51 -> 2
A22: Муниципальная программа "Энергосбережение и повышение энергетической эффективности на территории Пушкинского сельского поселения Кадошкинского муниципального района Республики Мордовия на 2023 – 2025 годы " | B22: 12 | J22: =J24 -> 39.5 | K22: =K24 -> 0 | L22: =L24 -> 0
A23: Основное мероприятие "Оформление прав собственности на бесхозяйные объекты инженерной инфраструктуры" | B23: 12 | C23: 0 | D23: 01
A24: Оформление прав собственности на бесхозяйные объекты инженерной инфраструктуры | B24: 12 | C24: 0 | D24: 01 | E24: S6140 | J24: =J25 -> 39.5 | K24: =K25 -> 0 | L24: =L25 -> 0
A25: Закупка товаров, работ и услуг для обеспечения государственных (муниципальных) нужд | B25: 12 | C25: 0 | D25: 01 | E25: S6140 | F25: 200 | J25: =J26 -> 39.5 | K25: =K26 -> 0 | L25: =L26 -> 0
A26: Иные закупки товаров, работ и услуг для обеспечения государственных (муниципальных) нужд | B26: 12 | C26: 0 | D26: 01 | E26: S6140 | F26: 240 | J26: =J27 -> 39.5 | K26: =K27 -> 0 | L26: =L27 -> 0
A27: Жилищно-коммунальное хозяйство | B27: 12 | C27: 0 | D27: 01 | E27: S6140 | F27: 240 | G27: 05 | J27: =J28 -> 39.5 | K27: =K28 -> 0 | L27: =L28 -> 0
A28: Коммунальное хозяйство | B28: 12 | C28: 0 | D28: 01 | E28: S6140 | F28: 240 | G28: 05 | H28: 02 | J28: =J29 -> 39.5 | K28: =K29 -> 0 | L28: =L29 -> 0
A29: Администрация Пушкинского сельского поселения Кадошкинского муниципального района Республики Мордовия | B29: 12 | C29: 0 | D29: 01 | E29: S6140 | F29: 240 | G29: 05 | H29: 02 | I29: 919 | J29: ='Прил 2'!J109 -> 39.5 | K29: ='Прил 2'!K109 -> 0 | L29: ='Прил 2'!L109 -> 0
A30: Программа комплексного развития транспортной инфраструктуры Пушкинского сельского поселения Кадошкинского муниципального района Республики Мордовия на 2017-2025 годы | B30: 13 | J30: =J31 -> 583.5 | K30: =K31 -> 531.212 | L30: =L31 -> 624.44
A31: Иные межбюджетные трансферты на осуществление полномочий по дорожной деятельности в отношении автомобильных дорог местного значения в границах населенных пунктов поселения и обеспечению безопасности дорожного движения на них, включая создание и обеспечение функционирования парковок (парковочных мест), осуществлению муниципального контроля за сохранностью автомобильных дорог местного значения в границах населенных пунктов поселения, организации дорожного движения, а также осуществлению иных полномочий в области использования автомобильных дорог и осуществления дорожной деятельности в соответствии с законодательством Российской Федерации | B31: 13 | C31: 0 | D31: 00 | E31: 44102 | J31: =J32 -> 583.5 | K31: =K32 -> 531.212 | L31: =L32 -> 624.44
A32: Иные закупки товаров, работ и услуг для обеспечения государственных (муниципальных) нужд | B32: 13 | C32: 0 | D32: 00 | E32: 44102 | F32: 200 | J32: =J33 -> 583.5 | K32: =K33 -> 531.212 | L32: =L33 -> 624.44
A33: Прочая закупка товаров, работ и услуг | B33: 13 | C33: 0 | D33: 00 | E33: 44102 | F33: 240 | J33: =J34 -> 583.5 | K33: =K34 -> 531.212 | L33: =L34 -> 624.44
A34: Национальная экономика | B34: 13 | C34: 0 | D34: 00 | E34: 44102 | F34: 240 | G34: 04 | J34: =J35 -> 583.5 | K34: =K35 -> 531.212 | L34: =L35 -> 624.44
A35: Дорожное хозяйство (дорожные фонды) | B35: 13 | C35: 0 | D35: 00 | E35: 44102 | F35: 240 | G35: 04 | H35: 09 | J35: =J36 -> 583.5 | K35: =K36 -> 531.212 | L35: =L36 -> 624.44
A36: Администрация Пушкинского сельского поселения Кадошкинского муниципального района Республики Мордовия | B36: 13 | C36: 0 | D36: 00 | E36: 44102 | F36: 240 | G36: 04 | H36: 09 | I36: 919 | J36: ='Прил 2'!J92 -> 583.5 | K36: ='Прил 2'!K92 -> 531.212 | L36: ='Прил 2'!L92 -> 624.44
A37: Муниципальная программа «Оформление в собственность автомобильных дорог общего пользования местного значения в границах населенных пунктов на территории Пушкинского сельского поселения Кадошкинского муниципального района Республики Мордовия в 2023-2025 годах» | B37: 14 | J37: =J38 -> 48.7 | K37: =K38 -> 70.68 | L37: =L38 -> 24.96
A38: Иные межбюджетные трансферты на осуществление полномочий по дорожной деятельности в отношении автомобильных дорог местного значения в границах населенных пунктов поселения и обеспечению безопасности дорожного движения на них, включая создание и обеспечение функционирования парковок (парковочных мест), осуществлению муниципального контроля за сохранностью автомобильных дорог местного значения в границах населенных пунктов поселения, организации дорожного движения, а также осуществлению иных полномочий в области использования автомобильных дорог и осуществления дорожной деятельности в соответствии с законодательством Российской Федерации | B38: 14 | C38: 0 | D38: 01 | E38: 44102 | J38: =J39 -> 48.7 | K38: =K39 -> 70.68 | L38: =L39 -> 24.96
A39: Закупка товаров, работ и услуг для обеспечения государственных (муниципальных) нужд | B39: 14 | C39: 0 | D39: 01 | E39: 44102 | F39: 200 | J39: =J40 -> 48.7 | K39: =K40 -> 70.68 | L39: =L40 -> 24.96
A40: Иные закупки товаров, работ и услуг для обеспечения государственных (муниципальных) нужд | B40: 14 | C40: 0 | D40: 01 | E40: 44102 | F40: 240 | J40: =J41 -> 48.7 | K40: =K41 -> 70.68 | L40: =L41 -> 24.96
...

Sheet Прил 5
C1: Приложение 5 к решению Совета депутатов Пушкинского сельского поселения "О бюджете Пушкинского сельского поселения Кадошкинского муниципального района Республики Мордовия на 2023 год и на плановый период 2024 и 2025 годов"
A2: ИСТОЧНИКИ ВНУТРЕННЕГО ФИНАНСИРОВАНИЯ ДЕФИЦИТА БЮДЖЕТА ПУШКИНСКОГО СЕЛЬСКОГО ПОСЕЛЕНИЯ КАДОШКИНСКОГО МУНИЦИПАЛЬНОГО РАЙОНА РЕСПУБЛИКИ МОРДОВИЯ НА 2023 ГОД И НА ПЛАНОВЫЙ ПЕРИОД 2024 И 2025 ГОДОВ
E3: (тыс.руб.)
A4: Код | B4: Наименование кода группы, подгруппы, статьи, вида источника финансирования дефицитов бюджетов, кода классификации операций сектора государственного управления, относящихся к источникам финансирования дефицитов бюджетов Российской Федерации | C4: Сумма (тыс. руб.)
C5: 2023 год | D5: 2024 год | E5: 2025 год
A6: 000 01 00 00 00 00 0000 000 | B6: ИСТОЧНИКИ ВНУТРЕННЕГО ФИНАНСИРОВАНИЯ ДЕФИЦИТОВ БЮДЖЕТОВ | C6: =C7+C14+C10 -> 299.971 | D6: =D7+D14+D10 -> -0.008 | E6: =E7+E14+E10 -> 0
A7: 000 01 02 00 00 00 0000 000 | B7: Кредиты кредитных организаций в валюте Российской Федерации | C7: =SUM(C8) -> 0 | D7: =SUM(D8) -> 0 | E7: =SUM(E8) -> 0
A8: 000 01 02 00 00 00 0000 700 | B8: Получение кредитов от кредитных организаций в валюте Российской Федерации | C8: =SUM(C9) -> 0 | D8: =SUM(D9) -> 0 | E8: =SUM(E9) -> 0
A9: 000 01 02 00 00 10 0000 710 | B9: Получение кредитов от кредитных организаций бюджетами сельских поселений в валюте Российской Федерации | C9: 0 | D9: 0 | E9: 0
A10: 000 01 03 00 00 00 0000 000 | B10: Бюджетные кредиты из других бюджетов бюджетной системы Российской Федерации | C10: =C11 -> 0 | D10: =D11 -> 0 | E10: =E11 -> 0
A11: 000 01 03 01 00 00 0000 800 | B11: Погашение бюджетных кредитов, полученных из других бюджетов бюджетной системы Российской Федерации в валюте Российской Федерации | C11: =C12 -> 0 | D11: =D12 -> 0 | E11: =E12 -> 0
A12: 000 01 03 01 00 10 0000 800 | B12: Погашение бюджетных кредитов, полученных из других бюджетов бюджетной системы Российской Федерации в валюте Российской Федерации | C12: =SUM(C13) -> 0 | D12: =SUM(D13) -> 0 | E12: =SUM(E13) -> 0
A13: 000 01 03 01 00 10 0000 810 | B13: Погашение бюджетами сельских поселений кредитов из других бюджетов бюджетной системы Российской Федерации в валюте Российской Федерации | C13: ='Прил 6'!C15 -> 0 | D13: ='Прил 6'!D15 -> 0 | E13: ='Прил 6'!E15 -> 0
A14: 000 01 05 00 00 00 0000 000 | B14: Изменение остатков средств на счетах по учету средств бюджетов | C14: =C15+C18 -> 299.971 | D14: =D15+D18 -> -0.008 | E14: =E15+E18 -> 0
A15: 000 01 05 02 00 00 0000 500 | B15: Увеличение прочих остатков средств бюджетов | C15: =SUM(C16) -> -2758.687 | D15: =SUM(D16) -> -1475.5 | E15: =SUM(E16) -> -1375.8
A16: 000 01 05 02 01 00 0000 510 | B16: Увеличение прочих остатков денежных средств бюджетов | C16: =SUM(C17) -> -2758.687 | D16: =SUM(D17) -> -1475.5 | E16: =SUM(E17) -> -1375.8
A17: 000 01 05 02 01 10 0000 510 | B17: Увеличение прочих остатков денежных средств бюджетов сельских поселений | C17: =-'Прил 1'!C7-C9 -> -2758.687 | D17: =-'Прил 1'!D7-D9 -> -1475.5 | E17: =-'Прил 1'!E7-E9 -> -1375.8
A18: 000 01 05 02 00 00 0000 600 | B18: Уменьшение прочих остатков средств бюджетов | C18: =C19 -> 3058.658 | D18: =D19 -> 1475.492 | E18: =E19 -> 1375.8
A19: 000 01 05 02 01 00 0000 610 | B19: Уменьшение прочих остатков денежных средств бюджетов | C19: =C20 -> 3058.658 | D19: =D20 -> 1475.492 | E19: =E20 -> 1375.8
A20: 000 01 05 02 01 10 0000 610 | B20: Уменьшение прочих остатков денежных средств местных бюджетов | C20: ='Прил 2'!J7-C13 -> 3058.658 | D20: ='Прил 2'!K7-D13 -> 1475.492 | E20: ='Прил 2'!L7-E13 -> 1375.8

Sheet Прил 6
C1: Приложение 6 к решению Совета депутатов Пушкинского сельского поселения "О бюджете Пушкинского сельского поселения Кадошкинского муниципального района Республики Мордовия на 2023 год и на плановый период 2024 и 2025 годов"
A2: ПРОГРАММА МУНИЦИПАЛЬНЫХ ВНУТРЕННИХ ЗАИМСТВОВАНИЙ ПУШКИНСКОГО СЕЛЬСКОГО ПОСЕЛЕНИЯ КАДОШКИНСКОГО МУНИЦИПАЛЬНОГО РАЙОНА РЕСПУБЛИКИ МОРДОВИЯ НА 2023 ГОД И НА ПЛАНОВЫЙ ПЕРИОД 2024 И 2025 ГОДОВ
A5: № п/п | B5: Виды заимствований | C5: Сумма (тыс.руб.)
C6: 2023 год | D6: 2024 год | E6: 2025 год
A7: 1 | B7: 2 | C7: 3 | D7: 4 | E7: 5
A8: I | B8: Кредиты кредитных организаций в валюте Российской Федерации | C8: =C10 -> 0 | D8: =D10 -> 0 | E8: =E10 -> 0
B9: в том числе:
A10: 1 | B10: Объем привлечения
A11: 2 | B11: Объем средств, напрвляемых на погашение основной суммы долга
A12: II | B12: Бюджетные кредиты от других бюджетов бюджетной системы Российской Федерации | C12: =C15 -> 0 | D12: =D15 -> 0 | E12: =E15 -> 0
B13: в том числе
A14: 1 | B14: Объем привлечения
A15: 2 | B15: Объем средств, напрвляемых на погашение основной суммы долга | C15: 0 | D15: 0 | E15: 0
B16: ВСЕГО | C16: =C10+C15 -> 0 | D16: =D10+D15 -> 0 | E16: =E10+E15 -> 0
